BEGIN:VCALENDAR
VERSION:2.0
PRODID:-//Wayne County Public Library - ECPv6.15.20//NONSGML v1.0//EN
CALSCALE:GREGORIAN
METHOD:PUBLISH
X-WR-CALNAME:Wayne County Public Library
X-ORIGINAL-URL:https://wcpl.org
X-WR-CALDESC:Events for Wayne County Public Library
REFRESH-INTERVAL;VALUE=DURATION:PT1H
X-Robots-Tag:noindex
X-PUBLISHED-TTL:PT1H
BEGIN:VTIMEZONE
TZID:America/New_York
BEGIN:DAYLIGHT
TZOFFSETFROM:-0500
TZOFFSETTO:-0400
TZNAME:EDT
DTSTART:20240310T070000
END:DAYLIGHT
BEGIN:STANDARD
TZOFFSETFROM:-0400
TZOFFSETTO:-0500
TZNAME:EST
DTSTART:20241103T060000
END:STANDARD
BEGIN:DAYLIGHT
TZOFFSETFROM:-0500
TZOFFSETTO:-0400
TZNAME:EDT
DTSTART:20250309T070000
END:DAYLIGHT
BEGIN:STANDARD
TZOFFSETFROM:-0400
TZOFFSETTO:-0500
TZNAME:EST
DTSTART:20251102T060000
END:STANDARD
BEGIN:DAYLIGHT
TZOFFSETFROM:-0500
TZOFFSETTO:-0400
TZNAME:EDT
DTSTART:20260308T070000
END:DAYLIGHT
BEGIN:STANDARD
TZOFFSETFROM:-0400
TZOFFSETTO:-0500
TZNAME:EST
DTSTART:20261101T060000
END:STANDARD
END:VTIMEZONE
BEGIN:VEVENT
DTSTART;TZID=America/New_York:20250816T100000
DTEND;TZID=America/New_York:20250816T113000
DTSTAMP:20260422T164725
CREATED:20250709T193400Z
LAST-MODIFIED:20250709T193400Z
UID:19338-1755338400-1755343800@wcpl.org
SUMMARY:Northern Wayne Jr. Stitchers
DESCRIPTION:The Junior Stitchers program is a hands-on initiative for kids and teens (Ages 8-16) interested in learning the timeless art of sewing and stitching. The program is led by experienced instructors who guide each child at their own pace\, ensuring a fun and supportive learning environment. Whether a child is learning the basics of stitching or wants to refine their skills\, the Junior Stitchers program offers a perfect platform to spark creativity and foster a lifelong love for the craft. Registration is required. Please call 919-705-1892 to register. \n 
URL:https://wcpl.org/event/northern-wayne-jr-stitchers-5/
LOCATION:Northern Wayne Library\, 609 S. Wilson St.\, Fremont\, NC\, 27830\, United States
CATEGORIES:Northern Wayne Library,Teens,Tweens
END:VEVENT
END:VCALENDAR