BEGIN:VCALENDAR
VERSION:2.0
PRODID:-//Wayne County Public Library - ECPv6.15.20//NONSGML v1.0//EN
CALSCALE:GREGORIAN
METHOD:PUBLISH
X-ORIGINAL-URL:https://wcpl.org
X-WR-CALDESC:Events for Wayne County Public Library
REFRESH-INTERVAL;VALUE=DURATION:PT1H
X-Robots-Tag:noindex
X-PUBLISHED-TTL:PT1H
BEGIN:VTIMEZONE
TZID:America/New_York
BEGIN:DAYLIGHT
TZOFFSETFROM:-0500
TZOFFSETTO:-0400
TZNAME:EDT
DTSTART:20250309T070000
END:DAYLIGHT
BEGIN:STANDARD
TZOFFSETFROM:-0400
TZOFFSETTO:-0500
TZNAME:EST
DTSTART:20251102T060000
END:STANDARD
BEGIN:DAYLIGHT
TZOFFSETFROM:-0500
TZOFFSETTO:-0400
TZNAME:EDT
DTSTART:20260308T070000
END:DAYLIGHT
BEGIN:STANDARD
TZOFFSETFROM:-0400
TZOFFSETTO:-0500
TZNAME:EST
DTSTART:20261101T060000
END:STANDARD
BEGIN:DAYLIGHT
TZOFFSETFROM:-0500
TZOFFSETTO:-0400
TZNAME:EDT
DTSTART:20270314T070000
END:DAYLIGHT
BEGIN:STANDARD
TZOFFSETFROM:-0400
TZOFFSETTO:-0500
TZNAME:EST
DTSTART:20271107T060000
END:STANDARD
END:VTIMEZONE
BEGIN:VEVENT
DTSTART;TZID=America/New_York:20260305T163000
DTEND;TZID=America/New_York:20260305T173000
DTSTAMP:20260422T045427
CREATED:20260212T200601Z
LAST-MODIFIED:20260212T214039Z
UID:22160-1772728200-1772731800@wcpl.org
SUMMARY:Tween STEAM Club
DESCRIPTION:Join us for STEAM — hands-on fun with science experiments\, art projects\, and creative challenges that spark imagination and discovery!  For grades 6th-8th. No registration required. \n 
URL:https://wcpl.org/event/tween-steam-club-5/
LOCATION:Wayne County Public Library – Goldsboro\, 1001 E Ash Street\, Goldsboro\, NC\, 27530\, United States
CATEGORIES:Goldsboro,Tweens
END:VEVENT
BEGIN:VEVENT
DTSTART;TZID=America/New_York:20260312T163000
DTEND;TZID=America/New_York:20260312T173000
DTSTAMP:20260422T045427
CREATED:20260213T190839Z
LAST-MODIFIED:20260213T200127Z
UID:22238-1773333000-1773336600@wcpl.org
SUMMARY:Tween LEGO Club (Goldsboro)
DESCRIPTION:Join us for an afternoon of LEGO building! Complete monthly challenges or design your own creation. For grades 6th-8th. No registration required. \n 
URL:https://wcpl.org/event/tween-lego-club-goldsboro-7/
LOCATION:Wayne County Public Library – Goldsboro\, 1001 E Ash Street\, Goldsboro\, NC\, 27530\, United States
CATEGORIES:Goldsboro,Tweens
END:VEVENT
BEGIN:VEVENT
DTSTART;TZID=America/New_York:20260319T163000
DTEND;TZID=America/New_York:20260319T173000
DTSTAMP:20260422T045427
CREATED:20260219T162747Z
LAST-MODIFIED:20260219T162747Z
UID:22386-1773937800-1773941400@wcpl.org
SUMMARY:Pokémon Party
DESCRIPTION:For grades 6th-8th.  Join our club for all things Pokémon.  Get a chance to create your own Pokémon card.  No registration required. \n 
URL:https://wcpl.org/event/pokemon-party-2/
LOCATION:Wayne County Public Library – Goldsboro\, 1001 E Ash Street\, Goldsboro\, NC\, 27530\, United States
CATEGORIES:Goldsboro,Tweens
END:VEVENT
BEGIN:VEVENT
DTSTART;TZID=America/New_York:20260321T100000
DTEND;TZID=America/New_York:20260321T113000
DTSTAMP:20260422T045427
CREATED:20260216T214200Z
LAST-MODIFIED:20260217T201226Z
UID:22299-1774087200-1774092600@wcpl.org
SUMMARY:Northern Wayne Jr. Stitchers
DESCRIPTION:The Junior Stitchers program is a hands-on initiative for kids and teens interested in learning the timeless art of sewing and stitching. The program is led by experienced instructors who guide each child at their own pace\, ensuring a fun and supportive learning environment. Whether a child is learning the basics of stitching or wants to refine their skills\, the Junior Stitchers program offers a perfect platform to spark creativity and foster a lifelong love for the craft. Registration is required.  Please call 919-705-1892 to register.  For ages 8-16. \n 
URL:https://wcpl.org/event/northern-wayne-jr-stitchers-10/
LOCATION:Northern Wayne Library\, 609 S. Wilson St.\, Fremont\, NC\, 27830\, United States
CATEGORIES:Needlework,Northern Wayne Library,Teens,Tweens
END:VEVENT
END:VCALENDAR