BEGIN:VCALENDAR
VERSION:2.0
PRODID:-//Wayne County Public Library - ECPv6.15.20//NONSGML v1.0//EN
CALSCALE:GREGORIAN
METHOD:PUBLISH
X-WR-CALNAME:Wayne County Public Library
X-ORIGINAL-URL:https://wcpl.org
X-WR-CALDESC:Events for Wayne County Public Library
REFRESH-INTERVAL;VALUE=DURATION:PT1H
X-Robots-Tag:noindex
X-PUBLISHED-TTL:PT1H
BEGIN:VTIMEZONE
TZID:America/New_York
BEGIN:DAYLIGHT
TZOFFSETFROM:-0500
TZOFFSETTO:-0400
TZNAME:EDT
DTSTART:20250309T070000
END:DAYLIGHT
BEGIN:STANDARD
TZOFFSETFROM:-0400
TZOFFSETTO:-0500
TZNAME:EST
DTSTART:20251102T060000
END:STANDARD
BEGIN:DAYLIGHT
TZOFFSETFROM:-0500
TZOFFSETTO:-0400
TZNAME:EDT
DTSTART:20260308T070000
END:DAYLIGHT
BEGIN:STANDARD
TZOFFSETFROM:-0400
TZOFFSETTO:-0500
TZNAME:EST
DTSTART:20261101T060000
END:STANDARD
BEGIN:DAYLIGHT
TZOFFSETFROM:-0500
TZOFFSETTO:-0400
TZNAME:EDT
DTSTART:20270314T070000
END:DAYLIGHT
BEGIN:STANDARD
TZOFFSETFROM:-0400
TZOFFSETTO:-0500
TZNAME:EST
DTSTART:20271107T060000
END:STANDARD
END:VTIMEZONE
BEGIN:VEVENT
DTSTART;TZID=America/New_York:20260205T163000
DTEND;TZID=America/New_York:20260205T173000
DTSTAMP:20260422T061648
CREATED:20260121T182340Z
LAST-MODIFIED:20260121T182340Z
UID:21946-1770309000-1770312600@wcpl.org
SUMMARY:Tween STEAM Club
DESCRIPTION:Join us for STEAM — hands-on fun with science experiments\, art projects\, and creative challenges that spark imagination and discovery!  For grades 6th-8th. No registration required. \n  \n 
URL:https://wcpl.org/event/tween-steam-club-4/
LOCATION:Wayne County Public Library – Goldsboro\, 1001 E Ash Street\, Goldsboro\, NC\, 27530\, United States
CATEGORIES:Goldsboro,Tweens
END:VEVENT
BEGIN:VEVENT
DTSTART;TZID=America/New_York:20260212T163000
DTEND;TZID=America/New_York:20260212T173000
DTSTAMP:20260422T061648
CREATED:20260121T182219Z
LAST-MODIFIED:20260121T182219Z
UID:21944-1770913800-1770917400@wcpl.org
SUMMARY:Tween LEGO Club (Goldsboro)
DESCRIPTION:Join us for an afternoon of LEGO building! Complete monthly challenges or design your own creation. For grades 6th-8th. No registration required. \n 
URL:https://wcpl.org/event/tween-lego-club-goldsboro-6/
LOCATION:Wayne County Public Library – Goldsboro\, 1001 E Ash Street\, Goldsboro\, NC\, 27530\, United States
CATEGORIES:Goldsboro,Tweens
END:VEVENT
BEGIN:VEVENT
DTSTART;TZID=America/New_York:20260219T163000
DTEND;TZID=America/New_York:20260219T173000
DTSTAMP:20260422T061648
CREATED:20260121T181940Z
LAST-MODIFIED:20260121T181940Z
UID:21942-1771518600-1771522200@wcpl.org
SUMMARY:Tween Art Night
DESCRIPTION:Discover the Art of Perspective! Join our One-Point Perspective Art Workshop and learn how to bring depth and dimension to your drawings. Perfect for beginners and budding artists who want to add realism to their art! For grades 6th-8th. No registration required. \n 
URL:https://wcpl.org/event/tween-art-night/
LOCATION:Wayne County Public Library – Goldsboro\, 1001 E Ash Street\, Goldsboro\, NC\, 27530\, United States
CATEGORIES:Goldsboro,Tweens
END:VEVENT
BEGIN:VEVENT
DTSTART;TZID=America/New_York:20260221T100000
DTEND;TZID=America/New_York:20260221T113000
DTSTAMP:20260422T061648
CREATED:20260108T143448Z
LAST-MODIFIED:20260108T202349Z
UID:21778-1771668000-1771673400@wcpl.org
SUMMARY:Northern Wayne Jr. Stitchers
DESCRIPTION:The Junior Stitchers program is a hands-on initiative for kids and teens interested in learning the timeless art of sewing and stitching. The program is led by experienced instructors who guide each child at their own pace\, ensuring a fun and supportive learning environment. Whether a child is learning the basics of stitching or wants to refine their skills\, the Junior Stitchers program offers a perfect platform to spark creativity and foster a lifelong love for the craft. Registration is required.  Please call 919-705-1892 to register.  For ages 8-16. \n 
URL:https://wcpl.org/event/northern-wayne-jr-stitchers-9/
LOCATION:Northern Wayne Library\, 609 S. Wilson St.\, Fremont\, NC\, 27830\, United States
CATEGORIES:Children,Northern Wayne Library,Teens,Tweens
END:VEVENT
END:VCALENDAR