BEGIN:VCALENDAR
VERSION:2.0
PRODID:-//Wayne County Public Library - ECPv6.15.20//NONSGML v1.0//EN
CALSCALE:GREGORIAN
METHOD:PUBLISH
X-WR-CALNAME:Wayne County Public Library
X-ORIGINAL-URL:https://wcpl.org
X-WR-CALDESC:Events for Wayne County Public Library
REFRESH-INTERVAL;VALUE=DURATION:PT1H
X-Robots-Tag:noindex
X-PUBLISHED-TTL:PT1H
BEGIN:VTIMEZONE
TZID:America/New_York
BEGIN:DAYLIGHT
TZOFFSETFROM:-0500
TZOFFSETTO:-0400
TZNAME:EDT
DTSTART:20240310T070000
END:DAYLIGHT
BEGIN:STANDARD
TZOFFSETFROM:-0400
TZOFFSETTO:-0500
TZNAME:EST
DTSTART:20241103T060000
END:STANDARD
BEGIN:DAYLIGHT
TZOFFSETFROM:-0500
TZOFFSETTO:-0400
TZNAME:EDT
DTSTART:20250309T070000
END:DAYLIGHT
BEGIN:STANDARD
TZOFFSETFROM:-0400
TZOFFSETTO:-0500
TZNAME:EST
DTSTART:20251102T060000
END:STANDARD
BEGIN:DAYLIGHT
TZOFFSETFROM:-0500
TZOFFSETTO:-0400
TZNAME:EDT
DTSTART:20260308T070000
END:DAYLIGHT
BEGIN:STANDARD
TZOFFSETFROM:-0400
TZOFFSETTO:-0500
TZNAME:EST
DTSTART:20261101T060000
END:STANDARD
END:VTIMEZONE
BEGIN:VEVENT
DTSTART;TZID=America/New_York:20250614T143000
DTEND;TZID=America/New_York:20250614T160000
DTSTAMP:20260422T182145
CREATED:20250507T184150Z
LAST-MODIFIED:20250507T184150Z
UID:17968-1749911400-1749916800@wcpl.org
SUMMARY:Making Zines  (Goldsboro)
DESCRIPTION:Join us in the auditorium for a zine making session! You have the option to make a zine by hand or using Canva. Materials will be provided\, but feel free to bring your own for a personal touch. Call 919-735-1824 ext 5100 to register.   For all ages. \n 
URL:https://wcpl.org/event/making-zines-goldsboro/
LOCATION:Wayne County Public Library – Goldsboro\, 1001 E Ash Street\, Goldsboro\, NC\, 27530\, United States
CATEGORIES:Adult,Children,Goldsboro,Teens,Tweens
END:VEVENT
BEGIN:VEVENT
DTSTART;TZID=America/New_York:20250616T180000
DTEND;TZID=America/New_York:20250616T190000
DTSTAMP:20260422T182145
CREATED:20250508T170835Z
LAST-MODIFIED:20250508T170835Z
UID:18073-1750096800-1750100400@wcpl.org
SUMMARY:Summer Learning Program (Tweens & Teens)
DESCRIPTION:Join us as we learn about a new art medium each week and create our own artwork in the style of the masters.  Ages 11-15.  This week we’ll learn about Paint.  Registration is required. Spaces are limited. Register here. \n 
URL:https://wcpl.org/event/summer-learning-program-tweens-teens/
LOCATION:Wayne County Public Library – Goldsboro\, 1001 E Ash Street\, Goldsboro\, NC\, 27530\, United States
CATEGORIES:Goldsboro,Summer Learning Program,Teens,Tweens
END:VEVENT
BEGIN:VEVENT
DTSTART;TZID=America/New_York:20250623T180000
DTEND;TZID=America/New_York:20250623T190000
DTSTAMP:20260422T182145
CREATED:20250508T171009Z
LAST-MODIFIED:20250508T171009Z
UID:18075-1750701600-1750705200@wcpl.org
SUMMARY:Summer Learning Program (Tweens & Teens)
DESCRIPTION:Join us as we learn about a new art medium each week and create our own artwork in the style of the masters.  Ages 11-15.  This week we’ll learn about Markers.  Registration is required. Spaces are limited. Register here. \n 
URL:https://wcpl.org/event/summer-learning-program-tweens-teens-2/
LOCATION:Wayne County Public Library – Goldsboro\, 1001 E Ash Street\, Goldsboro\, NC\, 27530\, United States
CATEGORIES:Goldsboro,Summer Learning Program,Teens,Tweens
END:VEVENT
END:VCALENDAR