BEGIN:VCALENDAR
VERSION:2.0
PRODID:-//Wayne County Public Library - ECPv6.15.20//NONSGML v1.0//EN
CALSCALE:GREGORIAN
METHOD:PUBLISH
X-ORIGINAL-URL:https://wcpl.org
X-WR-CALDESC:Events for Wayne County Public Library
REFRESH-INTERVAL;VALUE=DURATION:PT1H
X-Robots-Tag:noindex
X-PUBLISHED-TTL:PT1H
BEGIN:VTIMEZONE
TZID:America/New_York
BEGIN:DAYLIGHT
TZOFFSETFROM:-0500
TZOFFSETTO:-0400
TZNAME:EDT
DTSTART:20240310T070000
END:DAYLIGHT
BEGIN:STANDARD
TZOFFSETFROM:-0400
TZOFFSETTO:-0500
TZNAME:EST
DTSTART:20241103T060000
END:STANDARD
BEGIN:DAYLIGHT
TZOFFSETFROM:-0500
TZOFFSETTO:-0400
TZNAME:EDT
DTSTART:20250309T070000
END:DAYLIGHT
BEGIN:STANDARD
TZOFFSETFROM:-0400
TZOFFSETTO:-0500
TZNAME:EST
DTSTART:20251102T060000
END:STANDARD
BEGIN:DAYLIGHT
TZOFFSETFROM:-0500
TZOFFSETTO:-0400
TZNAME:EDT
DTSTART:20260308T070000
END:DAYLIGHT
BEGIN:STANDARD
TZOFFSETFROM:-0400
TZOFFSETTO:-0500
TZNAME:EST
DTSTART:20261101T060000
END:STANDARD
END:VTIMEZONE
BEGIN:VEVENT
DTSTART;TZID=America/New_York:20250708T093000
DTEND;TZID=America/New_York:20250708T103000
DTSTAMP:20260419T080349
CREATED:20250508T161601Z
LAST-MODIFIED:20250606T191012Z
UID:18071-1751967000-1751970600@wcpl.org
SUMMARY:Sprouts Garden Club
DESCRIPTION:Join us for hands-on fun in the garden! Kids will explore nature\, and learn how things grow. Each week brings new activities\, from digging and watering to crafts and garden games!  This week we’ll be learning about beekeeping.  For ages 5-11.  REGISTRATION CLOSED. \n 
URL:https://wcpl.org/event/sprouts-garden-club-3/
LOCATION:Wayne County Public Library – Goldsboro\, 1001 E Ash Street\, Goldsboro\, NC\, 27530\, United States
CATEGORIES:Children,Goldsboro,Summer Learning Program
END:VEVENT
BEGIN:VEVENT
DTSTART;TZID=America/New_York:20250708T170000
DTEND;TZID=America/New_York:20250708T180000
DTSTAMP:20260419T080349
CREATED:20250604T151453Z
LAST-MODIFIED:20250604T151453Z
UID:18468-1751994000-1751997600@wcpl.org
SUMMARY:Library Loudness (Steele Mem.)
DESCRIPTION:Ever wanted to make a ton of noise in the library? Now you can! Compete against one another in a game of improv and sound! (Teen program) \n 
URL:https://wcpl.org/event/library-loudness-steele-mem/
LOCATION:Steele Memorial Library\, 119 W Main St.\, Mt. Olive\, NC\, 28365\, United States
CATEGORIES:Steele Memorial,Summer Learning Program,Teens
END:VEVENT
END:VCALENDAR