BEGIN:VCALENDAR
VERSION:2.0
PRODID:-//Wayne County Public Library - ECPv6.15.18//NONSGML v1.0//EN
CALSCALE:GREGORIAN
METHOD:PUBLISH
X-WR-CALNAME:Wayne County Public Library
X-ORIGINAL-URL:https://wcpl.org
X-WR-CALDESC:Events for Wayne County Public Library
REFRESH-INTERVAL;VALUE=DURATION:PT1H
X-Robots-Tag:noindex
X-PUBLISHED-TTL:PT1H
BEGIN:VTIMEZONE
TZID:America/New_York
BEGIN:DAYLIGHT
TZOFFSETFROM:-0500
TZOFFSETTO:-0400
TZNAME:EDT
DTSTART:20240310T070000
END:DAYLIGHT
BEGIN:STANDARD
TZOFFSETFROM:-0400
TZOFFSETTO:-0500
TZNAME:EST
DTSTART:20241103T060000
END:STANDARD
BEGIN:DAYLIGHT
TZOFFSETFROM:-0500
TZOFFSETTO:-0400
TZNAME:EDT
DTSTART:20250309T070000
END:DAYLIGHT
BEGIN:STANDARD
TZOFFSETFROM:-0400
TZOFFSETTO:-0500
TZNAME:EST
DTSTART:20251102T060000
END:STANDARD
BEGIN:DAYLIGHT
TZOFFSETFROM:-0500
TZOFFSETTO:-0400
TZNAME:EDT
DTSTART:20260308T070000
END:DAYLIGHT
BEGIN:STANDARD
TZOFFSETFROM:-0400
TZOFFSETTO:-0500
TZNAME:EST
DTSTART:20261101T060000
END:STANDARD
END:VTIMEZONE
BEGIN:VEVENT
DTSTART;TZID=America/New_York:20250903T100000
DTEND;TZID=America/New_York:20250903T103000
DTSTAMP:20260421T174813
CREATED:20250806T125110Z
LAST-MODIFIED:20250806T125110Z
UID:19569-1756893600-1756895400@wcpl.org
SUMMARY:Storytime  (Steele Mem.)
DESCRIPTION:Join us for stories\, songs\, & crafts as we build on our listening and literacy skills\, learn new words\, and help our imaginations all at the same time. For ages 0-5 with a caregiver. No registration required. \n 
URL:https://wcpl.org/event/storytime-steele-mem-15/
LOCATION:Steele Memorial Library\, 119 W Main St.\, Mt. Olive\, NC\, 28365\, United States
CATEGORIES:Children,Steele Memorial
END:VEVENT
BEGIN:VEVENT
DTSTART;TZID=America/New_York:20250902T170000
DTEND;TZID=America/New_York:20250902T180000
DTSTAMP:20260421T174813
CREATED:20250807T172902Z
LAST-MODIFIED:20250807T173149Z
UID:19647-1756832400-1756836000@wcpl.org
SUMMARY:Bibliotherapy: Covering Covers
DESCRIPTION:Looking for a book to read? In this program\, you can learn a bit about some of the books here at the library and see if they’re for you! This month\, see how you do creating covers of your own based on prompts! (Teen program) \n 
URL:https://wcpl.org/event/bibliotherapy-covering-covers/
LOCATION:Steele Memorial Library\, 119 W Main St.\, Mt. Olive\, NC\, 28365\, United States
CATEGORIES:Steele Memorial,Teens
END:VEVENT
BEGIN:VEVENT
DTSTART;TZID=America/New_York:20250902T150000
DTEND;TZID=America/New_York:20250902T190000
DTSTAMP:20260421T174813
CREATED:20250806T141759Z
LAST-MODIFIED:20250806T141759Z
UID:19601-1756825200-1756839600@wcpl.org
SUMMARY:Steele Stitchers
DESCRIPTION:Come join our cross-stitching group!  Newbies and experienced stitchers are welcome!  Drop in for a bit or stay for awhile.  Please call 919-299-8101 ext. 5351 to register. \n 
URL:https://wcpl.org/event/steele-stitchers/
LOCATION:Steele Memorial Library\, 119 W Main St.\, Mt. Olive\, NC\, 28365\, United States
CATEGORIES:Adult,Steele Memorial
END:VEVENT
BEGIN:VEVENT
DTSTART;TZID=America/New_York:20250902T100000
DTEND;TZID=America/New_York:20250902T103000
DTSTAMP:20260421T174813
CREATED:20250806T124354Z
LAST-MODIFIED:20250806T124354Z
UID:19559-1756807200-1756809000@wcpl.org
SUMMARY:Music & Movement  (Steele Mem.)
DESCRIPTION:Did you know that music and moving our bodies can help your child with literacy skills? Plus\, it’s fun! For ages 0-5 with a caregiver. No registration required. \n 
URL:https://wcpl.org/event/music-movement-steele-mem-35/
LOCATION:Steele Memorial Library\, 119 W Main St.\, Mt. Olive\, NC\, 28365\, United States
CATEGORIES:Children,Steele Memorial
END:VEVENT
BEGIN:VEVENT
DTSTART;TZID=America/New_York:20250829T130000
DTEND;TZID=America/New_York:20250829T160000
DTSTAMP:20260421T174813
CREATED:20250709T193123Z
LAST-MODIFIED:20250709T193123Z
UID:19336-1756472400-1756483200@wcpl.org
SUMMARY:Open Makerspace Hours
DESCRIPTION:Bring your own supplies and use our makerspace tools – Cricut\, sewing\, knitting\, crochet – on our big craft tables. \n 
URL:https://wcpl.org/event/open-makerspace-hours-9/
LOCATION:Steele Memorial Library\, 119 W Main St.\, Mt. Olive\, NC\, 28365\, United States
CATEGORIES:Adult,Steele Memorial
END:VEVENT
BEGIN:VEVENT
DTSTART;TZID=America/New_York:20250828T160000
DTEND;TZID=America/New_York:20250828T170000
DTSTAMP:20260421T174813
CREATED:20250709T160945Z
LAST-MODIFIED:20250709T160945Z
UID:19304-1756396800-1756400400@wcpl.org
SUMMARY:LEGO Builders (Steele Mem.)
DESCRIPTION:It’s LEGO time! We’ll give you a starting idea\, you bring your imagination. For grades K-5 with a caregiver. Registration required. \n 
URL:https://wcpl.org/event/lego-builders-steele-mem-24/
LOCATION:Steele Memorial Library\, 119 W Main St.\, Mt. Olive\, NC\, 28365\, United States
CATEGORIES:Children,Steele Memorial
END:VEVENT
BEGIN:VEVENT
DTSTART;TZID=America/New_York:20250828T150000
DTEND;TZID=America/New_York:20250828T160000
DTSTAMP:20260421T174813
CREATED:20250709T162605Z
LAST-MODIFIED:20250709T162605Z
UID:19312-1756393200-1756396800@wcpl.org
SUMMARY:Cardio Drumming (Steele Mem.)
DESCRIPTION:Cardio drumming is an adult class that brings together drumsticks\, an exercise ball\, and stand to create one of the most fun workouts you’ll ever do.  Please call 919-299-8105 ext. 5351 to register. \n 
URL:https://wcpl.org/event/cardio-drumming-steele-mem-8/
LOCATION:Steele Memorial Library\, 119 W Main St.\, Mt. Olive\, NC\, 28365\, United States
CATEGORIES:Adult,Steele Memorial
END:VEVENT
BEGIN:VEVENT
DTSTART;TZID=America/New_York:20250828T100000
DTEND;TZID=America/New_York:20250828T103000
DTSTAMP:20260421T174813
CREATED:20250709T160731Z
LAST-MODIFIED:20250709T160731Z
UID:19302-1756375200-1756377000@wcpl.org
SUMMARY:Storytime (Steele Mem.)
DESCRIPTION:Join us for stories\, songs\, & crafts as we build on our listening and literacy skills\, learn new words\, and help our imaginations all at the same time. For ages 0-5 with a caregiver. No registration required. \n 
URL:https://wcpl.org/event/storytime-steele-mem-14/
LOCATION:Steele Memorial Library\, 119 W Main St.\, Mt. Olive\, NC\, 28365\, United States
CATEGORIES:Children,Steele Memorial
END:VEVENT
BEGIN:VEVENT
DTSTART;TZID=America/New_York:20250827T100000
DTEND;TZID=America/New_York:20250827T130000
DTSTAMP:20260421T174813
CREATED:20250709T191537Z
LAST-MODIFIED:20250709T191537Z
UID:19326-1756288800-1756299600@wcpl.org
SUMMARY:Open Makerspace Hours
DESCRIPTION:Bring your own supplies and use our makerspace tools – Cricut\, sewing\, knitting\, crochet – on our big craft tables. \n 
URL:https://wcpl.org/event/open-makerspace-hours-4/
LOCATION:Steele Memorial Library\, 119 W Main St.\, Mt. Olive\, NC\, 28365\, United States
CATEGORIES:Adult,Steele Memorial
END:VEVENT
BEGIN:VEVENT
DTSTART;TZID=America/New_York:20250827T100000
DTEND;TZID=America/New_York:20250827T103000
DTSTAMP:20260421T174813
CREATED:20250709T160609Z
LAST-MODIFIED:20250709T160609Z
UID:19300-1756288800-1756290600@wcpl.org
SUMMARY:Storytime (Steele Mem.)
DESCRIPTION:Join us for stories\, songs\, & crafts as we build on our listening and literacy skills\, learn new words\, and help our imaginations all at the same time. For ages 0-5 with a caregiver. No registration required. \n 
URL:https://wcpl.org/event/storytime-steele-mem-13/
LOCATION:Steele Memorial Library\, 119 W Main St.\, Mt. Olive\, NC\, 28365\, United States
CATEGORIES:Children,Steele Memorial
END:VEVENT
BEGIN:VEVENT
DTSTART;TZID=America/New_York:20250826T100000
DTEND;TZID=America/New_York:20250826T103000
DTSTAMP:20260421T174813
CREATED:20250709T160347Z
LAST-MODIFIED:20250709T160347Z
UID:19298-1756202400-1756204200@wcpl.org
SUMMARY:Music & Movement (Steele Mem.)
DESCRIPTION:Did you know that music and moving our bodies can help your child with literacy skills? Plus\, it’s fun! For ages 0-5 with a caregiver. No registration required. \n 
URL:https://wcpl.org/event/music-movement-steele-mem-34/
LOCATION:Steele Memorial Library\, 119 W Main St.\, Mt. Olive\, NC\, 28365\, United States
CATEGORIES:Children,Steele Memorial
END:VEVENT
BEGIN:VEVENT
DTSTART;TZID=America/New_York:20250822T130000
DTEND;TZID=America/New_York:20250822T160000
DTSTAMP:20260421T174813
CREATED:20250709T192947Z
LAST-MODIFIED:20250709T192947Z
UID:19334-1755867600-1755878400@wcpl.org
SUMMARY:Open Makerspace Hours
DESCRIPTION:Bring your own supplies and use our makerspace tools – Cricut\, sewing\, knitting\, crochet – on our big craft tables. \n 
URL:https://wcpl.org/event/open-makerspace-hours-8/
LOCATION:Steele Memorial Library\, 119 W Main St.\, Mt. Olive\, NC\, 28365\, United States
CATEGORIES:Adult,Steele Memorial
END:VEVENT
BEGIN:VEVENT
DTSTART;TZID=America/New_York:20250821T150000
DTEND;TZID=America/New_York:20250821T160000
DTSTAMP:20260421T174813
CREATED:20250709T162404Z
LAST-MODIFIED:20250709T162404Z
UID:19310-1755788400-1755792000@wcpl.org
SUMMARY:Cardio Drumming (Steele Mem.)
DESCRIPTION:Cardio drumming is an adult class that brings together drumsticks\, an exercise ball\, and stand to create one of the most fun workouts you’ll ever do.  Please call 919-299-8105 ext. 5351 to register. \n 
URL:https://wcpl.org/event/cardio-drumming-steele-mem-7/
LOCATION:Steele Memorial Library\, 119 W Main St.\, Mt. Olive\, NC\, 28365\, United States
CATEGORIES:Adult,Steele Memorial
END:VEVENT
BEGIN:VEVENT
DTSTART;TZID=America/New_York:20250820T150000
DTEND;TZID=America/New_York:20250820T160000
DTSTAMP:20260421T174813
CREATED:20250709T190508Z
LAST-MODIFIED:20250709T190508Z
UID:19318-1755702000-1755705600@wcpl.org
SUMMARY:60’s Music Bingo
DESCRIPTION:We will be playing bingo with 1960s songs!  Please call 919-299-8105 ext. 5351 to register. \n 
URL:https://wcpl.org/event/60s-music-bingo/
LOCATION:Steele Memorial Library\, 119 W Main St.\, Mt. Olive\, NC\, 28365\, United States
CATEGORIES:Adult,Steele Memorial
END:VEVENT
BEGIN:VEVENT
DTSTART;TZID=America/New_York:20250820T100000
DTEND;TZID=America/New_York:20250820T130000
DTSTAMP:20260421T174813
CREATED:20250709T191331Z
LAST-MODIFIED:20250709T191331Z
UID:19324-1755684000-1755694800@wcpl.org
SUMMARY:Open Makerspace Hours
DESCRIPTION:Bring your own supplies and use our makerspace tools – Cricut\, sewing\, knitting\, crochet – on our big craft tables. \n 
URL:https://wcpl.org/event/open-makerspace-hours-3/
LOCATION:Steele Memorial Library\, 119 W Main St.\, Mt. Olive\, NC\, 28365\, United States
CATEGORIES:Adult,Steele Memorial
END:VEVENT
BEGIN:VEVENT
DTSTART;TZID=America/New_York:20250815T130000
DTEND;TZID=America/New_York:20250815T160000
DTSTAMP:20260421T174813
CREATED:20250709T192806Z
LAST-MODIFIED:20250709T192806Z
UID:19332-1755262800-1755273600@wcpl.org
SUMMARY:Open Makerspace Hours
DESCRIPTION:Bring your own supplies and use our makerspace tools – Cricut\, sewing\, knitting\, crochet – on our big craft tables. \n 
URL:https://wcpl.org/event/open-makerspace-hours-7/
LOCATION:Steele Memorial Library\, 119 W Main St.\, Mt. Olive\, NC\, 28365\, United States
CATEGORIES:Adult,Steele Memorial
END:VEVENT
BEGIN:VEVENT
DTSTART;TZID=America/New_York:20250815T100000
DTEND;TZID=America/New_York:20250815T110000
DTSTAMP:20260421T174813
CREATED:20250709T162805Z
LAST-MODIFIED:20250709T162805Z
UID:19314-1755252000-1755255600@wcpl.org
SUMMARY:Morning Meditations
DESCRIPTION:We will be stretching for 20-30 minutes for flexibility and then doing some Zen tangles for relaxation.  Please call 919-299-8105 ext. 5351 to register. \n 
URL:https://wcpl.org/event/morning-meditations/
LOCATION:Steele Memorial Library\, 119 W Main St.\, Mt. Olive\, NC\, 28365\, United States
CATEGORIES:Adult,Steele Memorial
END:VEVENT
BEGIN:VEVENT
DTSTART;TZID=America/New_York:20250814T150000
DTEND;TZID=America/New_York:20250814T160000
DTSTAMP:20260421T174813
CREATED:20250709T162155Z
LAST-MODIFIED:20250709T162155Z
UID:19308-1755183600-1755187200@wcpl.org
SUMMARY:Cardio Drumming (Steele Mem.)
DESCRIPTION:Cardio drumming is an adult class that brings together drumsticks\, an exercise ball\, and stand to create one of the most fun workouts you’ll ever do.  Please call 919-299-8105 ext. 5351 to register. \n 
URL:https://wcpl.org/event/cardio-drumming-steele-mem-6/
LOCATION:Steele Memorial Library\, 119 W Main St.\, Mt. Olive\, NC\, 28365\, United States
CATEGORIES:Adult,Steele Memorial
END:VEVENT
BEGIN:VEVENT
DTSTART;TZID=America/New_York:20250813T100000
DTEND;TZID=America/New_York:20250813T130000
DTSTAMP:20260421T174813
CREATED:20250709T191013Z
LAST-MODIFIED:20250709T191013Z
UID:19322-1755079200-1755090000@wcpl.org
SUMMARY:Open Makerspace Hours
DESCRIPTION:Bring your own supplies and use our makerspace tools – Cricut\, sewing\, knitting\, crochet – on our big craft tables. \n 
URL:https://wcpl.org/event/open-makerspace-hours-2/
LOCATION:Steele Memorial Library\, 119 W Main St.\, Mt. Olive\, NC\, 28365\, United States
CATEGORIES:Adult,Steele Memorial
END:VEVENT
BEGIN:VEVENT
DTSTART;TZID=America/New_York:20250808T130000
DTEND;TZID=America/New_York:20250808T160000
DTSTAMP:20260421T174813
CREATED:20250709T192632Z
LAST-MODIFIED:20250709T192632Z
UID:19330-1754658000-1754668800@wcpl.org
SUMMARY:Open Makerspace Hours
DESCRIPTION:Bring your own supplies and use our makerspace tools – Cricut\, sewing\, knitting\, crochet – on our big craft tables. \n 
URL:https://wcpl.org/event/open-makerspace-hours-6/
LOCATION:Steele Memorial Library\, 119 W Main St.\, Mt. Olive\, NC\, 28365\, United States
CATEGORIES:Adult,Steele Memorial
END:VEVENT
BEGIN:VEVENT
DTSTART;TZID=America/New_York:20250807T150000
DTEND;TZID=America/New_York:20250807T160000
DTSTAMP:20260421T174813
CREATED:20250709T161950Z
LAST-MODIFIED:20250709T161950Z
UID:19306-1754578800-1754582400@wcpl.org
SUMMARY:Cardio Drumming (Steele Mem.)
DESCRIPTION:Cardio drumming is an adult class that brings together drumsticks\, an exercise ball\, and stand to create one of the most fun workouts you’ll ever do.  Please call 919-299-8105 ext. 5351 to register. \n 
URL:https://wcpl.org/event/cardio-drumming-steele-mem-5/
LOCATION:Steele Memorial Library\, 119 W Main St.\, Mt. Olive\, NC\, 28365\, United States
CATEGORIES:Adult,Steele Memorial
END:VEVENT
BEGIN:VEVENT
DTSTART;TZID=America/New_York:20250806T150000
DTEND;TZID=America/New_York:20250806T163000
DTSTAMP:20260421T174813
CREATED:20250709T190244Z
LAST-MODIFIED:20250709T190244Z
UID:19316-1754492400-1754497800@wcpl.org
SUMMARY:Sew What?!
DESCRIPTION:We will bring our own materials and share what we know about mending damaged garments.  Bring items of clothing that need to be fixed.  Please call 919-299-8105 ext. 5351 to register. \n 
URL:https://wcpl.org/event/sew-what/
LOCATION:Steele Memorial Library\, 119 W Main St.\, Mt. Olive\, NC\, 28365\, United States
CATEGORIES:Adult,Steele Memorial
END:VEVENT
BEGIN:VEVENT
DTSTART;TZID=America/New_York:20250806T100000
DTEND;TZID=America/New_York:20250806T130000
DTSTAMP:20260421T174813
CREATED:20250709T190705Z
LAST-MODIFIED:20250709T190705Z
UID:19320-1754474400-1754485200@wcpl.org
SUMMARY:Open Makerspace Hours
DESCRIPTION:Bring your own supplies and use our makerspace tools – Cricut\, sewing\, knitting\, crochet – on our big craft tables. \n 
URL:https://wcpl.org/event/open-makerspace-hours/
LOCATION:Steele Memorial Library\, 119 W Main St.\, Mt. Olive\, NC\, 28365\, United States
CATEGORIES:Adult,Steele Memorial
END:VEVENT
BEGIN:VEVENT
DTSTART;TZID=America/New_York:20250801T130000
DTEND;TZID=America/New_York:20250801T160000
DTSTAMP:20260421T174813
CREATED:20250709T192450Z
LAST-MODIFIED:20250709T192450Z
UID:19328-1754053200-1754064000@wcpl.org
SUMMARY:Open Makerspace Hours
DESCRIPTION:Bring your own supplies and use our makerspace tools – Cricut\, sewing\, knitting\, crochet – on our big craft tables. \n 
URL:https://wcpl.org/event/open-makerspace-hours-5/
LOCATION:Steele Memorial Library\, 119 W Main St.\, Mt. Olive\, NC\, 28365\, United States
CATEGORIES:Adult,Steele Memorial
END:VEVENT
BEGIN:VEVENT
DTSTART;TZID=America/New_York:20250731T150000
DTEND;TZID=America/New_York:20250731T160000
DTSTAMP:20260421T174813
CREATED:20250603T195749Z
LAST-MODIFIED:20250603T195749Z
UID:18432-1753974000-1753977600@wcpl.org
SUMMARY:Cardio Drumming (Steele Mem.)
DESCRIPTION:Cardio drumming is an adult class that brings together drumsticks\, an exercise ball\, and stand to create one of the most fun workouts you’ll ever do.  Please call 919-299-8105 ext. 5351 to register. \n 
URL:https://wcpl.org/event/cardio-drumming-steele-mem-4/
LOCATION:Steele Memorial Library\, 119 W Main St.\, Mt. Olive\, NC\, 28365\, United States
CATEGORIES:Adult,Steele Memorial
END:VEVENT
BEGIN:VEVENT
DTSTART;TZID=America/New_York:20250730T100000
DTEND;TZID=America/New_York:20250730T130000
DTSTAMP:20260421T174813
CREATED:20250604T150329Z
LAST-MODIFIED:20250604T150329Z
UID:18456-1753869600-1753880400@wcpl.org
SUMMARY:Open Makerspace Hours (Steele Mem.)
DESCRIPTION:Bring your own supplies and use our makerspace tools – Cricut\, sewing\, knitting\, crochet – on our big craft tables. \n 
URL:https://wcpl.org/event/open-makerspace-hours-steele-mem-5/
LOCATION:Steele Memorial Library\, 119 W Main St.\, Mt. Olive\, NC\, 28365\, United States
CATEGORIES:Adult,Steele Memorial
END:VEVENT
BEGIN:VEVENT
DTSTART;TZID=America/New_York:20250725T130000
DTEND;TZID=America/New_York:20250725T160000
DTSTAMP:20260421T174813
CREATED:20250604T150801Z
LAST-MODIFIED:20250604T150801Z
UID:18462-1753448400-1753459200@wcpl.org
SUMMARY:Open Makerspace Hours (Steele Mem.)
DESCRIPTION:Bring your own supplies and use our makerspace tools – Cricut\, sewing\, knitting\, crochet – on our big craft tables. \n 
URL:https://wcpl.org/event/open-makerspace-hours-steele-mem-8/
LOCATION:Steele Memorial Library\, 119 W Main St.\, Mt. Olive\, NC\, 28365\, United States
CATEGORIES:Adult,Steele Memorial
END:VEVENT
BEGIN:VEVENT
DTSTART;TZID=America/New_York:20250724T150000
DTEND;TZID=America/New_York:20250724T160000
DTSTAMP:20260421T174813
CREATED:20250603T195635Z
LAST-MODIFIED:20250603T195635Z
UID:18430-1753369200-1753372800@wcpl.org
SUMMARY:Cardio Drumming (Steele Mem.)
DESCRIPTION:Cardio drumming is an adult class that brings together drumsticks\, an exercise ball\, and stand to create one of the most fun workouts you’ll ever do.  Please call 919-299-8105 ext. 5351 to register. \n 
URL:https://wcpl.org/event/cardio-drumming-steele-mem-3/
LOCATION:Steele Memorial Library\, 119 W Main St.\, Mt. Olive\, NC\, 28365\, United States
CATEGORIES:Adult,Steele Memorial
END:VEVENT
BEGIN:VEVENT
DTSTART;TZID=America/New_York:20250724T130000
DTEND;TZID=America/New_York:20250724T140000
DTSTAMP:20260421T174813
CREATED:20250604T155903Z
LAST-MODIFIED:20250604T155903Z
UID:18497-1753362000-1753365600@wcpl.org
SUMMARY:Summer Learning Finale (Steele Mem.)
DESCRIPTION:Celebrate the end of summer learning with games\, movement\, and music! For grades K-5 with a caregiver. Registration required; REGISTER HERE \n 
URL:https://wcpl.org/event/summer-learning-finale-steele-mem-2/
LOCATION:Steele Memorial Library\, 119 W Main St.\, Mt. Olive\, NC\, 28365\, United States
CATEGORIES:Children,Steele Memorial,Summer Learning Program
END:VEVENT
BEGIN:VEVENT
DTSTART;TZID=America/New_York:20250724T100000
DTEND;TZID=America/New_York:20250724T103000
DTSTAMP:20260421T174813
CREATED:20250604T153938Z
LAST-MODIFIED:20250604T153938Z
UID:18484-1753351200-1753353000@wcpl.org
SUMMARY:Storytime (Steele Mem.)
DESCRIPTION:Join us for stories\, songs\, & crafts as we build on our listening and literacy skills\, learn new words\, and help our imaginations all at the same time. For ages 0-5 with a caregiver. No registration required. \n 
URL:https://wcpl.org/event/storytime-steele-mem-12/
LOCATION:Steele Memorial Library\, 119 W Main St.\, Mt. Olive\, NC\, 28365\, United States
CATEGORIES:Children,Steele Memorial,Summer Learning Program
END:VEVENT
END:VCALENDAR