BEGIN:VCALENDAR
VERSION:2.0
PRODID:-//Wayne County Public Library - ECPv6.15.20//NONSGML v1.0//EN
CALSCALE:GREGORIAN
METHOD:PUBLISH
X-ORIGINAL-URL:https://wcpl.org
X-WR-CALDESC:Events for Wayne County Public Library
REFRESH-INTERVAL;VALUE=DURATION:PT1H
X-Robots-Tag:noindex
X-PUBLISHED-TTL:PT1H
BEGIN:VTIMEZONE
TZID:America/New_York
BEGIN:DAYLIGHT
TZOFFSETFROM:-0500
TZOFFSETTO:-0400
TZNAME:EDT
DTSTART:20240310T070000
END:DAYLIGHT
BEGIN:STANDARD
TZOFFSETFROM:-0400
TZOFFSETTO:-0500
TZNAME:EST
DTSTART:20241103T060000
END:STANDARD
BEGIN:DAYLIGHT
TZOFFSETFROM:-0500
TZOFFSETTO:-0400
TZNAME:EDT
DTSTART:20250309T070000
END:DAYLIGHT
BEGIN:STANDARD
TZOFFSETFROM:-0400
TZOFFSETTO:-0500
TZNAME:EST
DTSTART:20251102T060000
END:STANDARD
BEGIN:DAYLIGHT
TZOFFSETFROM:-0500
TZOFFSETTO:-0400
TZNAME:EDT
DTSTART:20260308T070000
END:DAYLIGHT
BEGIN:STANDARD
TZOFFSETFROM:-0400
TZOFFSETTO:-0500
TZNAME:EST
DTSTART:20261101T060000
END:STANDARD
END:VTIMEZONE
BEGIN:VEVENT
DTSTART;TZID=America/New_York:20250924T150000
DTEND;TZID=America/New_York:20250924T160000
DTSTAMP:20260421T123516
CREATED:20250806T143129Z
LAST-MODIFIED:20250806T143129Z
UID:19611-1758726000-1758729600@wcpl.org
SUMMARY:Tile Coaster Craft
DESCRIPTION:We will be using modge podge and scrapbook paper to make beautiful coasters.  Please call 919-299-8105 ext. 5351 to register. \n 
URL:https://wcpl.org/event/tile-coaster-craft/
LOCATION:Steele Memorial Library\, 119 W Main St.\, Mt. Olive\, NC\, 28365\, United States
CATEGORIES:Adult,Steele Memorial
END:VEVENT
BEGIN:VEVENT
DTSTART;TZID=America/New_York:20250924T100000
DTEND;TZID=America/New_York:20250924T130000
DTSTAMP:20260421T123516
CREATED:20250806T143752Z
LAST-MODIFIED:20250806T143752Z
UID:19619-1758708000-1758718800@wcpl.org
SUMMARY:Open Makerspace Hours
DESCRIPTION:Bring your own supplies and use our makerspace tools – Cricut\, sewing\, knitting\, crochet – on our big craft tables. \n 
URL:https://wcpl.org/event/open-makerspace-hours-13/
LOCATION:Steele Memorial Library\, 119 W Main St.\, Mt. Olive\, NC\, 28365\, United States
CATEGORIES:Adult,Steele Memorial
END:VEVENT
BEGIN:VEVENT
DTSTART;TZID=America/New_York:20250924T100000
DTEND;TZID=America/New_York:20250924T103000
DTSTAMP:20260421T123516
CREATED:20250806T130041Z
LAST-MODIFIED:20250806T130041Z
UID:19581-1758708000-1758709800@wcpl.org
SUMMARY:Storytime  (Steele Mem.)
DESCRIPTION:Join us for stories\, songs\, & crafts as we build on our listening and literacy skills\, learn new words\, and help our imaginations all at the same time. For ages 0-5 with a caregiver. No registration required. \n 
URL:https://wcpl.org/event/storytime-steele-mem-21/
LOCATION:Steele Memorial Library\, 119 W Main St.\, Mt. Olive\, NC\, 28365\, United States
CATEGORIES:Children,Steele Memorial
END:VEVENT
BEGIN:VEVENT
DTSTART;TZID=America/New_York:20250923T170000
DTEND;TZID=America/New_York:20250923T180000
DTSTAMP:20260421T123516
CREATED:20250807T172429Z
LAST-MODIFIED:20250807T172429Z
UID:19641-1758646800-1758650400@wcpl.org
SUMMARY:Roundtable Nights: One-Word Debate
DESCRIPTION:Lo and well met! Gather around the roundtable to share your thoughts and opinions. This month\, we’ll engage in a friendly debate with a twist- all of your arguments can only be one word long. (Teen program) \n 
URL:https://wcpl.org/event/roundtable-nights-one-word-debate/
LOCATION:Steele Memorial Library\, 119 W Main St.\, Mt. Olive\, NC\, 28365\, United States
CATEGORIES:Steele Memorial,Teens
END:VEVENT
BEGIN:VEVENT
DTSTART;TZID=America/New_York:20250923T100000
DTEND;TZID=America/New_York:20250923T103000
DTSTAMP:20260421T123516
CREATED:20250806T124739Z
LAST-MODIFIED:20250806T124739Z
UID:19565-1758621600-1758623400@wcpl.org
SUMMARY:Music & Movement  (Steele Mem.)
DESCRIPTION:Did you know that music and moving our bodies can help your child with literacy skills? Plus\, it’s fun! For ages 0-5 with a caregiver. No registration required. \n 
URL:https://wcpl.org/event/music-movement-steele-mem-38/
LOCATION:Steele Memorial Library\, 119 W Main St.\, Mt. Olive\, NC\, 28365\, United States
CATEGORIES:Children,Steele Memorial
END:VEVENT
BEGIN:VEVENT
DTSTART;TZID=America/New_York:20250919T130000
DTEND;TZID=America/New_York:20250919T160000
DTSTAMP:20260421T123516
CREATED:20250806T144850Z
LAST-MODIFIED:20250806T144850Z
UID:19625-1758286800-1758297600@wcpl.org
SUMMARY:Open Makerspace Hours
DESCRIPTION:Bring your own supplies and use our makerspace tools – Cricut\, sewing\, knitting\, crochet – on our big craft tables. \n 
URL:https://wcpl.org/event/open-makerspace-hours-16/
LOCATION:Steele Memorial Library\, 119 W Main St.\, Mt. Olive\, NC\, 28365\, United States
CATEGORIES:Adult,Steele Memorial
END:VEVENT
BEGIN:VEVENT
DTSTART;TZID=America/New_York:20250919T100000
DTEND;TZID=America/New_York:20250919T110000
DTSTAMP:20260421T123516
CREATED:20250806T143013Z
LAST-MODIFIED:20250806T143013Z
UID:19609-1758276000-1758279600@wcpl.org
SUMMARY:Medicare Basics  (Steele Mem.)
DESCRIPTION:Join Natasha Artis\, with Wayne County Services on Aging\, for an overview and get all your Medicare questions answered.  Please call 919-299-8105 ext. 5351 to register. \n 
URL:https://wcpl.org/event/medicare-basics-steele-mem/
LOCATION:Steele Memorial Library\, 119 W Main St.\, Mt. Olive\, NC\, 28365\, United States
CATEGORIES:Adult,Steele Memorial
END:VEVENT
BEGIN:VEVENT
DTSTART;TZID=America/New_York:20250918T160000
DTEND;TZID=America/New_York:20250918T170000
DTSTAMP:20260421T123516
CREATED:20250806T130846Z
LAST-MODIFIED:20250806T130846Z
UID:19589-1758211200-1758214800@wcpl.org
SUMMARY:LEGO Builders  (Steele Mem.)
DESCRIPTION:It’s LEGO time! We’ll give you a starting idea\, you bring your imagination. For grades K-5 with a caregiver. Registration required.   Please call the Children’s Desk @ 919-299-8105\, ext. 5352 to register. \n 
URL:https://wcpl.org/event/lego-builders-steele-mem-27/
LOCATION:Steele Memorial Library\, 119 W Main St.\, Mt. Olive\, NC\, 28365\, United States
CATEGORIES:Children,Steele Memorial
END:VEVENT
BEGIN:VEVENT
DTSTART;TZID=America/New_York:20250918T150000
DTEND;TZID=America/New_York:20250918T160000
DTSTAMP:20260421T123516
CREATED:20250806T131434Z
LAST-MODIFIED:20250806T131434Z
UID:19597-1758207600-1758211200@wcpl.org
SUMMARY:Cardio Drumming  (Steele Mem.)
DESCRIPTION:Cardio drumming is an adult class that brings together drumsticks\, an exercise ball\, and stand to create one of the most fun workouts you’ll ever do.  Please call 919-299-8105 ext. 5351 to register. \n 
URL:https://wcpl.org/event/cardio-drumming-steele-mem-10/
LOCATION:Steele Memorial Library\, 119 W Main St.\, Mt. Olive\, NC\, 28365\, United States
CATEGORIES:Adult,Steele Memorial
END:VEVENT
BEGIN:VEVENT
DTSTART;TZID=America/New_York:20250918T100000
DTEND;TZID=America/New_York:20250918T103000
DTSTAMP:20260421T123516
CREATED:20250806T125919Z
LAST-MODIFIED:20250806T125919Z
UID:19579-1758189600-1758191400@wcpl.org
SUMMARY:Storytime  (Steele Mem.)
DESCRIPTION:Join us for stories\, songs\, & crafts as we build on our listening and literacy skills\, learn new words\, and help our imaginations all at the same time. For ages 0-5 with a caregiver. No registration required. \n 
URL:https://wcpl.org/event/storytime-steele-mem-20/
LOCATION:Steele Memorial Library\, 119 W Main St.\, Mt. Olive\, NC\, 28365\, United States
CATEGORIES:Children,Steele Memorial
END:VEVENT
BEGIN:VEVENT
DTSTART;TZID=America/New_York:20250917T150000
DTEND;TZID=America/New_York:20250917T160000
DTSTAMP:20260421T123516
CREATED:20250806T142741Z
LAST-MODIFIED:20250806T142741Z
UID:19607-1758121200-1758124800@wcpl.org
SUMMARY:Managing Fire Ants in the Landscape
DESCRIPTION:Jessica Strickland\, with Cooperative Extension\, will teach us how to manage fire ants in your home lawn and shrub beds.  Please call 919-299-8105 ext. 5351 to register. \n 
URL:https://wcpl.org/event/managing-fire-ants-in-the-landscape/
LOCATION:Steele Memorial Library\, 119 W Main St.\, Mt. Olive\, NC\, 28365\, United States
CATEGORIES:Adult,Steele Memorial
END:VEVENT
BEGIN:VEVENT
DTSTART;TZID=America/New_York:20250917T100000
DTEND;TZID=America/New_York:20250917T130000
DTSTAMP:20260421T123516
CREATED:20250806T143609Z
LAST-MODIFIED:20250806T143609Z
UID:19617-1758103200-1758114000@wcpl.org
SUMMARY:Open Makerspace Hours
DESCRIPTION:Bring your own supplies and use our makerspace tools – Cricut\, sewing\, knitting\, crochet – on our big craft tables. \n 
URL:https://wcpl.org/event/open-makerspace-hours-12/
LOCATION:Steele Memorial Library\, 119 W Main St.\, Mt. Olive\, NC\, 28365\, United States
CATEGORIES:Adult,Steele Memorial
END:VEVENT
BEGIN:VEVENT
DTSTART;TZID=America/New_York:20250917T100000
DTEND;TZID=America/New_York:20250917T103000
DTSTAMP:20260421T123516
CREATED:20250806T125807Z
LAST-MODIFIED:20250806T125807Z
UID:19577-1758103200-1758105000@wcpl.org
SUMMARY:Storytime  (Steele Mem.)
DESCRIPTION:Join us for stories\, songs\, & crafts as we build on our listening and literacy skills\, learn new words\, and help our imaginations all at the same time. For ages 0-5 with a caregiver. No registration required. \n 
URL:https://wcpl.org/event/storytime-steele-mem-19/
LOCATION:Steele Memorial Library\, 119 W Main St.\, Mt. Olive\, NC\, 28365\, United States
CATEGORIES:Children,Steele Memorial
END:VEVENT
BEGIN:VEVENT
DTSTART;TZID=America/New_York:20250916T170000
DTEND;TZID=America/New_York:20250916T180000
DTSTAMP:20260421T123516
CREATED:20250807T172618Z
LAST-MODIFIED:20250807T172618Z
UID:19643-1758042000-1758045600@wcpl.org
SUMMARY:Mini Escape Room: Chess Test
DESCRIPTION:Test your skills in one of our mini escape rooms. This month\, see if you can defeat the Chess Master and escape the gameboard!  (Teen program)
URL:https://wcpl.org/event/mini-escape-room-chess-test/
LOCATION:Steele Memorial Library\, 119 W Main St.\, Mt. Olive\, NC\, 28365\, United States
CATEGORIES:Steele Memorial,Teens
END:VEVENT
BEGIN:VEVENT
DTSTART;TZID=America/New_York:20250916T100000
DTEND;TZID=America/New_York:20250916T103000
DTSTAMP:20260421T123516
CREATED:20250806T124629Z
LAST-MODIFIED:20250806T124629Z
UID:19563-1758016800-1758018600@wcpl.org
SUMMARY:Music & Movement (Steele Mem.)
DESCRIPTION:Did you know that music and moving our bodies can help your child with literacy skills? Plus\, it’s fun! For ages 0-5 with a caregiver. No registration required. \n 
URL:https://wcpl.org/event/music-movement-steele-mem-37/
LOCATION:Steele Memorial Library\, 119 W Main St.\, Mt. Olive\, NC\, 28365\, United States
CATEGORIES:Children,Steele Memorial
END:VEVENT
BEGIN:VEVENT
DTSTART;TZID=America/New_York:20250912T130000
DTEND;TZID=America/New_York:20250912T160000
DTSTAMP:20260421T123516
CREATED:20250806T144615Z
LAST-MODIFIED:20250806T144615Z
UID:19623-1757682000-1757692800@wcpl.org
SUMMARY:Open Makerspace Hours
DESCRIPTION:Bring your own supplies and use our makerspace tools – Cricut\, sewing\, knitting\, crochet – on our big craft tables. \n 
URL:https://wcpl.org/event/open-makerspace-hours-15/
LOCATION:Steele Memorial Library\, 119 W Main St.\, Mt. Olive\, NC\, 28365\, United States
CATEGORIES:Adult,Steele Memorial
END:VEVENT
BEGIN:VEVENT
DTSTART;TZID=America/New_York:20250912T100000
DTEND;TZID=America/New_York:20250912T110000
DTSTAMP:20260421T123516
CREATED:20250806T142008Z
LAST-MODIFIED:20250806T142008Z
UID:19603-1757671200-1757674800@wcpl.org
SUMMARY:Morning Meditations
DESCRIPTION:We will be stretching for 20-30 minutes for flexibility and then doing some Zen tangles for relaxation.  Please call 919-299-8105 ext. 5351 to register. \n 
URL:https://wcpl.org/event/morning-meditations-2/
LOCATION:Steele Memorial Library\, 119 W Main St.\, Mt. Olive\, NC\, 28365\, United States
CATEGORIES:Adult,Steele Memorial
END:VEVENT
BEGIN:VEVENT
DTSTART;TZID=America/New_York:20250911T160000
DTEND;TZID=America/New_York:20250911T170000
DTSTAMP:20260421T123516
CREATED:20250806T130727Z
LAST-MODIFIED:20250806T130727Z
UID:19587-1757606400-1757610000@wcpl.org
SUMMARY:LEGO Builders  (Steele Mem.)
DESCRIPTION:It’s LEGO time! We’ll give you a starting idea\, you bring your imagination. For grades K-5 with a caregiver. Registration required.   Please call the Children’s Desk @ 919-299-8105\, ext. 5352 to register. \n 
URL:https://wcpl.org/event/lego-builders-steele-mem-26/
LOCATION:Steele Memorial Library\, 119 W Main St.\, Mt. Olive\, NC\, 28365\, United States
CATEGORIES:Children,Steele Memorial
END:VEVENT
BEGIN:VEVENT
DTSTART;TZID=America/New_York:20250911T150000
DTEND;TZID=America/New_York:20250911T160000
DTSTAMP:20260421T123516
CREATED:20250806T142544Z
LAST-MODIFIED:20250806T142544Z
UID:19605-1757602800-1757606400@wcpl.org
SUMMARY:The Page Turners Book Club
DESCRIPTION:We will be discussing Saturday Night at the Lakeside Supper Club by J. Ryan Stradal.  Please call 919-299-8105 ext. 5351 to register. \n 
URL:https://wcpl.org/event/the-page-turners-book-club/
LOCATION:Steele Memorial Library\, 119 W Main St.\, Mt. Olive\, NC\, 28365\, United States
CATEGORIES:Adult,Library Book Club,Steele Memorial
END:VEVENT
BEGIN:VEVENT
DTSTART;TZID=America/New_York:20250911T100000
DTEND;TZID=America/New_York:20250911T103000
DTSTAMP:20260421T123516
CREATED:20250806T125632Z
LAST-MODIFIED:20250806T125632Z
UID:19575-1757584800-1757586600@wcpl.org
SUMMARY:Storytime  (Steele Mem.)
DESCRIPTION:Join us for stories\, songs\, & crafts as we build on our listening and literacy skills\, learn new words\, and help our imaginations all at the same time. For ages 0-5 with a caregiver. No registration required. \n 
URL:https://wcpl.org/event/storytime-steele-mem-18/
LOCATION:Steele Memorial Library\, 119 W Main St.\, Mt. Olive\, NC\, 28365\, United States
CATEGORIES:Children,Steele Memorial
END:VEVENT
BEGIN:VEVENT
DTSTART;TZID=America/New_York:20250910T100000
DTEND;TZID=America/New_York:20250910T130000
DTSTAMP:20260421T123516
CREATED:20250806T143412Z
LAST-MODIFIED:20250806T143412Z
UID:19615-1757498400-1757509200@wcpl.org
SUMMARY:Open Makerspace Hours
DESCRIPTION:Bring your own supplies and use our makerspace tools – Cricut\, sewing\, knitting\, crochet – on our big craft tables. \n 
URL:https://wcpl.org/event/open-makerspace-hours-11/
LOCATION:Steele Memorial Library\, 119 W Main St.\, Mt. Olive\, NC\, 28365\, United States
CATEGORIES:Adult,Steele Memorial
END:VEVENT
BEGIN:VEVENT
DTSTART;TZID=America/New_York:20250910T100000
DTEND;TZID=America/New_York:20250910T103000
DTSTAMP:20260421T123516
CREATED:20250806T125440Z
LAST-MODIFIED:20250806T125440Z
UID:19573-1757498400-1757500200@wcpl.org
SUMMARY:Storytime  (Steele Mem.)
DESCRIPTION:Join us for stories\, songs\, & crafts as we build on our listening and literacy skills\, learn new words\, and help our imaginations all at the same time. For ages 0-5 with a caregiver. No registration required. \n 
URL:https://wcpl.org/event/storytime-steele-mem-17/
LOCATION:Steele Memorial Library\, 119 W Main St.\, Mt. Olive\, NC\, 28365\, United States
CATEGORIES:Children,Steele Memorial
END:VEVENT
BEGIN:VEVENT
DTSTART;TZID=America/New_York:20250909T170000
DTEND;TZID=America/New_York:20250909T180000
DTSTAMP:20260421T123516
CREATED:20250807T172751Z
LAST-MODIFIED:20250807T172751Z
UID:19645-1757437200-1757440800@wcpl.org
SUMMARY:One Off Originals: Sock Trial
DESCRIPTION:Play your role in a mock trial! Create a sock puppet to represent your character\, then use what evidence you have available to make your case and prove who is innocent and who is guilty!  (Teen program)
URL:https://wcpl.org/event/one-off-originals-sock-trial/
LOCATION:Steele Memorial Library\, 119 W Main St.\, Mt. Olive\, NC\, 28365\, United States
CATEGORIES:Steele Memorial,Teens
END:VEVENT
BEGIN:VEVENT
DTSTART;TZID=America/New_York:20250909T160000
DTEND;TZID=America/New_York:20250909T170000
DTSTAMP:20260421T123516
CREATED:20250806T131137Z
LAST-MODIFIED:20250806T131137Z
UID:19593-1757433600-1757437200@wcpl.org
SUMMARY:It’s Electric! (Steele Mem.)
DESCRIPTION:Join us for some experiments and create your own flashlight! For grades K-5 with a caregiver. Registration required. Please call the Children’s Desk @ 919-299-8105\, ext. 5352 to register. \n 
URL:https://wcpl.org/event/its-electric-steele-mem/
LOCATION:Steele Memorial Library\, 119 W Main St.\, Mt. Olive\, NC\, 28365\, United States
CATEGORIES:Children,Steele Memorial
END:VEVENT
BEGIN:VEVENT
DTSTART;TZID=America/New_York:20250909T100000
DTEND;TZID=America/New_York:20250909T103000
DTSTAMP:20260421T123516
CREATED:20250806T124511Z
LAST-MODIFIED:20250806T124511Z
UID:19561-1757412000-1757413800@wcpl.org
SUMMARY:Music & Movement  (Steele Mem.)
DESCRIPTION:Did you know that music and moving our bodies can help your child with literacy skills? Plus\, it’s fun! For ages 0-5 with a caregiver. No registration required. \n 
URL:https://wcpl.org/event/music-movement-steele-mem-36/
LOCATION:Steele Memorial Library\, 119 W Main St.\, Mt. Olive\, NC\, 28365\, United States
CATEGORIES:Children,Steele Memorial
END:VEVENT
BEGIN:VEVENT
DTSTART;TZID=America/New_York:20250905T130000
DTEND;TZID=America/New_York:20250905T160000
DTSTAMP:20260421T123516
CREATED:20250806T144443Z
LAST-MODIFIED:20250806T144443Z
UID:19621-1757077200-1757088000@wcpl.org
SUMMARY:Open Makerspace Hours
DESCRIPTION:Bring your own supplies and use our makerspace tools – Cricut\, sewing\, knitting\, crochet – on our big craft tables. \n 
URL:https://wcpl.org/event/open-makerspace-hours-14/
LOCATION:Steele Memorial Library\, 119 W Main St.\, Mt. Olive\, NC\, 28365\, United States
CATEGORIES:Adult,Steele Memorial
END:VEVENT
BEGIN:VEVENT
DTSTART;TZID=America/New_York:20250904T160000
DTEND;TZID=America/New_York:20250904T170000
DTSTAMP:20260421T123516
CREATED:20250806T130521Z
LAST-MODIFIED:20250806T130521Z
UID:19585-1757001600-1757005200@wcpl.org
SUMMARY:LEGO Builders  (Steele Mem.)
DESCRIPTION:It’s LEGO time! We’ll give you a starting idea\, you bring your imagination. For grades K-5 with a caregiver. Registration required.   Please call the Children’s Desk @ 919-299-8105\, ext. 5352 to register. \n 
URL:https://wcpl.org/event/lego-builders-steele-mem-25/
LOCATION:Steele Memorial Library\, 119 W Main St.\, Mt. Olive\, NC\, 28365\, United States
CATEGORIES:Children,Steele Memorial
END:VEVENT
BEGIN:VEVENT
DTSTART;TZID=America/New_York:20250904T150000
DTEND;TZID=America/New_York:20250904T160000
DTSTAMP:20260421T123516
CREATED:20250806T131320Z
LAST-MODIFIED:20250806T131320Z
UID:19595-1756998000-1757001600@wcpl.org
SUMMARY:Cardio Drumming  (Steele Mem.)
DESCRIPTION:Cardio drumming is an adult class that brings together drumsticks\, an exercise ball\, and stand to create one of the most fun workouts you’ll ever do.  Please call 919-299-8105 ext. 5351 to register. \n 
URL:https://wcpl.org/event/cardio-drumming-steele-mem-9/
LOCATION:Steele Memorial Library\, 119 W Main St.\, Mt. Olive\, NC\, 28365\, United States
CATEGORIES:Adult,Steele Memorial
END:VEVENT
BEGIN:VEVENT
DTSTART;TZID=America/New_York:20250904T100000
DTEND;TZID=America/New_York:20250904T103000
DTSTAMP:20260421T123516
CREATED:20250806T125319Z
LAST-MODIFIED:20250806T125319Z
UID:19571-1756980000-1756981800@wcpl.org
SUMMARY:Storytime  (Steele Mem.)
DESCRIPTION:Join us for stories\, songs\, & crafts as we build on our listening and literacy skills\, learn new words\, and help our imaginations all at the same time. For ages 0-5 with a caregiver. No registration required. \n 
URL:https://wcpl.org/event/storytime-steele-mem-16/
LOCATION:Steele Memorial Library\, 119 W Main St.\, Mt. Olive\, NC\, 28365\, United States
CATEGORIES:Children,Steele Memorial
END:VEVENT
BEGIN:VEVENT
DTSTART;TZID=America/New_York:20250903T100000
DTEND;TZID=America/New_York:20250903T130000
DTSTAMP:20260421T123516
CREATED:20250806T143252Z
LAST-MODIFIED:20250806T143252Z
UID:19613-1756893600-1756904400@wcpl.org
SUMMARY:Open Makerspace Hours
DESCRIPTION:Bring your own supplies and use our makerspace tools – Cricut\, sewing\, knitting\, crochet – on our big craft tables. \n 
URL:https://wcpl.org/event/open-makerspace-hours-10/
LOCATION:Steele Memorial Library\, 119 W Main St.\, Mt. Olive\, NC\, 28365\, United States
CATEGORIES:Adult,Steele Memorial
END:VEVENT
END:VCALENDAR