BEGIN:VCALENDAR
VERSION:2.0
PRODID:-//Wayne County Public Library - ECPv6.15.20//NONSGML v1.0//EN
CALSCALE:GREGORIAN
METHOD:PUBLISH
X-ORIGINAL-URL:https://wcpl.org
X-WR-CALDESC:Events for Wayne County Public Library
REFRESH-INTERVAL;VALUE=DURATION:PT1H
X-Robots-Tag:noindex
X-PUBLISHED-TTL:PT1H
BEGIN:VTIMEZONE
TZID:America/New_York
BEGIN:DAYLIGHT
TZOFFSETFROM:-0500
TZOFFSETTO:-0400
TZNAME:EDT
DTSTART:20240310T070000
END:DAYLIGHT
BEGIN:STANDARD
TZOFFSETFROM:-0400
TZOFFSETTO:-0500
TZNAME:EST
DTSTART:20241103T060000
END:STANDARD
BEGIN:DAYLIGHT
TZOFFSETFROM:-0500
TZOFFSETTO:-0400
TZNAME:EDT
DTSTART:20250309T070000
END:DAYLIGHT
BEGIN:STANDARD
TZOFFSETFROM:-0400
TZOFFSETTO:-0500
TZNAME:EST
DTSTART:20251102T060000
END:STANDARD
BEGIN:DAYLIGHT
TZOFFSETFROM:-0500
TZOFFSETTO:-0400
TZNAME:EDT
DTSTART:20260308T070000
END:DAYLIGHT
BEGIN:STANDARD
TZOFFSETFROM:-0400
TZOFFSETTO:-0500
TZNAME:EST
DTSTART:20261101T060000
END:STANDARD
END:VTIMEZONE
BEGIN:VEVENT
DTSTART;TZID=America/New_York:20251107T130000
DTEND;TZID=America/New_York:20251107T160000
DTSTAMP:20260419T093647
CREATED:20251010T143645Z
LAST-MODIFIED:20251010T143645Z
UID:20671-1762520400-1762531200@wcpl.org
SUMMARY:Open Makerspace Hours (Steele Mem.)
DESCRIPTION:Bring your own supplies and use our makerspace tools – Cricut\, sewing\, knitting\, crochet – on our big craft tables. \n 
URL:https://wcpl.org/event/open-makerspace-hours-steele-mem-23/
LOCATION:Steele Memorial Library\, 119 W Main St.\, Mt. Olive\, NC\, 28365\, United States
CATEGORIES:Adult,Steele Memorial
END:VEVENT
BEGIN:VEVENT
DTSTART;TZID=America/New_York:20251107T100000
DTEND;TZID=America/New_York:20251107T110000
DTSTAMP:20260419T093647
CREATED:20251009T194641Z
LAST-MODIFIED:20251009T194641Z
UID:20652-1762509600-1762513200@wcpl.org
SUMMARY:Morning Meditations (Steele Mem.)
DESCRIPTION:We will be stretching for 20-30 minutes for flexibility and then doing some Zen tangles for relaxation.  Please call 919-299-8105 ext. 5351 to register. \n 
URL:https://wcpl.org/event/morning-meditations-steele-mem-10/
LOCATION:Steele Memorial Library\, 119 W Main St.\, Mt. Olive\, NC\, 28365\, United States
CATEGORIES:Adult,Steele Memorial
END:VEVENT
BEGIN:VEVENT
DTSTART;TZID=America/New_York:20251106T150000
DTEND;TZID=America/New_York:20251106T160000
DTSTAMP:20260419T093647
CREATED:20251009T194000Z
LAST-MODIFIED:20251009T194000Z
UID:20644-1762441200-1762444800@wcpl.org
SUMMARY:Cardio Drumming  (Steele Mem.)
DESCRIPTION:Cardio drumming is an adult class that brings together drumsticks\, an exercise ball\, and stand to create one of the most fun workouts you’ll ever do.  Please call 919-299-8105 ext. 5351 to register. \n 
URL:https://wcpl.org/event/cardio-drumming-steele-mem-15/
LOCATION:Steele Memorial Library\, 119 W Main St.\, Mt. Olive\, NC\, 28365\, United States
CATEGORIES:Adult,Steele Memorial
END:VEVENT
BEGIN:VEVENT
DTSTART;TZID=America/New_York:20251106T100000
DTEND;TZID=America/New_York:20251106T103000
DTSTAMP:20260419T093647
CREATED:20251009T192255Z
LAST-MODIFIED:20251009T192255Z
UID:20628-1762423200-1762425000@wcpl.org
SUMMARY:Storytime (Steele Mem.)
DESCRIPTION:Join us for stories\, songs\, & crafts as we build on our listening and literacy skills\, learn new words\, and help our imaginations all at the same time. For ages 0-5 with a caregiver. No registration required. \n 
URL:https://wcpl.org/event/storytime-steele-mem-34/
LOCATION:Steele Memorial Library\, 119 W Main St.\, Mt. Olive\, NC\, 28365\, United States
CATEGORIES:Children,Steele Memorial
END:VEVENT
BEGIN:VEVENT
DTSTART;TZID=America/New_York:20251105T150000
DTEND;TZID=America/New_York:20251105T160000
DTSTAMP:20260419T093647
CREATED:20251009T194500Z
LAST-MODIFIED:20251009T194500Z
UID:20650-1762354800-1762358400@wcpl.org
SUMMARY:Saguaro National Park Tour (Steele Mem.)
DESCRIPTION:Join us for this virtual tour of Saguaro National Park in Arizona.  Please call 919-299-8105 ext. 5351 to register. \n 
URL:https://wcpl.org/event/saguaro-national-park-tour-steele-mem/
LOCATION:Steele Memorial Library\, 119 W Main St.\, Mt. Olive\, NC\, 28365\, United States
CATEGORIES:Adult,Steele Memorial
END:VEVENT
BEGIN:VEVENT
DTSTART;TZID=America/New_York:20251105T100000
DTEND;TZID=America/New_York:20251105T130000
DTSTAMP:20260419T093647
CREATED:20251009T195828Z
LAST-MODIFIED:20251009T195828Z
UID:20662-1762336800-1762347600@wcpl.org
SUMMARY:Open Makerspace Hours  (Steele Mem.)
DESCRIPTION:Bring your own supplies and use our makerspace tools – Cricut\, sewing\, knitting\, crochet – on our big craft tables. \n 
URL:https://wcpl.org/event/open-makerspace-hours-steele-mem-19/
LOCATION:Steele Memorial Library\, 119 W Main St.\, Mt. Olive\, NC\, 28365\, United States
CATEGORIES:Adult,Steele Memorial
END:VEVENT
BEGIN:VEVENT
DTSTART;TZID=America/New_York:20251105T100000
DTEND;TZID=America/New_York:20251105T103000
DTSTAMP:20260419T093647
CREATED:20251009T192015Z
LAST-MODIFIED:20251009T192015Z
UID:20626-1762336800-1762338600@wcpl.org
SUMMARY:Storytime (Steele Mem.)
DESCRIPTION:Join us for stories\, songs\, & crafts as we build on our listening and literacy skills\, learn new words\, and help our imaginations all at the same time. For ages 0-5 with a caregiver. No registration required. \n 
URL:https://wcpl.org/event/storytime-steele-mem-33/
LOCATION:Steele Memorial Library\, 119 W Main St.\, Mt. Olive\, NC\, 28365\, United States
CATEGORIES:Children,Steele Memorial
END:VEVENT
BEGIN:VEVENT
DTSTART;TZID=America/New_York:20251104T170000
DTEND;TZID=America/New_York:20251104T180000
DTSTAMP:20260419T093647
CREATED:20251009T193731Z
LAST-MODIFIED:20251009T193731Z
UID:20642-1762275600-1762279200@wcpl.org
SUMMARY:One Off Originals  (Steele Mem.)
DESCRIPTION:Flop Ball Olympics:  Do something new and unique! This month\, put your skills to the test by facing challenges that can only be overcome with a Flop ball!  (Teen Program) \n 
URL:https://wcpl.org/event/one-off-originals-steele-mem/
LOCATION:Steele Memorial Library\, 119 W Main St.\, Mt. Olive\, NC\, 28365\, United States
CATEGORIES:Steele Memorial,Teens
END:VEVENT
BEGIN:VEVENT
DTSTART;TZID=America/New_York:20251104T150000
DTEND;TZID=America/New_York:20251104T190000
DTSTAMP:20260419T093647
CREATED:20251009T194232Z
LAST-MODIFIED:20251009T194232Z
UID:20648-1762268400-1762282800@wcpl.org
SUMMARY:Steele Stitchers
DESCRIPTION:Come join our cross-stitching group!  Newbies and experienced stitchers are welcome!  Drop in for a bit or stay for awhile.  Please call 919-299-8101 ext. 5351 to register. \n 
URL:https://wcpl.org/event/steele-stitchers-3/
LOCATION:Steele Memorial Library\, 119 W Main St.\, Mt. Olive\, NC\, 28365\, United States
CATEGORIES:Adult,Steele Memorial
END:VEVENT
BEGIN:VEVENT
DTSTART;TZID=America/New_York:20251104T100000
DTEND;TZID=America/New_York:20251104T103000
DTSTAMP:20260419T093647
CREATED:20251009T191600Z
LAST-MODIFIED:20251009T191600Z
UID:20622-1762250400-1762252200@wcpl.org
SUMMARY:Music & Movement (Steele Mem.)
DESCRIPTION:Did you know that music and moving our bodies can help your child with literacy skills? Plus\, it’s fun! For ages 0-5 with a caregiver. No registration required. \n 
URL:https://wcpl.org/event/music-movement-steele-mem-2/
LOCATION:Steele Memorial Library\, 119 W Main St.\, Mt. Olive\, NC\, 28365\, United States
CATEGORIES:Children,Steele Memorial
END:VEVENT
BEGIN:VEVENT
DTSTART;TZID=America/New_York:20251031T130000
DTEND;TZID=America/New_York:20251031T160000
DTSTAMP:20260419T093647
CREATED:20250910T185152Z
LAST-MODIFIED:20250910T185152Z
UID:20178-1761915600-1761926400@wcpl.org
SUMMARY:Open Makerspace Hours (Steele Mem.)
DESCRIPTION:Bring your own supplies and use our makerspace tools – Cricut\, sewing\, knitting\, crochet – on our big craft tables. \n 
URL:https://wcpl.org/event/open-makerspace-hours-steele-mem-18/
LOCATION:Steele Memorial Library\, 119 W Main St.\, Mt. Olive\, NC\, 28365\, United States
CATEGORIES:Adult,Steele Memorial
END:VEVENT
BEGIN:VEVENT
DTSTART;TZID=America/New_York:20251030T180000
DTEND;TZID=America/New_York:20251030T193000
DTSTAMP:20260419T093647
CREATED:20250910T182759Z
LAST-MODIFIED:20250910T182759Z
UID:20158-1761847200-1761852600@wcpl.org
SUMMARY:9th Annual Cemetery Walk (Steele Mem.)
DESCRIPTION:Join us for our 9th annual historical cemetery walk at Myrtle Grove Cemetery.  Tickets are free but need to be picked up in person at the Steele Memorial library.  Tickets will be available Monday\, October 13th. \nParticipants can park near Ribeye’s on Center Street\, and catch a hayride provided by UMO down to the cemetery. \n 
URL:https://wcpl.org/event/9th-annual-cemetery-walk-steele-mem/
LOCATION:Steele Memorial Library\, 119 W Main St.\, Mt. Olive\, NC\, 28365\, United States
CATEGORIES:Adult,Steele Memorial
END:VEVENT
BEGIN:VEVENT
DTSTART;TZID=America/New_York:20251030T160000
DTEND;TZID=America/New_York:20251030T170000
DTSTAMP:20260419T093647
CREATED:20250909T173132Z
LAST-MODIFIED:20250909T173132Z
UID:20127-1761840000-1761843600@wcpl.org
SUMMARY:LEGO Builders (Steele Mem.)
DESCRIPTION:It’s LEGO time! We’ll give you a starting idea\, you bring your imagination. For grades K-5 with a caregiver. Registration required.  Call the Children’s Desk @ 919-299-8105\, ext. 5352. \n 
URL:https://wcpl.org/event/lego-builders-steele-mem-32/
LOCATION:Steele Memorial Library\, 119 W Main St.\, Mt. Olive\, NC\, 28365\, United States
CATEGORIES:Children,Steele Memorial
END:VEVENT
BEGIN:VEVENT
DTSTART;TZID=America/New_York:20251030T100000
DTEND;TZID=America/New_York:20251030T103000
DTSTAMP:20260419T093647
CREATED:20250909T151228Z
LAST-MODIFIED:20250909T151228Z
UID:20117-1761818400-1761820200@wcpl.org
SUMMARY:Storytime (Steele Mem.)
DESCRIPTION:Join us for stories\, songs\, & crafts as we build on our listening and literacy skills\, learn new words\, and help our imaginations all at the same time. For ages 0-5 with a caregiver. No registration required. \n 
URL:https://wcpl.org/event/storytime-steele-mem-32/
LOCATION:Steele Memorial Library\, 119 W Main St.\, Mt. Olive\, NC\, 28365\, United States
CATEGORIES:Children,Steele Memorial
END:VEVENT
BEGIN:VEVENT
DTSTART;TZID=America/New_York:20251029T100000
DTEND;TZID=America/New_York:20251029T130000
DTSTAMP:20260419T093647
CREATED:20250910T184117Z
LAST-MODIFIED:20250910T184117Z
UID:20168-1761732000-1761742800@wcpl.org
SUMMARY:Open Makerspace Hours (Steele Mem.)
DESCRIPTION:Bring your own supplies and use our makerspace tools – Cricut\, sewing\, knitting\, crochet – on our big craft tables. \n 
URL:https://wcpl.org/event/open-makerspace-hours-steele-mem-13/
LOCATION:Steele Memorial Library\, 119 W Main St.\, Mt. Olive\, NC\, 28365\, United States
CATEGORIES:Adult,Steele Memorial
END:VEVENT
BEGIN:VEVENT
DTSTART;TZID=America/New_York:20251029T100000
DTEND;TZID=America/New_York:20251029T103000
DTSTAMP:20260419T093647
CREATED:20250909T151033Z
LAST-MODIFIED:20250909T151033Z
UID:20115-1761732000-1761733800@wcpl.org
SUMMARY:Storytime (Steele Mem.)
DESCRIPTION:Join us for stories\, songs\, & crafts as we build on our listening and literacy skills\, learn new words\, and help our imaginations all at the same time. For ages 0-5 with a caregiver. No registration required. \n 
URL:https://wcpl.org/event/storytime-steele-mem-31/
LOCATION:Steele Memorial Library\, 119 W Main St.\, Mt. Olive\, NC\, 28365\, United States
CATEGORIES:Children,Steele Memorial
END:VEVENT
BEGIN:VEVENT
DTSTART;TZID=America/New_York:20251028T170000
DTEND;TZID=America/New_York:20251028T180000
DTSTAMP:20260419T093647
CREATED:20250909T174122Z
LAST-MODIFIED:20250909T174122Z
UID:20137-1761670800-1761674400@wcpl.org
SUMMARY:Teen STEAM (Steele Mem.)
DESCRIPTION:Come try different science experiments with us! This month\, we’re learning all about the science behind fear! \n 
URL:https://wcpl.org/event/teen-steam-steele-mem/
LOCATION:Steele Memorial Library\, 119 W Main St.\, Mt. Olive\, NC\, 28365\, United States
CATEGORIES:Steele Memorial,Teens
END:VEVENT
BEGIN:VEVENT
DTSTART;TZID=America/New_York:20251028T100000
DTEND;TZID=America/New_York:20251028T103000
DTSTAMP:20260419T093647
CREATED:20250909T142619Z
LAST-MODIFIED:20250909T142619Z
UID:20089-1761645600-1761647400@wcpl.org
SUMMARY:Music & Movement (Steele Mem.)
DESCRIPTION:Did you know that music and moving our bodies can help your child with literacy skills? Plus\, it’s fun! For ages 0-5 with a caregiver. No registration required. \n 
URL:https://wcpl.org/event/music-movement-steele-mem-42/
LOCATION:Steele Memorial Library\, 119 W Main St.\, Mt. Olive\, NC\, 28365\, United States
CATEGORIES:Children,Steele Memorial
END:VEVENT
BEGIN:VEVENT
DTSTART;TZID=America/New_York:20251024T130000
DTEND;TZID=America/New_York:20251024T160000
DTSTAMP:20260419T093647
CREATED:20250910T184922Z
LAST-MODIFIED:20250910T184922Z
UID:20176-1761310800-1761321600@wcpl.org
SUMMARY:Open Makerspace Hours (Steele Mem.)
DESCRIPTION:Bring your own supplies and use our makerspace tools – Cricut\, sewing\, knitting\, crochet – on our big craft tables. \n 
URL:https://wcpl.org/event/open-makerspace-hours-steele-mem-17/
LOCATION:Steele Memorial Library\, 119 W Main St.\, Mt. Olive\, NC\, 28365\, United States
CATEGORIES:Adult,Steele Memorial
END:VEVENT
BEGIN:VEVENT
DTSTART;TZID=America/New_York:20251023T160000
DTEND;TZID=America/New_York:20251023T170000
DTSTAMP:20260419T093647
CREATED:20250909T172949Z
LAST-MODIFIED:20250909T172949Z
UID:20125-1761235200-1761238800@wcpl.org
SUMMARY:LEGO Builders (Steele Mem.)
DESCRIPTION:It’s LEGO time! We’ll give you a starting idea\, you bring your imagination. For grades K-5 with a caregiver. Registration required.  Call the Children’s Desk @ 919-299-8105\, ext. 5352. \n 
URL:https://wcpl.org/event/lego-builders-steele-mem-31/
LOCATION:Steele Memorial Library\, 119 W Main St.\, Mt. Olive\, NC\, 28365\, United States
CATEGORIES:Children,Steele Memorial
END:VEVENT
BEGIN:VEVENT
DTSTART;TZID=America/New_York:20251023T150000
DTEND;TZID=America/New_York:20251023T160000
DTSTAMP:20260419T093647
CREATED:20250909T175124Z
LAST-MODIFIED:20250909T175124Z
UID:20145-1761231600-1761235200@wcpl.org
SUMMARY:Cardio Drumming (Steele Mem.)
DESCRIPTION:Cardio drumming is an adult class that brings together drumsticks\, an exercise ball\, and stand to create one of the most fun workouts you’ll ever do.  Please call 919-299-8105 ext. 5351 to register. \n 
URL:https://wcpl.org/event/cardio-drumming-steele-mem-14/
LOCATION:Steele Memorial Library\, 119 W Main St.\, Mt. Olive\, NC\, 28365\, United States
CATEGORIES:Adult,Steele Memorial
END:VEVENT
BEGIN:VEVENT
DTSTART;TZID=America/New_York:20251023T100000
DTEND;TZID=America/New_York:20251023T103000
DTSTAMP:20260419T093647
CREATED:20250909T150833Z
LAST-MODIFIED:20250909T150833Z
UID:20113-1761213600-1761215400@wcpl.org
SUMMARY:Storytime (Steele Mem.)
DESCRIPTION:Join us for stories\, songs\, & crafts as we build on our listening and literacy skills\, learn new words\, and help our imaginations all at the same time. For ages 0-5 with a caregiver. No registration required. \n 
URL:https://wcpl.org/event/storytime-steele-mem-30/
LOCATION:Steele Memorial Library\, 119 W Main St.\, Mt. Olive\, NC\, 28365\, United States
CATEGORIES:Children,Steele Memorial
END:VEVENT
BEGIN:VEVENT
DTSTART;TZID=America/New_York:20251022T100000
DTEND;TZID=America/New_York:20251022T130000
DTSTAMP:20260419T093648
CREATED:20250910T184011Z
LAST-MODIFIED:20250910T184011Z
UID:20166-1761127200-1761138000@wcpl.org
SUMMARY:Open Makerspace Hours (Steele Mem.)
DESCRIPTION:Bring your own supplies and use our makerspace tools – Cricut\, sewing\, knitting\, crochet – on our big craft tables. \n 
URL:https://wcpl.org/event/open-makerspace-hours-steele-mem-12/
LOCATION:Steele Memorial Library\, 119 W Main St.\, Mt. Olive\, NC\, 28365\, United States
CATEGORIES:Adult,Steele Memorial
END:VEVENT
BEGIN:VEVENT
DTSTART;TZID=America/New_York:20251022T100000
DTEND;TZID=America/New_York:20251022T103000
DTSTAMP:20260419T093648
CREATED:20250909T150640Z
LAST-MODIFIED:20250909T150640Z
UID:20111-1761127200-1761129000@wcpl.org
SUMMARY:Storytime (Steele Mem.)
DESCRIPTION:Join us for stories\, songs\, & crafts as we build on our listening and literacy skills\, learn new words\, and help our imaginations all at the same time. For ages 0-5 with a caregiver. No registration required. \n 
URL:https://wcpl.org/event/storytime-steele-mem-29/
LOCATION:Steele Memorial Library\, 119 W Main St.\, Mt. Olive\, NC\, 28365\, United States
CATEGORIES:Children,Steele Memorial
END:VEVENT
BEGIN:VEVENT
DTSTART;TZID=America/New_York:20251021T170000
DTEND;TZID=America/New_York:20251021T180000
DTSTAMP:20260419T093648
CREATED:20250909T173921Z
LAST-MODIFIED:20250909T173921Z
UID:20135-1761066000-1761069600@wcpl.org
SUMMARY:One Hour\, One Shot: Crash Pandas (Steele Mem.)
DESCRIPTION:Come join the fun and try new TTRPGs! This month\, we’re playing Crash Pandas! You’ll take on the role of racing raccoons and rodents trying to win it all in a high octane contest for any and everything. \n 
URL:https://wcpl.org/event/one-hour-one-shot-crash-pandas-steele-mem/
LOCATION:Steele Memorial Library\, 119 W Main St.\, Mt. Olive\, NC\, 28365\, United States
CATEGORIES:Steele Memorial,Teens
END:VEVENT
BEGIN:VEVENT
DTSTART;TZID=America/New_York:20251021T100000
DTEND;TZID=America/New_York:20251021T103000
DTSTAMP:20260419T093648
CREATED:20250909T142421Z
LAST-MODIFIED:20250909T142456Z
UID:20086-1761040800-1761042600@wcpl.org
SUMMARY:Music & Movement (Steele Mem.)
DESCRIPTION:Did you know that music and moving our bodies can help your child with literacy skills? Plus\, it’s fun! For ages 0-5 with a caregiver. No registration required. \n 
URL:https://wcpl.org/event/music-movement-steele-mem-41/
LOCATION:Steele Memorial Library\, 119 W Main St.\, Mt. Olive\, NC\, 28365\, United States
CATEGORIES:Children,Steele Memorial
END:VEVENT
BEGIN:VEVENT
DTSTART;TZID=America/New_York:20251017T130000
DTEND;TZID=America/New_York:20251017T160000
DTSTAMP:20260419T093648
CREATED:20250910T184737Z
LAST-MODIFIED:20250910T184737Z
UID:20174-1760706000-1760716800@wcpl.org
SUMMARY:Open Makerspace Hours (Steele Mem.)
DESCRIPTION:Bring your own supplies and use our makerspace tools – Cricut\, sewing\, knitting\, crochet – on our big craft tables. \n 
URL:https://wcpl.org/event/open-makerspace-hours-steele-mem-16/
LOCATION:Steele Memorial Library\, 119 W Main St.\, Mt. Olive\, NC\, 28365\, United States
CATEGORIES:Adult,Steele Memorial
END:VEVENT
BEGIN:VEVENT
DTSTART;TZID=America/New_York:20251016T160000
DTEND;TZID=America/New_York:20251016T170000
DTSTAMP:20260419T093648
CREATED:20250909T172821Z
LAST-MODIFIED:20250909T172821Z
UID:20123-1760630400-1760634000@wcpl.org
SUMMARY:LEGO Builders (Steele Mem.)
DESCRIPTION:It’s LEGO time! We’ll give you a starting idea\, you bring your imagination. For grades K-5 with a caregiver. Registration required.  Call the Children’s Desk @ 919-299-8105\, ext. 5352. \n 
URL:https://wcpl.org/event/lego-builders-steele-mem-30/
LOCATION:Steele Memorial Library\, 119 W Main St.\, Mt. Olive\, NC\, 28365\, United States
CATEGORIES:Children,Steele Memorial
END:VEVENT
BEGIN:VEVENT
DTSTART;TZID=America/New_York:20251016T150000
DTEND;TZID=America/New_York:20251016T160000
DTSTAMP:20260419T093648
CREATED:20250909T174956Z
LAST-MODIFIED:20250909T174956Z
UID:20143-1760626800-1760630400@wcpl.org
SUMMARY:Cardio Drumming (Steele Mem.)
DESCRIPTION:Cardio drumming is an adult class that brings together drumsticks\, an exercise ball\, and stand to create one of the most fun workouts you’ll ever do.  Please call 919-299-8105 ext. 5351 to register. \n 
URL:https://wcpl.org/event/cardio-drumming-steele-mem-13/
LOCATION:Steele Memorial Library\, 119 W Main St.\, Mt. Olive\, NC\, 28365\, United States
CATEGORIES:Adult,Steele Memorial
END:VEVENT
BEGIN:VEVENT
DTSTART;TZID=America/New_York:20251016T100000
DTEND;TZID=America/New_York:20251016T103000
DTSTAMP:20260419T093648
CREATED:20250909T150425Z
LAST-MODIFIED:20250909T150425Z
UID:20109-1760608800-1760610600@wcpl.org
SUMMARY:Storytime (Steele Mem.)
DESCRIPTION:Join us for stories\, songs\, & crafts as we build on our listening and literacy skills\, learn new words\, and help our imaginations all at the same time. For ages 0-5 with a caregiver. No registration required. \n 
URL:https://wcpl.org/event/storytime-steele-mem-28/
LOCATION:Steele Memorial Library\, 119 W Main St.\, Mt. Olive\, NC\, 28365\, United States
CATEGORIES:Children,Steele Memorial
END:VEVENT
END:VCALENDAR