BEGIN:VCALENDAR
VERSION:2.0
PRODID:-//Wayne County Public Library - ECPv6.15.20//NONSGML v1.0//EN
CALSCALE:GREGORIAN
METHOD:PUBLISH
X-WR-CALNAME:Wayne County Public Library
X-ORIGINAL-URL:https://wcpl.org
X-WR-CALDESC:Events for Wayne County Public Library
REFRESH-INTERVAL;VALUE=DURATION:PT1H
X-Robots-Tag:noindex
X-PUBLISHED-TTL:PT1H
BEGIN:VTIMEZONE
TZID:America/New_York
BEGIN:DAYLIGHT
TZOFFSETFROM:-0500
TZOFFSETTO:-0400
TZNAME:EDT
DTSTART:20240310T070000
END:DAYLIGHT
BEGIN:STANDARD
TZOFFSETFROM:-0400
TZOFFSETTO:-0500
TZNAME:EST
DTSTART:20241103T060000
END:STANDARD
BEGIN:DAYLIGHT
TZOFFSETFROM:-0500
TZOFFSETTO:-0400
TZNAME:EDT
DTSTART:20250309T070000
END:DAYLIGHT
BEGIN:STANDARD
TZOFFSETFROM:-0400
TZOFFSETTO:-0500
TZNAME:EST
DTSTART:20251102T060000
END:STANDARD
BEGIN:DAYLIGHT
TZOFFSETFROM:-0500
TZOFFSETTO:-0400
TZNAME:EDT
DTSTART:20260308T070000
END:DAYLIGHT
BEGIN:STANDARD
TZOFFSETFROM:-0400
TZOFFSETTO:-0500
TZNAME:EST
DTSTART:20261101T060000
END:STANDARD
END:VTIMEZONE
BEGIN:VEVENT
DTSTART;TZID=America/New_York:20251105T160000
DTEND;TZID=America/New_York:20251105T170000
DTSTAMP:20260422T163225
CREATED:20251008T170820Z
LAST-MODIFIED:20251008T170820Z
UID:20559-1762358400-1762362000@wcpl.org
SUMMARY:Getting Started with Family History
DESCRIPTION:Ready to start your genealogy project? Join us for tips and resources that will make your research easier and learn about the databases available to you at the library! Call 919-735-1824 ext 5100 to register. \n 
URL:https://wcpl.org/event/getting-started-with-family-history/
LOCATION:Wayne County Public Library – Goldsboro\, 1001 E Ash Street\, Goldsboro\, NC\, 27530\, United States
CATEGORIES:Adult,Goldsboro,Local History
END:VEVENT
BEGIN:VEVENT
DTSTART;TZID=America/New_York:20251110T160000
DTEND;TZID=America/New_York:20251110T170000
DTSTAMP:20260422T163225
CREATED:20251008T165733Z
LAST-MODIFIED:20251008T165733Z
UID:20551-1762790400-1762794000@wcpl.org
SUMMARY:Fold3 Workshop 
DESCRIPTION:Interested in learning about Fold3? Come explore the database\, and learn how to search for ancestors through military records! Call 919-735-1824 ext 5100 to register. \n 
URL:https://wcpl.org/event/fold3-workshop/
LOCATION:Wayne County Public Library – Goldsboro\, 1001 E Ash Street\, Goldsboro\, NC\, 27530\, United States
CATEGORIES:Adult,Goldsboro,Local History
END:VEVENT
BEGIN:VEVENT
DTSTART;TZID=America/New_York:20251118T140000
DTEND;TZID=America/New_York:20251118T150000
DTSTAMP:20260422T163225
CREATED:20251008T173208Z
LAST-MODIFIED:20251008T173208Z
UID:20576-1763474400-1763478000@wcpl.org
SUMMARY:Digital Preservation Workshop 
DESCRIPTION:Most of the records of our lives are digital these days. Join us to learn some tips and tricks for preserving your personal digital records. Call 919-735-1824 ext 5100 to register! \n 
URL:https://wcpl.org/event/digital-preservation-workshop/
LOCATION:Wayne County Public Library – Goldsboro\, 1001 E Ash Street\, Goldsboro\, NC\, 27530\, United States
CATEGORIES:Adult,Goldsboro,Local History
END:VEVENT
END:VCALENDAR