BEGIN:VCALENDAR
VERSION:2.0
PRODID:-//Wayne County Public Library - ECPv6.15.20//NONSGML v1.0//EN
CALSCALE:GREGORIAN
METHOD:PUBLISH
X-WR-CALNAME:Wayne County Public Library
X-ORIGINAL-URL:https://wcpl.org
X-WR-CALDESC:Events for Wayne County Public Library
REFRESH-INTERVAL;VALUE=DURATION:PT1H
X-Robots-Tag:noindex
X-PUBLISHED-TTL:PT1H
BEGIN:VTIMEZONE
TZID:America/New_York
BEGIN:DAYLIGHT
TZOFFSETFROM:-0500
TZOFFSETTO:-0400
TZNAME:EDT
DTSTART:20240310T070000
END:DAYLIGHT
BEGIN:STANDARD
TZOFFSETFROM:-0400
TZOFFSETTO:-0500
TZNAME:EST
DTSTART:20241103T060000
END:STANDARD
BEGIN:DAYLIGHT
TZOFFSETFROM:-0500
TZOFFSETTO:-0400
TZNAME:EDT
DTSTART:20250309T070000
END:DAYLIGHT
BEGIN:STANDARD
TZOFFSETFROM:-0400
TZOFFSETTO:-0500
TZNAME:EST
DTSTART:20251102T060000
END:STANDARD
BEGIN:DAYLIGHT
TZOFFSETFROM:-0500
TZOFFSETTO:-0400
TZNAME:EDT
DTSTART:20260308T070000
END:DAYLIGHT
BEGIN:STANDARD
TZOFFSETFROM:-0400
TZOFFSETTO:-0500
TZNAME:EST
DTSTART:20261101T060000
END:STANDARD
END:VTIMEZONE
BEGIN:VEVENT
DTSTART;TZID=America/New_York:20250306T180000
DTEND;TZID=America/New_York:20250306T193000
DTSTAMP:20260423T064351
CREATED:20250206T213130Z
LAST-MODIFIED:20250206T213130Z
UID:16501-1741284000-1741289400@wcpl.org
SUMMARY:Her Own Words: Women’s Voices via Diaries\, Correspondence\, and More! 
DESCRIPTION:Join us as we learn from professional genealogist Diane L. Richard! Women can be hard to document in genealogy research. Exploring diaries\, letters\, and other materials gives us insight into their lives. Let’s explore different types of female voices in family history research – often\, in their own words! For more information\, call 919-735-1824 ext 1830. \n 
URL:https://wcpl.org/event/her-own-words-womens-voices-via-diaries-correspondence-and-more/
LOCATION:Wayne County Public Library – Goldsboro\, 1001 E Ash Street\, Goldsboro\, NC\, 27530\, United States
CATEGORIES:Adult,Goldsboro,Local History
END:VEVENT
BEGIN:VEVENT
DTSTART;TZID=America/New_York:20250311T180000
DTEND;TZID=America/New_York:20250311T190000
DTSTAMP:20260423T064351
CREATED:20250206T213239Z
LAST-MODIFIED:20250206T213239Z
UID:16503-1741716000-1741719600@wcpl.org
SUMMARY:Family History Show and Tell 
DESCRIPTION:Join us for an evening of sharing memories and stories! Do you have a historic family photo or heirloom you think everyone should see? Now is your time to share! Bring a historic photo or other family treasure to share with the group! Limit one item per person. Space is limited. Registration required! Call 919-735-1824 ext 1830. \n 
URL:https://wcpl.org/event/family-history-show-and-tell/
LOCATION:Wayne County Public Library – Goldsboro\, 1001 E Ash Street\, Goldsboro\, NC\, 27530\, United States
CATEGORIES:Adult,Goldsboro,Local History
END:VEVENT
BEGIN:VEVENT
DTSTART;TZID=America/New_York:20250318T160000
DTEND;TZID=America/New_York:20250318T170000
DTSTAMP:20260423T064351
CREATED:20250206T214049Z
LAST-MODIFIED:20250206T214049Z
UID:16511-1742313600-1742317200@wcpl.org
SUMMARY:Preserving Your Family Photos 
DESCRIPTION:Join us for an informational session about how to best care for your family photos from years gone by. Registration encouraged. Call 919-735-1824 ext 1830 to register. \n 
URL:https://wcpl.org/event/preserving-your-family-photos-5/
LOCATION:Wayne County Public Library – Goldsboro\, 1001 E Ash Street\, Goldsboro\, NC\, 27530\, United States
CATEGORIES:Adult,Goldsboro,Local History
END:VEVENT
BEGIN:VEVENT
DTSTART;TZID=America/New_York:20250319T160000
DTEND;TZID=America/New_York:20250319T170000
DTSTAMP:20260423T064351
CREATED:20250206T214433Z
LAST-MODIFIED:20250206T214433Z
UID:16515-1742400000-1742403600@wcpl.org
SUMMARY:Parchment to Pixels 
DESCRIPTION:Join us in the Local History room to transcribe historical documents from our collection. Bring your own laptop or use one of ours! Call 919-735-1824 ext 5100 to register. \n 
URL:https://wcpl.org/event/parchment-to-pixels/
LOCATION:Wayne County Public Library – Goldsboro\, 1001 E Ash Street\, Goldsboro\, NC\, 27530\, United States
CATEGORIES:Adult,Goldsboro,Local History
END:VEVENT
END:VCALENDAR