BEGIN:VCALENDAR
VERSION:2.0
PRODID:-//Wayne County Public Library - ECPv6.15.20//NONSGML v1.0//EN
CALSCALE:GREGORIAN
METHOD:PUBLISH
X-WR-CALNAME:Wayne County Public Library
X-ORIGINAL-URL:https://wcpl.org
X-WR-CALDESC:Events for Wayne County Public Library
REFRESH-INTERVAL;VALUE=DURATION:PT1H
X-Robots-Tag:noindex
X-PUBLISHED-TTL:PT1H
BEGIN:VTIMEZONE
TZID:America/New_York
BEGIN:DAYLIGHT
TZOFFSETFROM:-0500
TZOFFSETTO:-0400
TZNAME:EDT
DTSTART:20240310T070000
END:DAYLIGHT
BEGIN:STANDARD
TZOFFSETFROM:-0400
TZOFFSETTO:-0500
TZNAME:EST
DTSTART:20241103T060000
END:STANDARD
BEGIN:DAYLIGHT
TZOFFSETFROM:-0500
TZOFFSETTO:-0400
TZNAME:EDT
DTSTART:20250309T070000
END:DAYLIGHT
BEGIN:STANDARD
TZOFFSETFROM:-0400
TZOFFSETTO:-0500
TZNAME:EST
DTSTART:20251102T060000
END:STANDARD
BEGIN:DAYLIGHT
TZOFFSETFROM:-0500
TZOFFSETTO:-0400
TZNAME:EDT
DTSTART:20260308T070000
END:DAYLIGHT
BEGIN:STANDARD
TZOFFSETFROM:-0400
TZOFFSETTO:-0500
TZNAME:EST
DTSTART:20261101T060000
END:STANDARD
END:VTIMEZONE
BEGIN:VEVENT
DTSTART;TZID=America/New_York:20251218T140000
DTEND;TZID=America/New_York:20251218T150000
DTSTAMP:20260422T045234
CREATED:20251106T184605Z
LAST-MODIFIED:20251117T164800Z
UID:21032-1766066400-1766070000@wcpl.org
SUMMARY:Christmas with the Waterbound Dulcimers
DESCRIPTION:Get into the holiday spirit with the Waterbound Dulcimers! Join us and listen to some holiday tunes played on traditional mountain dulcimers. Call 919-735-1824 ext 5100 for more information. \n 
URL:https://wcpl.org/event/christmas-with-the-waterbound-dulcimers-3/
LOCATION:Wayne County Public Library – Goldsboro\, 1001 E Ash Street\, Goldsboro\, NC\, 27530\, United States
CATEGORIES:Families,Goldsboro,Holiday
END:VEVENT
BEGIN:VEVENT
DTSTART;TZID=America/New_York:20251217T150000
DTEND;TZID=America/New_York:20251217T160000
DTSTAMP:20260422T045234
CREATED:20251105T172903Z
LAST-MODIFIED:20251117T164104Z
UID:20983-1765983600-1765987200@wcpl.org
SUMMARY:Christmas Music Bingo (Steele Mem.)
DESCRIPTION:Join us for a fun time and prizes.  Please call 919-299-8105 ext. 5351 to register. \n 
URL:https://wcpl.org/event/christmas-music-bingo-steele-mem-2/
LOCATION:Steele Memorial Library\, 119 W Main St.\, Mt. Olive\, NC\, 28365\, United States
CATEGORIES:Adult,Holiday,Steele Memorial
END:VEVENT
BEGIN:VEVENT
DTSTART;TZID=America/New_York:20251210T180000
DTEND;TZID=America/New_York:20251210T190000
DTSTAMP:20260422T045234
CREATED:20251106T181858Z
LAST-MODIFIED:20251117T164158Z
UID:21020-1765389600-1765393200@wcpl.org
SUMMARY:Wellness Wednesday – Healthy Holidays 
DESCRIPTION:Join us for our monthly Wellness Wednesday Series. UNC Health Wayne Librarian will offer a session on tips for a healthy holiday season. Call 919-735-1824 ext 5100 to register or for more information. \n 
URL:https://wcpl.org/event/wellness-wednesday-healthy-holidays/
LOCATION:Wayne County Public Library – Goldsboro\, 1001 E Ash Street\, Goldsboro\, NC\, 27530\, United States
CATEGORIES:Adult,Goldsboro,Holiday
END:VEVENT
BEGIN:VEVENT
DTSTART;TZID=America/New_York:20251210T150000
DTEND;TZID=America/New_York:20251210T160000
DTSTAMP:20260422T045234
CREATED:20251105T172448Z
LAST-MODIFIED:20251120T200955Z
UID:20979-1765378800-1765382400@wcpl.org
SUMMARY:Christmas Craft (Steele Mem.)
DESCRIPTION:We will be making an ornament and learning to tie some bows.  Please call 919-299-8105 ext. 5351 to register. \n 
URL:https://wcpl.org/event/christmas-craft-steele-mem/
LOCATION:Steele Memorial Library\, 119 W Main St.\, Mt. Olive\, NC\, 28365\, United States
CATEGORIES:Adult,Holiday,Steele Memorial
END:VEVENT
BEGIN:VEVENT
DTSTART;TZID=America/New_York:20251209T170000
DTEND;TZID=America/New_York:20251209T180000
DTSTAMP:20260422T045234
CREATED:20251106T190435Z
LAST-MODIFIED:20251117T164314Z
UID:21041-1765299600-1765303200@wcpl.org
SUMMARY:CrafTeens (Steele Mem.)
DESCRIPTION:Let’s create something!  Come show off your crafting skills! This month\, get into the holiday spirit by crafting your own (mini\, flightless) sleigh! \n 
URL:https://wcpl.org/event/crafteens-steele-mem/
LOCATION:Steele Memorial Library\, 119 W Main St.\, Mt. Olive\, NC\, 28365\, United States
CATEGORIES:Holiday,Steele Memorial,Teens
END:VEVENT
BEGIN:VEVENT
DTSTART;TZID=America/New_York:20251209T160000
DTEND;TZID=America/New_York:20251209T170000
DTSTAMP:20260422T045234
CREATED:20251105T163544Z
LAST-MODIFIED:20251117T164341Z
UID:20971-1765296000-1765299600@wcpl.org
SUMMARY:Whoville Holiday (Steele Mem.)
DESCRIPTION:Join us for games and crafts about everyone’s favorite grump! For grades K-5 with a caregiver. Registration required. Please call the Children’s Desk @ 919-299-8105\, ext. 5352 to register. \n 
URL:https://wcpl.org/event/whoville-holiday-steele-mem/
LOCATION:Steele Memorial Library\, 119 W Main St.\, Mt. Olive\, NC\, 28365\, United States
CATEGORIES:Children,Holiday,Steele Memorial
END:VEVENT
BEGIN:VEVENT
DTSTART;TZID=America/New_York:20251204T170000
DTEND;TZID=America/New_York:20251204T190000
DTSTAMP:20260422T045234
CREATED:20251106T180655Z
LAST-MODIFIED:20251117T164506Z
UID:21008-1764867600-1764874800@wcpl.org
SUMMARY:Classic Movie Night 
DESCRIPTION:Kick off the holiday season with us as we view a classic Christmas comedy\, Christmas in Connecticut\, starring Barbara Stanwyck and Dennis Morgan. For more information\, please call 919-735-1824 ext 5100. \n 
URL:https://wcpl.org/event/classic-movie-night/
LOCATION:Wayne County Public Library – Goldsboro\, 1001 E Ash Street\, Goldsboro\, NC\, 27530\, United States
CATEGORIES:Adult,Goldsboro,Holiday
END:VEVENT
END:VCALENDAR