BEGIN:VCALENDAR
VERSION:2.0
PRODID:-//Wayne County Public Library - ECPv6.15.20//NONSGML v1.0//EN
CALSCALE:GREGORIAN
METHOD:PUBLISH
X-ORIGINAL-URL:https://wcpl.org
X-WR-CALDESC:Events for Wayne County Public Library
REFRESH-INTERVAL;VALUE=DURATION:PT1H
X-Robots-Tag:noindex
X-PUBLISHED-TTL:PT1H
BEGIN:VTIMEZONE
TZID:America/New_York
BEGIN:DAYLIGHT
TZOFFSETFROM:-0500
TZOFFSETTO:-0400
TZNAME:EDT
DTSTART:20250309T070000
END:DAYLIGHT
BEGIN:STANDARD
TZOFFSETFROM:-0400
TZOFFSETTO:-0500
TZNAME:EST
DTSTART:20251102T060000
END:STANDARD
BEGIN:DAYLIGHT
TZOFFSETFROM:-0500
TZOFFSETTO:-0400
TZNAME:EDT
DTSTART:20260308T070000
END:DAYLIGHT
BEGIN:STANDARD
TZOFFSETFROM:-0400
TZOFFSETTO:-0500
TZNAME:EST
DTSTART:20261101T060000
END:STANDARD
BEGIN:DAYLIGHT
TZOFFSETFROM:-0500
TZOFFSETTO:-0400
TZNAME:EDT
DTSTART:20270314T070000
END:DAYLIGHT
BEGIN:STANDARD
TZOFFSETFROM:-0400
TZOFFSETTO:-0500
TZNAME:EST
DTSTART:20271107T060000
END:STANDARD
END:VTIMEZONE
BEGIN:VEVENT
DTSTART;TZID=America/New_York:20260519T163000
DTEND;TZID=America/New_York:20260519T173000
DTSTAMP:20260422T132836
CREATED:20260417T170051Z
LAST-MODIFIED:20260417T170138Z
UID:23209-1779208200-1779211800@wcpl.org
SUMMARY:Pokémon Party
DESCRIPTION:For grades K-5th.  Join our club for all things Pokémon.  No registration required. \n 
URL:https://wcpl.org/event/pokemon-party-5/
LOCATION:Wayne County Public Library – Goldsboro\, 1001 E Ash Street\, Goldsboro\, NC\, 27530\, United States
CATEGORIES:Children,Goldsboro
END:VEVENT
BEGIN:VEVENT
DTSTART;TZID=America/New_York:20260520T093000
DTEND;TZID=America/New_York:20260520T100000
DTSTAMP:20260422T132836
CREATED:20260417T170258Z
LAST-MODIFIED:20260417T170340Z
UID:23212-1779269400-1779271200@wcpl.org
SUMMARY:Baby and Me  (Goldsboro)
DESCRIPTION:It’s never too early to fall in love with stories! Join us for gentle songs\, simple stories\, and lots of giggles for our tiniest book lovers.  For ages 0-2 with a parent or caregiver.  No registration required. \n 
URL:https://wcpl.org/event/baby-and-me-goldsboro-44/
LOCATION:Wayne County Public Library – Goldsboro\, 1001 E Ash Street\, Goldsboro\, NC\, 27530\, United States
CATEGORIES:Children,Goldsboro
END:VEVENT
BEGIN:VEVENT
DTSTART;TZID=America/New_York:20260520T103000
DTEND;TZID=America/New_York:20260520T110000
DTSTAMP:20260422T132836
CREATED:20260417T170458Z
LAST-MODIFIED:20260417T170537Z
UID:23215-1779273000-1779274800@wcpl.org
SUMMARY:Storytime  (Goldsboro)
DESCRIPTION:An introduction to books\, reading and language through stories\, songs\, rhymes\, and movement. For ages 3-5 with a parent or caregiver. No registration required. \n 
URL:https://wcpl.org/event/storytime-goldsboro-48/
LOCATION:Wayne County Public Library – Goldsboro\, 1001 E Ash Street\, Goldsboro\, NC\, 27530\, United States
CATEGORIES:Children,Goldsboro
END:VEVENT
BEGIN:VEVENT
DTSTART;TZID=America/New_York:20260520T150000
DTEND;TZID=America/New_York:20260520T160000
DTSTAMP:20260422T132836
CREATED:20260410T173856Z
LAST-MODIFIED:20260410T183333Z
UID:23038-1779289200-1779292800@wcpl.org
SUMMARY:Cardio Drumming  (Goldsboro)
DESCRIPTION:Get into a groovy rhythm and work up a sweat with cardio drumming! Space is limited. Call 919-735-1824 ext 5100 to register. \n 
URL:https://wcpl.org/event/cardio-drumming-goldsboro-31/
LOCATION:Wayne County Public Library – Goldsboro\, 1001 E Ash Street\, Goldsboro\, NC\, 27530\, United States
CATEGORIES:Adult,Goldsboro
END:VEVENT
BEGIN:VEVENT
DTSTART;TZID=America/New_York:20260520T180000
DTEND;TZID=America/New_York:20260520T190000
DTSTAMP:20260422T132836
CREATED:20260410T174109Z
LAST-MODIFIED:20260410T180725Z
UID:23040-1779300000-1779303600@wcpl.org
SUMMARY:Paint & Sip Coffee 
DESCRIPTION:Paint a picture with us – all skill levels welcomed and encouraged! Registration required. Call (919) 735-1824 ext 5102 or email jamie.tyler@waynegov.com to register. \n 
URL:https://wcpl.org/event/paint-sip-coffee-6/
LOCATION:Wayne County Public Library – Goldsboro\, 1001 E Ash Street\, Goldsboro\, NC\, 27530\, United States
CATEGORIES:Adult,Goldsboro
END:VEVENT
BEGIN:VEVENT
DTSTART;TZID=America/New_York:20260521T103000
DTEND;TZID=America/New_York:20260521T110000
DTSTAMP:20260422T132836
CREATED:20260417T170709Z
LAST-MODIFIED:20260417T170757Z
UID:23217-1779359400-1779361200@wcpl.org
SUMMARY:Music and Movement  (Goldsboro)
DESCRIPTION:Let’s move\, groove\, and make some noise!   Music & Movement combines songs\, rhythm\, and play to help little ones grow through joyful motion.  For ages 0 – 5 with a parent or caregiver.  No registration required. \n 
URL:https://wcpl.org/event/music-and-movement-goldsboro-52/
LOCATION:Wayne County Public Library – Goldsboro\, 1001 E Ash Street\, Goldsboro\, NC\, 27530\, United States
CATEGORIES:Children,Goldsboro
END:VEVENT
BEGIN:VEVENT
DTSTART;TZID=America/New_York:20260521T140000
DTEND;TZID=America/New_York:20260521T150000
DTSTAMP:20260422T132836
CREATED:20260414T152921Z
LAST-MODIFIED:20260414T153017Z
UID:23083-1779372000-1779375600@wcpl.org
SUMMARY:Photo Preservation 
DESCRIPTION:Learn the steps you need to take to preserve your precious photographs! Call 919-735-1824 ext 5100 to register. \n 
URL:https://wcpl.org/event/photo-preservation/
LOCATION:Wayne County Public Library – Goldsboro\, 1001 E Ash Street\, Goldsboro\, NC\, 27530\, United States
CATEGORIES:Adult,Goldsboro,Local History
END:VEVENT
BEGIN:VEVENT
DTSTART;TZID=America/New_York:20260521T163000
DTEND;TZID=America/New_York:20260521T173000
DTSTAMP:20260422T132836
CREATED:20260417T170955Z
LAST-MODIFIED:20260417T171032Z
UID:23220-1779381000-1779384600@wcpl.org
SUMMARY:Tween Pokémon Party
DESCRIPTION:For grades 6th-8th.  Join our club for all things Pokémon.  No registration required. \n 
URL:https://wcpl.org/event/tween-pokemon-party/
LOCATION:Wayne County Public Library – Goldsboro\, 1001 E Ash Street\, Goldsboro\, NC\, 27530\, United States
CATEGORIES:Goldsboro,Tweens
END:VEVENT
BEGIN:VEVENT
DTSTART;TZID=America/New_York:20260522T150000
DTEND;TZID=America/New_York:20260522T160000
DTSTAMP:20260422T132836
CREATED:20260414T134358Z
LAST-MODIFIED:20260414T141428Z
UID:23063-1779462000-1779465600@wcpl.org
SUMMARY:Pet Rock Party 
DESCRIPTION:Take a step back in time and relive the era of Pet Rocks! Relive the 1970s while you design your new best friend who you can treasure forever – because it’s a rock. Call 919-735-1824 ext 5100 to register. \n 
URL:https://wcpl.org/event/pet-rock-party/
LOCATION:Wayne County Public Library – Goldsboro\, 1001 E Ash Street\, Goldsboro\, NC\, 27530\, United States
CATEGORIES:Adult,Goldsboro
END:VEVENT
BEGIN:VEVENT
DTSTART;TZID=America/New_York:20260526T150000
DTEND;TZID=America/New_York:20260526T160000
DTSTAMP:20260422T132836
CREATED:20260414T134751Z
LAST-MODIFIED:20260414T141514Z
UID:23067-1779807600-1779811200@wcpl.org
SUMMARY:New Dawn Inspirational Book Club
DESCRIPTION:Join us as we discuss books of Inspirational Fiction.  Please call 919-735-1824\, ext. 5102 to register.  This month we will be discussing the book Bringing Maggie Home by Kim V Sawyer. \n 
URL:https://wcpl.org/event/new-dawn-inspirational-book-club-11/
LOCATION:Wayne County Public Library – Goldsboro\, 1001 E Ash Street\, Goldsboro\, NC\, 27530\, United States
CATEGORIES:Adult,Goldsboro,Library Book Club
END:VEVENT
BEGIN:VEVENT
DTSTART;TZID=America/New_York:20260526T180000
DTEND;TZID=America/New_York:20260526T190000
DTSTAMP:20260422T132836
CREATED:20260414T134948Z
LAST-MODIFIED:20260414T141534Z
UID:23069-1779818400-1779822000@wcpl.org
SUMMARY:Ferguson’s Career Guidance Center 
DESCRIPTION:Learn about a free library resource that helps you explore careers and plan your education! Call 919-735-1824 ext 5100 to register.  Ages 16+. \n 
URL:https://wcpl.org/event/fergusons-career-guidance-center/
LOCATION:Wayne County Public Library – Goldsboro\, 1001 E Ash Street\, Goldsboro\, NC\, 27530\, United States
CATEGORIES:Adult,Goldsboro,Teens
END:VEVENT
BEGIN:VEVENT
DTSTART;TZID=America/New_York:20260528T160000
DTEND;TZID=America/New_York:20260528T170000
DTSTAMP:20260422T132836
CREATED:20260414T135345Z
LAST-MODIFIED:20260414T141707Z
UID:23075-1779984000-1779987600@wcpl.org
SUMMARY:Vertical Files 101 
DESCRIPTION:Learn to use Local History’s vertical files! Call 919-735-1824 ext 5100 to register. \n 
URL:https://wcpl.org/event/vertical-files-101/
LOCATION:Wayne County Public Library – Goldsboro\, 1001 E Ash Street\, Goldsboro\, NC\, 27530\, United States
CATEGORIES:Adult,Goldsboro,Local History
END:VEVENT
BEGIN:VEVENT
DTSTART;TZID=America/New_York:20260528T173000
DTEND;TZID=America/New_York:20260528T190000
DTSTAMP:20260422T132836
CREATED:20260414T135551Z
LAST-MODIFIED:20260414T141732Z
UID:23077-1779989400-1779994800@wcpl.org
SUMMARY:Silent Read N’ Sip
DESCRIPTION:Instead of setting time constraints on yourself to read a certain type of book\, visit a newer type of book club where you can read whatever you want. We’ll begin by talking about what books we are currently reading. Later\, you will silently read the book you brought to our club. Feel free to read print or electronic books. This is meant to be a quiet\, cozy\, and relaxing time for everyone. \n 
URL:https://wcpl.org/event/silent-read-n-sip-9/
LOCATION:Wayne County Public Library – Goldsboro\, 1001 E Ash Street\, Goldsboro\, NC\, 27530\, United States
CATEGORIES:Adult,Goldsboro,Library Book Club
END:VEVENT
END:VCALENDAR