BEGIN:VCALENDAR
VERSION:2.0
PRODID:-//Wayne County Public Library - ECPv6.15.20//NONSGML v1.0//EN
CALSCALE:GREGORIAN
METHOD:PUBLISH
X-ORIGINAL-URL:https://wcpl.org
X-WR-CALDESC:Events for Wayne County Public Library
REFRESH-INTERVAL;VALUE=DURATION:PT1H
X-Robots-Tag:noindex
X-PUBLISHED-TTL:PT1H
BEGIN:VTIMEZONE
TZID:America/New_York
BEGIN:DAYLIGHT
TZOFFSETFROM:-0500
TZOFFSETTO:-0400
TZNAME:EDT
DTSTART:20250309T070000
END:DAYLIGHT
BEGIN:STANDARD
TZOFFSETFROM:-0400
TZOFFSETTO:-0500
TZNAME:EST
DTSTART:20251102T060000
END:STANDARD
BEGIN:DAYLIGHT
TZOFFSETFROM:-0500
TZOFFSETTO:-0400
TZNAME:EDT
DTSTART:20260308T070000
END:DAYLIGHT
BEGIN:STANDARD
TZOFFSETFROM:-0400
TZOFFSETTO:-0500
TZNAME:EST
DTSTART:20261101T060000
END:STANDARD
BEGIN:DAYLIGHT
TZOFFSETFROM:-0500
TZOFFSETTO:-0400
TZNAME:EDT
DTSTART:20270314T070000
END:DAYLIGHT
BEGIN:STANDARD
TZOFFSETFROM:-0400
TZOFFSETTO:-0500
TZNAME:EST
DTSTART:20271107T060000
END:STANDARD
END:VTIMEZONE
BEGIN:VEVENT
DTSTART;TZID=America/New_York:20260407T140000
DTEND;TZID=America/New_York:20260407T150000
DTSTAMP:20260422T133200
CREATED:20260306T135822Z
LAST-MODIFIED:20260306T155709Z
UID:22467-1775570400-1775574000@wcpl.org
SUMMARY:Blank Page Society 
DESCRIPTION:Join us for a prompted journaling session with optional sharing! All materials provided but feel free to bring your own!  Call 919-735-1824 ext 5100 to register! \n 
URL:https://wcpl.org/event/blank-page-society-8/
LOCATION:Wayne County Public Library – Goldsboro\, 1001 E Ash Street\, Goldsboro\, NC\, 27530\, United States
CATEGORIES:Adult,Goldsboro
END:VEVENT
BEGIN:VEVENT
DTSTART;TZID=America/New_York:20260407T103000
DTEND;TZID=America/New_York:20260407T110000
DTSTAMP:20260422T133200
CREATED:20260312T135009Z
LAST-MODIFIED:20260312T135148Z
UID:22628-1775557800-1775559600@wcpl.org
SUMMARY:Early Explorers
DESCRIPTION:Join us for our kindergarten-readiness program.  For ages 3-5 with a parent or caregiver. Programs will guide children as they learn social skills\, as well as letter\, number\, shape\, and color recognition. No registration required. \n 
URL:https://wcpl.org/event/early-explorers-42/
LOCATION:Wayne County Public Library – Goldsboro\, 1001 E Ash Street\, Goldsboro\, NC\, 27530\, United States
CATEGORIES:Children,Goldsboro
END:VEVENT
BEGIN:VEVENT
DTSTART;TZID=America/New_York:20260402T160000
DTEND;TZID=America/New_York:20260402T170000
DTSTAMP:20260422T133200
CREATED:20260306T135142Z
LAST-MODIFIED:20260306T155508Z
UID:22459-1775145600-1775149200@wcpl.org
SUMMARY:Throwback Thursday: 2000’s TV Coloring 
DESCRIPTION:Enjoy a nostalgic afternoon of coloring characters from a cartoon network classic while watching the series! Call 919-735-1824 ext 5100 to register. \n 
URL:https://wcpl.org/event/throwback-thursday-2000s-tv-coloring/
LOCATION:Wayne County Public Library – Goldsboro\, 1001 E Ash Street\, Goldsboro\, NC\, 27530\, United States
CATEGORIES:Adult,Goldsboro,Teens
END:VEVENT
BEGIN:VEVENT
DTSTART;TZID=America/New_York:20260401T180000
DTEND;TZID=America/New_York:20260401T193000
DTSTAMP:20260422T133200
CREATED:20260306T134109Z
LAST-MODIFIED:20260306T155300Z
UID:22451-1775066400-1775071800@wcpl.org
SUMMARY:Handmade & Hollywood 
DESCRIPTION:Enjoy crafting and classic movies? Bring your own materials to work on the craft of your choice while we watch a 1948 musical romance starring Judy Garland and Fred Astaire. Call 919-735-1824 ext 5100 for more information! \n 
URL:https://wcpl.org/event/handmade-hollywood-4/
LOCATION:Wayne County Public Library – Goldsboro\, 1001 E Ash Street\, Goldsboro\, NC\, 27530\, United States
CATEGORIES:Adult,Goldsboro
END:VEVENT
BEGIN:VEVENT
DTSTART;TZID=America/New_York:20260401T150000
DTEND;TZID=America/New_York:20260401T160000
DTSTAMP:20260422T133200
CREATED:20260306T133915Z
LAST-MODIFIED:20260306T155216Z
UID:22449-1775055600-1775059200@wcpl.org
SUMMARY:Cardio Drumming (Goldsboro)
DESCRIPTION:Get into a groovy rhythm and work up a sweat with cardio drumming! Space is limited. Call 919-735-1824 ext 5100 to register. \n 
URL:https://wcpl.org/event/cardio-drumming-goldsboro-26/
LOCATION:Wayne County Public Library – Goldsboro\, 1001 E Ash Street\, Goldsboro\, NC\, 27530\, United States
CATEGORIES:Adult,Goldsboro
END:VEVENT
BEGIN:VEVENT
DTSTART;TZID=America/New_York:20260328T140000
DTEND;TZID=America/New_York:20260328T150000
DTSTAMP:20260422T133200
CREATED:20260219T160444Z
LAST-MODIFIED:20260219T160444Z
UID:22369-1774706400-1774710000@wcpl.org
SUMMARY:Origami Hour 
DESCRIPTION:Practice the ancient art of origami! Follow along step-by-step and bring home your own tiny critter! Call 919-735-1824 ext 5100 to register. \n 
URL:https://wcpl.org/event/origami-hour-3/
LOCATION:Wayne County Public Library – Goldsboro\, 1001 E Ash Street\, Goldsboro\, NC\, 27530\, United States
CATEGORIES:Adult,Goldsboro
END:VEVENT
BEGIN:VEVENT
DTSTART;TZID=America/New_York:20260328T100000
DTEND;TZID=America/New_York:20260328T120000
DTSTAMP:20260422T133200
CREATED:20260219T160340Z
LAST-MODIFIED:20260219T160340Z
UID:22373-1774692000-1774699200@wcpl.org
SUMMARY:Reading Tails with Dolly (Goldsboro)
DESCRIPTION:Practice your reading skills with Dolly the therapy dog! She loves to listen to students read. Students will practice their reading skills in a comfortable\, fun setting. Dolly’s owner is a certified teacher that will be glad to share tips along the way to make reading more enjoyable.  By appointment only during the hours of 10:00-12:00pm.  Register here. \n 
URL:https://wcpl.org/event/reading-tails-with-dolly-goldsboro-5/
LOCATION:Wayne County Public Library – Goldsboro\, 1001 E Ash Street\, Goldsboro\, NC\, 27530\, United States
CATEGORIES:Children,Goldsboro
END:VEVENT
BEGIN:VEVENT
DTSTART;TZID=America/New_York:20260326T180000
DTEND;TZID=America/New_York:20260326T190000
DTSTAMP:20260422T133200
CREATED:20260219T155621Z
LAST-MODIFIED:20260219T155621Z
UID:22359-1774548000-1774551600@wcpl.org
SUMMARY:Silent Read N’ Sip
DESCRIPTION:Instead of setting time constraints on yourself to read a certain type of book\, visit a newer type of book club where you can read whatever you want. We’ll begin by talking about what books we are currently reading. Later\, you will silently read the book you brought to our club. Feel free to read print or electronic books. This is meant to be a quiet\, cozy\, and relaxing time for everyone. \n 
URL:https://wcpl.org/event/silent-read-n-sip-7/
LOCATION:Wayne County Public Library – Goldsboro\, 1001 E Ash Street\, Goldsboro\, NC\, 27530\, United States
CATEGORIES:Adult,Goldsboro,Library Book Club
END:VEVENT
BEGIN:VEVENT
DTSTART;TZID=America/New_York:20260326T103000
DTEND;TZID=America/New_York:20260326T110000
DTSTAMP:20260422T133200
CREATED:20260312T130749Z
LAST-MODIFIED:20260312T130833Z
UID:22616-1774521000-1774522800@wcpl.org
SUMMARY:Music and Movement  (Goldsboro)
DESCRIPTION:Let’s move\, groove\, and make some noise!   Music & Movement combines songs\, rhythm\, and play to help little ones grow through joyful motion.  For ages 0 – 5 with a parent or caregiver.  No registration required. \n 
URL:https://wcpl.org/event/music-and-movement-goldsboro-45/
LOCATION:Wayne County Public Library – Goldsboro\, 1001 E Ash Street\, Goldsboro\, NC\, 27530\, United States
CATEGORIES:Children,Goldsboro
END:VEVENT
BEGIN:VEVENT
DTSTART;TZID=America/New_York:20260325T150000
DTEND;TZID=America/New_York:20260325T160000
DTSTAMP:20260422T133200
CREATED:20260219T154932Z
LAST-MODIFIED:20260219T154932Z
UID:22347-1774450800-1774454400@wcpl.org
SUMMARY:Cardio Drumming  (Goldsboro)
DESCRIPTION:Get into a groovy rhythm and work up a sweat with cardio drumming! Space is limited. Call 919-735-1824 ext 5100 to register. \n 
URL:https://wcpl.org/event/cardio-drumming-goldsboro-25/
LOCATION:Wayne County Public Library – Goldsboro\, 1001 E Ash Street\, Goldsboro\, NC\, 27530\, United States
CATEGORIES:Adult,Goldsboro
END:VEVENT
BEGIN:VEVENT
DTSTART;TZID=America/New_York:20260325T103000
DTEND;TZID=America/New_York:20260325T110000
DTSTAMP:20260422T133200
CREATED:20260219T154820Z
LAST-MODIFIED:20260219T154820Z
UID:22345-1774434600-1774436400@wcpl.org
SUMMARY:Storytime  (Goldsboro)
DESCRIPTION:An introduction to books\, reading and language through stories\, songs\, rhymes\, and movement. For ages 3-5 with a parent or caregiver. No registration required. \n 
URL:https://wcpl.org/event/storytime-goldsboro-41/
LOCATION:Wayne County Public Library – Goldsboro\, 1001 E Ash Street\, Goldsboro\, NC\, 27530\, United States
CATEGORIES:Children,Goldsboro
END:VEVENT
BEGIN:VEVENT
DTSTART;TZID=America/New_York:20260325T093000
DTEND;TZID=America/New_York:20260325T100000
DTSTAMP:20260422T133200
CREATED:20260217T184213Z
LAST-MODIFIED:20260217T201722Z
UID:22313-1774431000-1774432800@wcpl.org
SUMMARY:Baby and Me  (Goldsboro)
DESCRIPTION:It’s never too early to fall in love with stories! Join us for gentle songs\, simple stories\, and lots of giggles for our tiniest book lovers.  For ages 0-2 with a parent or caregiver.  No registration required. \n 
URL:https://wcpl.org/event/baby-and-me-goldsboro-37/
LOCATION:Wayne County Public Library – Goldsboro\, 1001 E Ash Street\, Goldsboro\, NC\, 27530\, United States
CATEGORIES:Children,Goldsboro
END:VEVENT
BEGIN:VEVENT
DTSTART;TZID=America/New_York:20260324T173000
DTEND;TZID=America/New_York:20260324T190000
DTSTAMP:20260422T133200
CREATED:20260212T191936Z
LAST-MODIFIED:20260212T213256Z
UID:22122-1774373400-1774378800@wcpl.org
SUMMARY:Writing Workshop: Stories That Stay
DESCRIPTION:Stories That Stay is a monthly memoir writing workshop through the North Carolina Writers Network. Each session offers a space to reflect and connect through personal storytelling and lived experience. All writers are welcome to join and grow their voice. Call 919-735-1824 ext 5100 for more information. \n 
URL:https://wcpl.org/event/writing-workshop-stories-that-stay-3/
LOCATION:Wayne County Public Library – Goldsboro\, 1001 E Ash Street\, Goldsboro\, NC\, 27530\, United States
CATEGORIES:Adult,Goldsboro
END:VEVENT
BEGIN:VEVENT
DTSTART;TZID=America/New_York:20260324T150000
DTEND;TZID=America/New_York:20260324T160000
DTSTAMP:20260422T133200
CREATED:20260217T183518Z
LAST-MODIFIED:20260217T201423Z
UID:22309-1774364400-1774368000@wcpl.org
SUMMARY:New Dawn Inspirational Book Club
DESCRIPTION:Join us as we discuss books of Inspirational Fiction. This month we will be discussing the book Something Worth Doing by Jane Kirkpatrick.  Please call 919-735-1824\, ext. 5102 to register. \n 
URL:https://wcpl.org/event/new-dawn-inspirational-book-club-9/
LOCATION:Wayne County Public Library – Goldsboro\, 1001 E Ash Street\, Goldsboro\, NC\, 27530\, United States
CATEGORIES:Adult,Goldsboro,Library Book Club
END:VEVENT
BEGIN:VEVENT
DTSTART;TZID=America/New_York:20260324T103000
DTEND;TZID=America/New_York:20260324T110000
DTSTAMP:20260422T133200
CREATED:20260216T214519Z
LAST-MODIFIED:20260217T201401Z
UID:22303-1774348200-1774350000@wcpl.org
SUMMARY:Early Explorers
DESCRIPTION:Join us for our kindergarten-readiness program.  For ages 3-5 with a parent or caregiver. Programs will guide children as they learn social skills\, as well as letter\, number\, shape\, and color recognition. No registration required. \n 
URL:https://wcpl.org/event/early-explorers-17/
LOCATION:Wayne County Public Library – Goldsboro\, 1001 E Ash Street\, Goldsboro\, NC\, 27530\, United States
CATEGORIES:Children,Goldsboro
END:VEVENT
BEGIN:VEVENT
DTSTART;TZID=America/New_York:20260319T163000
DTEND;TZID=America/New_York:20260319T173000
DTSTAMP:20260422T133200
CREATED:20260219T162747Z
LAST-MODIFIED:20260219T162747Z
UID:22386-1773937800-1773941400@wcpl.org
SUMMARY:Pokémon Party
DESCRIPTION:For grades 6th-8th.  Join our club for all things Pokémon.  Get a chance to create your own Pokémon card.  No registration required. \n 
URL:https://wcpl.org/event/pokemon-party-2/
LOCATION:Wayne County Public Library – Goldsboro\, 1001 E Ash Street\, Goldsboro\, NC\, 27530\, United States
CATEGORIES:Goldsboro,Tweens
END:VEVENT
BEGIN:VEVENT
DTSTART;TZID=America/New_York:20260319T160000
DTEND;TZID=America/New_York:20260319T170000
DTSTAMP:20260422T133200
CREATED:20260216T213554Z
LAST-MODIFIED:20260312T174451Z
UID:22293-1773936000-1773939600@wcpl.org
SUMMARY:Movie Trivia 
DESCRIPTION:Come test your knowledge of famous flicks! Refreshments will be provided. Call 919-735-1824 ext 5100 to register. \n 
URL:https://wcpl.org/event/movie-trivia/
LOCATION:Wayne County Public Library – Goldsboro\, 1001 E Ash Street\, Goldsboro\, NC\, 27530\, United States
CATEGORIES:Adult,Goldsboro
END:VEVENT
BEGIN:VEVENT
DTSTART;TZID=America/New_York:20260319T103000
DTEND;TZID=America/New_York:20260319T110000
DTSTAMP:20260422T133200
CREATED:20260216T213109Z
LAST-MODIFIED:20260217T200926Z
UID:22287-1773916200-1773918000@wcpl.org
SUMMARY:Music and Movement  (Goldsboro)
DESCRIPTION:Let’s move\, groove\, and make some noise!   Music & Movement combines songs\, rhythm\, and play to help little ones grow through joyful motion.  For ages 0 – 5 with a parent or caregiver.  No registration required. \n 
URL:https://wcpl.org/event/music-and-movement-goldsboro-44/
LOCATION:Wayne County Public Library – Goldsboro\, 1001 E Ash Street\, Goldsboro\, NC\, 27530\, United States
CATEGORIES:Children,Goldsboro
END:VEVENT
BEGIN:VEVENT
DTSTART;TZID=America/New_York:20260318T180000
DTEND;TZID=America/New_York:20260318T190000
DTSTAMP:20260422T133200
CREATED:20260216T212743Z
LAST-MODIFIED:20260217T200832Z
UID:22283-1773856800-1773860400@wcpl.org
SUMMARY:Paint & Sip Coffee
DESCRIPTION:Paint a picture with us – all skill levels welcomed and encouraged! Registration required. Call (919) 735-1824 ext 5102 or email jamie.tyler@waynegov.com to register. \n 
URL:https://wcpl.org/event/paint-sip-coffee-4/
LOCATION:Wayne County Public Library – Goldsboro\, 1001 E Ash Street\, Goldsboro\, NC\, 27530\, United States
CATEGORIES:Adult,Goldsboro
END:VEVENT
BEGIN:VEVENT
DTSTART;TZID=America/New_York:20260318T150000
DTEND;TZID=America/New_York:20260318T160000
DTSTAMP:20260422T133200
CREATED:20260216T212616Z
LAST-MODIFIED:20260217T200758Z
UID:22281-1773846000-1773849600@wcpl.org
SUMMARY:Cardio Drumming  (Goldsboro)
DESCRIPTION:Get into a groovy rhythm and work up a sweat with cardio drumming! Space is limited. Call 919-735-1824 ext 5100 to register. \n 
URL:https://wcpl.org/event/cardio-drumming-goldsboro-24/
LOCATION:Wayne County Public Library – Goldsboro\, 1001 E Ash Street\, Goldsboro\, NC\, 27530\, United States
CATEGORIES:Adult,Goldsboro
END:VEVENT
BEGIN:VEVENT
DTSTART;TZID=America/New_York:20260318T103000
DTEND;TZID=America/New_York:20260318T110000
DTSTAMP:20260422T133200
CREATED:20260216T212457Z
LAST-MODIFIED:20260217T200733Z
UID:22279-1773829800-1773831600@wcpl.org
SUMMARY:Storytime  (Goldsboro)
DESCRIPTION:An introduction to books\, reading and language through stories\, songs\, rhymes\, and movement. For ages 3-5 with a parent or caregiver. No registration required. \n 
URL:https://wcpl.org/event/storytime-goldsboro-40/
LOCATION:Wayne County Public Library – Goldsboro\, 1001 E Ash Street\, Goldsboro\, NC\, 27530\, United States
CATEGORIES:Children,Goldsboro
END:VEVENT
BEGIN:VEVENT
DTSTART;TZID=America/New_York:20260318T093000
DTEND;TZID=America/New_York:20260318T100000
DTSTAMP:20260422T133200
CREATED:20260216T211356Z
LAST-MODIFIED:20260217T200518Z
UID:22271-1773826200-1773828000@wcpl.org
SUMMARY:Baby and Me  (Goldsboro)
DESCRIPTION:It’s never too early to fall in love with stories! Join us for gentle songs\, simple stories\, and lots of giggles for our tiniest book lovers.  For ages 0-2 with a parent or caregiver.  No registration required. \n 
URL:https://wcpl.org/event/baby-and-me-goldsboro-36/
LOCATION:Wayne County Public Library – Goldsboro\, 1001 E Ash Street\, Goldsboro\, NC\, 27530\, United States
CATEGORIES:Children,Goldsboro
END:VEVENT
BEGIN:VEVENT
DTSTART;TZID=America/New_York:20260317T173000
DTEND;TZID=America/New_York:20260317T183000
DTSTAMP:20260422T133200
CREATED:20260216T211229Z
LAST-MODIFIED:20260217T200446Z
UID:22269-1773768600-1773772200@wcpl.org
SUMMARY:Goldsboro Cross Stitchers 
DESCRIPTION:Come be a part of the Goldsboro Cross Stitchers! Connect with others who enjoy the art of cross stitch and learn helpful tips and tricks! Call 919-735-1825 ext 5100 for more information. \n 
URL:https://wcpl.org/event/goldsboro-cross-stitchers-12/
LOCATION:Wayne County Public Library – Goldsboro\, 1001 E Ash Street\, Goldsboro\, NC\, 27530\, United States
CATEGORIES:Adult,Goldsboro,Needlework
END:VEVENT
BEGIN:VEVENT
DTSTART;TZID=America/New_York:20260317T163000
DTEND;TZID=America/New_York:20260317T173000
DTSTAMP:20260422T133200
CREATED:20260219T162426Z
LAST-MODIFIED:20260219T162426Z
UID:22384-1773765000-1773768600@wcpl.org
SUMMARY:Pokémon Party
DESCRIPTION:For grades K-5th.  Join our club for all things Pokémon.  Get a chance to create your own Pokémon card.  No registration required. \n 
URL:https://wcpl.org/event/pokemon-party/
LOCATION:Wayne County Public Library – Goldsboro\, 1001 E Ash Street\, Goldsboro\, NC\, 27530\, United States
CATEGORIES:Children,Goldsboro
END:VEVENT
BEGIN:VEVENT
DTSTART;TZID=America/New_York:20260317T140000
DTEND;TZID=America/New_York:20260317T150000
DTSTAMP:20260422T133200
CREATED:20260216T210908Z
LAST-MODIFIED:20260216T210908Z
UID:22265-1773756000-1773759600@wcpl.org
SUMMARY:What’s That Say?
DESCRIPTION:Learn tips and tricks for reading cursive handwriting on historical documents during this informational session. Call 919-735-1824 ext 5100 to register. \n 
URL:https://wcpl.org/event/whats-that-say/
LOCATION:Wayne County Public Library – Goldsboro\, 1001 E Ash Street\, Goldsboro\, NC\, 27530\, United States
CATEGORIES:Adult,Goldsboro,Local History
END:VEVENT
BEGIN:VEVENT
DTSTART;TZID=America/New_York:20260317T103000
DTEND;TZID=America/New_York:20260317T110000
DTSTAMP:20260422T133200
CREATED:20260216T210241Z
LAST-MODIFIED:20260217T200327Z
UID:22263-1773743400-1773745200@wcpl.org
SUMMARY:Early Explorers
DESCRIPTION:Join us for our kindergarten-readiness program.  For ages 3-5 with a parent or caregiver. Programs will guide children as they learn social skills\, as well as letter\, number\, shape\, and color recognition. No registration required. \n 
URL:https://wcpl.org/event/early-explorers-16/
LOCATION:Wayne County Public Library – Goldsboro\, 1001 E Ash Street\, Goldsboro\, NC\, 27530\, United States
CATEGORIES:Children,Goldsboro
END:VEVENT
BEGIN:VEVENT
DTSTART;TZID=America/New_York:20260316T180000
DTEND;TZID=America/New_York:20260316T190000
DTSTAMP:20260422T133200
CREATED:20260213T192732Z
LAST-MODIFIED:20260213T200535Z
UID:22254-1773684000-1773687600@wcpl.org
SUMMARY:Origami Hour 
DESCRIPTION:Practice the ancient art of origami! Follow along step-by-step and bring home your own tiny critter! Call 919-735-1824 ext 5100 to register. \n 
URL:https://wcpl.org/event/origami-hour-2/
LOCATION:Wayne County Public Library – Goldsboro\, 1001 E Ash Street\, Goldsboro\, NC\, 27530\, United States
CATEGORIES:Adult,Goldsboro
END:VEVENT
BEGIN:VEVENT
DTSTART;TZID=America/New_York:20260316T143000
DTEND;TZID=America/New_York:20260316T153000
DTSTAMP:20260422T133200
CREATED:20260213T192527Z
LAST-MODIFIED:20260213T200508Z
UID:22252-1773671400-1773675000@wcpl.org
SUMMARY:Why Knot? Knit & Crochet Group 
DESCRIPTION:Do you like to knit or crochet? Gather with like-minded enthusiasts to practice the craft and share tips\, tricks\, and resources! Bring your own materials. Call 919-735-1824 ext 5100 for more information. \n 
URL:https://wcpl.org/event/why-knot-knit-crochet-group-2/
LOCATION:Wayne County Public Library – Goldsboro\, 1001 E Ash Street\, Goldsboro\, NC\, 27530\, United States
CATEGORIES:Adult,Goldsboro,Needlework
END:VEVENT
BEGIN:VEVENT
DTSTART;TZID=America/New_York:20260314T100000
DTEND;TZID=America/New_York:20260314T110000
DTSTAMP:20260422T133200
CREATED:20260213T192004Z
LAST-MODIFIED:20260213T200409Z
UID:22248-1773482400-1773486000@wcpl.org
SUMMARY:Audiobook Trekkers 
DESCRIPTION:Do you enjoy listening to audiobooks? Walk while you listen to your favorite stories or find a new one! The group will meet at Reedy Creek Greenway behind UNC Health Wayne. For more information\, call 919-735-1824 ext 5100. \n 
URL:https://wcpl.org/event/audiobook-trekkers-6/
LOCATION:Reedy Branch Greenway\, 2700 Wayne Memorial Dr\, Goldsboro\, NC\, 27534\, United States
CATEGORIES:Adult,Goldsboro,Library Book Club
END:VEVENT
BEGIN:VEVENT
DTSTART;TZID=America/New_York:20260313T150000
DTEND;TZID=America/New_York:20260313T160000
DTSTAMP:20260422T133200
CREATED:20260213T191732Z
LAST-MODIFIED:20260213T200327Z
UID:22246-1773414000-1773417600@wcpl.org
SUMMARY:Music Bingo: Love Songs  
DESCRIPTION:Grab a card\, listen to some groovy love songs\, and win a prize! Call 919-735-1824 ext 5100 to register. \n 
URL:https://wcpl.org/event/music-bingo-love-songs-2/
LOCATION:Wayne County Public Library – Goldsboro\, 1001 E Ash Street\, Goldsboro\, NC\, 27530\, United States
CATEGORIES:Adult,Goldsboro
END:VEVENT
END:VCALENDAR