BEGIN:VCALENDAR
VERSION:2.0
PRODID:-//Wayne County Public Library - ECPv6.15.20//NONSGML v1.0//EN
CALSCALE:GREGORIAN
METHOD:PUBLISH
X-ORIGINAL-URL:https://wcpl.org
X-WR-CALDESC:Events for Wayne County Public Library
REFRESH-INTERVAL;VALUE=DURATION:PT1H
X-Robots-Tag:noindex
X-PUBLISHED-TTL:PT1H
BEGIN:VTIMEZONE
TZID:America/New_York
BEGIN:DAYLIGHT
TZOFFSETFROM:-0500
TZOFFSETTO:-0400
TZNAME:EDT
DTSTART:20240310T070000
END:DAYLIGHT
BEGIN:STANDARD
TZOFFSETFROM:-0400
TZOFFSETTO:-0500
TZNAME:EST
DTSTART:20241103T060000
END:STANDARD
BEGIN:DAYLIGHT
TZOFFSETFROM:-0500
TZOFFSETTO:-0400
TZNAME:EDT
DTSTART:20250309T070000
END:DAYLIGHT
BEGIN:STANDARD
TZOFFSETFROM:-0400
TZOFFSETTO:-0500
TZNAME:EST
DTSTART:20251102T060000
END:STANDARD
BEGIN:DAYLIGHT
TZOFFSETFROM:-0500
TZOFFSETTO:-0400
TZNAME:EDT
DTSTART:20260308T070000
END:DAYLIGHT
BEGIN:STANDARD
TZOFFSETFROM:-0400
TZOFFSETTO:-0500
TZNAME:EST
DTSTART:20261101T060000
END:STANDARD
BEGIN:DAYLIGHT
TZOFFSETFROM:-0500
TZOFFSETTO:-0400
TZNAME:EDT
DTSTART:20270314T070000
END:DAYLIGHT
BEGIN:STANDARD
TZOFFSETFROM:-0400
TZOFFSETTO:-0500
TZNAME:EST
DTSTART:20271107T060000
END:STANDARD
END:VTIMEZONE
BEGIN:VEVENT
DTSTART;TZID=America/New_York:20260108T103000
DTEND;TZID=America/New_York:20260108T110000
DTSTAMP:20260423T141823
CREATED:20251217T172249Z
LAST-MODIFIED:20251217T172249Z
UID:21440-1767868200-1767870000@wcpl.org
SUMMARY:Music and Movement  (Goldsboro)
DESCRIPTION:Let’s move\, groove\, and make some noise!   Music & Movement combines songs\, rhythm\, and play to help little ones grow through joyful motion.  For ages 0 – 5 with a parent or caregiver.  No registration required. \n 
URL:https://wcpl.org/event/music-and-movement-goldsboro-37/
LOCATION:Wayne County Public Library – Goldsboro\, 1001 E Ash Street\, Goldsboro\, NC\, 27530\, United States
CATEGORIES:Children,Goldsboro
END:VEVENT
BEGIN:VEVENT
DTSTART;TZID=America/New_York:20260107T150000
DTEND;TZID=America/New_York:20260107T160000
DTSTAMP:20260423T141823
CREATED:20251209T170158Z
LAST-MODIFIED:20251209T170158Z
UID:21360-1767798000-1767801600@wcpl.org
SUMMARY:Cardio Drumming  (Goldsboro)
DESCRIPTION:Join us for Cardio Drumming. Work up a sweat and get into a groovy rhythm! Call 919-735-1824 ext 5100 to register! \n 
URL:https://wcpl.org/event/cardio-drumming-goldsboro-20/
LOCATION:Wayne County Public Library – Goldsboro\, 1001 E Ash Street\, Goldsboro\, NC\, 27530\, United States
CATEGORIES:Adult,Goldsboro
END:VEVENT
BEGIN:VEVENT
DTSTART;TZID=America/New_York:20260107T103000
DTEND;TZID=America/New_York:20260107T110000
DTSTAMP:20260423T141823
CREATED:20251217T171540Z
LAST-MODIFIED:20251217T171540Z
UID:21432-1767781800-1767783600@wcpl.org
SUMMARY:Storytime  (Goldsboro)
DESCRIPTION:An introduction to books\, reading and language through stories\, songs\, rhymes\, and movement. For ages 3-5 with a parent or caregiver. No registration required. \n 
URL:https://wcpl.org/event/storytime-goldsboro-30/
LOCATION:Wayne County Public Library – Goldsboro\, 1001 E Ash Street\, Goldsboro\, NC\, 27530\, United States
CATEGORIES:Children,Goldsboro
END:VEVENT
BEGIN:VEVENT
DTSTART;TZID=America/New_York:20260107T093000
DTEND;TZID=America/New_York:20260107T100000
DTSTAMP:20260423T141823
CREATED:20251217T170231Z
LAST-MODIFIED:20251217T170231Z
UID:21424-1767778200-1767780000@wcpl.org
SUMMARY:Baby and Me  (Goldsboro)
DESCRIPTION:It’s never too early to fall in love with stories! Join us for gentle songs\, simple stories\, and lots of giggles for our tiniest book lovers.  For ages 0-2 with a parent or caregiver.  No registration required. \n 
URL:https://wcpl.org/event/baby-and-me-goldsboro-26/
LOCATION:Wayne County Public Library – Goldsboro\, 1001 E Ash Street\, Goldsboro\, NC\, 27530\, United States
CATEGORIES:Children,Goldsboro
END:VEVENT
BEGIN:VEVENT
DTSTART;TZID=America/New_York:20260106T163000
DTEND;TZID=America/New_York:20260106T173000
DTSTAMP:20260423T141823
CREATED:20251217T180206Z
LAST-MODIFIED:20251217T180206Z
UID:21448-1767717000-1767720600@wcpl.org
SUMMARY:STEAM Club (Goldsboro)
DESCRIPTION:For grades K-5th.  Join us for STEAM — hands-on fun with science experiments\, art projects\, and creative challenges that spark imagination and discovery!  No registration required. \n 
URL:https://wcpl.org/event/steam-club-goldsboro-5/
LOCATION:Wayne County Public Library – Goldsboro\, 1001 E Ash Street\, Goldsboro\, NC\, 27530\, United States
CATEGORIES:Children,Goldsboro
END:VEVENT
BEGIN:VEVENT
DTSTART;TZID=America/New_York:20260106T140000
DTEND;TZID=America/New_York:20260106T150000
DTSTAMP:20260423T141823
CREATED:20251209T165955Z
LAST-MODIFIED:20251209T165955Z
UID:21358-1767708000-1767711600@wcpl.org
SUMMARY:Blank Page Society 
DESCRIPTION:Join us for a bullet journaling session\, where will we learn the bujo system\, set up a new planner\, and start the year off right! All materials will be provided but feel free to bring your own for a personal touch. Call 919-735-1824 ext 5100 to register. \n 
URL:https://wcpl.org/event/blank-page-society-5/
LOCATION:Wayne County Public Library – Goldsboro\, 1001 E Ash Street\, Goldsboro\, NC\, 27530\, United States
CATEGORIES:Adult,Goldsboro
END:VEVENT
BEGIN:VEVENT
DTSTART;TZID=America/New_York:20260106T103000
DTEND;TZID=America/New_York:20260106T110000
DTSTAMP:20260423T141823
CREATED:20251217T164732Z
LAST-MODIFIED:20251217T164732Z
UID:21416-1767695400-1767697200@wcpl.org
SUMMARY:Early Explorers
DESCRIPTION:Join us for our kindergarten-readiness program.  For ages 3-5 with a parent or caregiver. Programs will guide children as they learn social skills\, as well as letter\, number\, shape\, and color recognition. No registration required. \n 
URL:https://wcpl.org/event/early-explorers-6/
LOCATION:Wayne County Public Library – Goldsboro\, 1001 E Ash Street\, Goldsboro\, NC\, 27530\, United States
CATEGORIES:Children,Goldsboro
END:VEVENT
BEGIN:VEVENT
DTSTART;TZID=America/New_York:20260105T180000
DTEND;TZID=America/New_York:20260105T190000
DTSTAMP:20260423T141823
CREATED:20251209T165526Z
LAST-MODIFIED:20251209T165526Z
UID:21352-1767636000-1767639600@wcpl.org
SUMMARY:TV Hour: Home Improvement 
DESCRIPTION:Celebrate the best of television with our weekly watch party! Enjoy the heartfelt sitcom that taught us that the best improvement happens within. Registration highly recommended. Seating is limited. Call 919-735-1824 ext 5100 to register!  \n 
URL:https://wcpl.org/event/tv-hour-home-improvement/
LOCATION:Wayne County Public Library – Goldsboro\, 1001 E Ash Street\, Goldsboro\, NC\, 27530\, United States
CATEGORIES:Adult,Goldsboro
END:VEVENT
BEGIN:VEVENT
DTSTART;TZID=America/New_York:20251222T190000
DTEND;TZID=America/New_York:20251222T200000
DTSTAMP:20260423T141823
CREATED:20251120T170921Z
LAST-MODIFIED:20251120T213323Z
UID:21160-1766430000-1766433600@wcpl.org
SUMMARY:Mystery Blanket Knit Along
DESCRIPTION:Knit along with us as we make a blanket\, one square at a time. What will the final blanket design look like?  That’s the mystery!  Come by on the last meeting of the Mystery Blanket Knit Along to discuss how to plan the design using the 6 individual squares.  Open to all skill levels. Check here for previous months’ pattern instructions.  For more information email Jamie.walton@waynegov.com. \n 
URL:https://wcpl.org/event/mystery-blanket-knit-along-4/
LOCATION:Wayne County Public Library – Goldsboro\, 1001 E Ash Street\, Goldsboro\, NC\, 27530\, United States
CATEGORIES:Adult,Goldsboro,Needlework
END:VEVENT
BEGIN:VEVENT
DTSTART;TZID=America/New_York:20251220T100000
DTEND;TZID=America/New_York:20251220T110000
DTSTAMP:20260423T141823
CREATED:20251106T190016Z
LAST-MODIFIED:20251106T192012Z
UID:21036-1766224800-1766228400@wcpl.org
SUMMARY:Audiobook Trekkers 
DESCRIPTION:Do you enjoy listening to audiobooks? Walk while you listen! We will meet at Reedy Branch Greenway behind UNC Health Wayne. Registration is suggested. For more information\, please call 919-735-1824 ext 5100. \n 
URL:https://wcpl.org/event/audiobook-trekkers-3/
LOCATION:Reedy Branch Greenway\, 2700 Wayne Memorial Dr\, Goldsboro\, NC\, 27534\, United States
CATEGORIES:Adult,Goldsboro,Library Book Club
END:VEVENT
BEGIN:VEVENT
DTSTART;TZID=America/New_York:20251218T160000
DTEND;TZID=America/New_York:20251218T170000
DTSTAMP:20260423T141823
CREATED:20251106T184740Z
LAST-MODIFIED:20251106T184740Z
UID:21034-1766073600-1766077200@wcpl.org
SUMMARY:Learning Microfilm 
DESCRIPTION:Have you ever been in the newspaper? Maybe you are looking for a wedding announcement or your football team’s photo. Come learn how to use microfilm and access local news dated back to the 1800s!  Call 919-735-1824 ext 5100 to register. \n 
URL:https://wcpl.org/event/learning-microfilm-2/
LOCATION:Wayne County Public Library – Goldsboro\, 1001 E Ash Street\, Goldsboro\, NC\, 27530\, United States
CATEGORIES:Adult,Goldsboro,Local History
END:VEVENT
BEGIN:VEVENT
DTSTART;TZID=America/New_York:20251218T140000
DTEND;TZID=America/New_York:20251218T150000
DTSTAMP:20260423T141823
CREATED:20251106T184605Z
LAST-MODIFIED:20251117T164800Z
UID:21032-1766066400-1766070000@wcpl.org
SUMMARY:Christmas with the Waterbound Dulcimers
DESCRIPTION:Get into the holiday spirit with the Waterbound Dulcimers! Join us and listen to some holiday tunes played on traditional mountain dulcimers. Call 919-735-1824 ext 5100 for more information. \n 
URL:https://wcpl.org/event/christmas-with-the-waterbound-dulcimers-3/
LOCATION:Wayne County Public Library – Goldsboro\, 1001 E Ash Street\, Goldsboro\, NC\, 27530\, United States
CATEGORIES:Families,Goldsboro,Holiday
END:VEVENT
BEGIN:VEVENT
DTSTART;TZID=America/New_York:20251217T150000
DTEND;TZID=America/New_York:20251217T160000
DTSTAMP:20260423T141823
CREATED:20251106T181736Z
LAST-MODIFIED:20251106T181736Z
UID:21018-1765983600-1765987200@wcpl.org
SUMMARY:Cardio Drumming  (Goldsboro)
DESCRIPTION:Join us for Cardio Drumming. Work up a sweat and get into a groovy rhythm! Call 919-735-1824 ext 5100 to register! \n 
URL:https://wcpl.org/event/cardio-drumming-goldsboro-19/
LOCATION:Wayne County Public Library – Goldsboro\, 1001 E Ash Street\, Goldsboro\, NC\, 27530\, United States
CATEGORIES:Adult,Goldsboro
END:VEVENT
BEGIN:VEVENT
DTSTART;TZID=America/New_York:20251216T173000
DTEND;TZID=America/New_York:20251216T183000
DTSTAMP:20260423T141823
CREATED:20251125T201014Z
LAST-MODIFIED:20251125T201014Z
UID:21220-1765906200-1765909800@wcpl.org
SUMMARY:Stories That Stay Writing Workshop
DESCRIPTION:Stories That Stay is a monthly memoir writing workshop through the North Carolina Writers Network. Each session offers a space to reflect and connect through personal storytelling lived experience. All writers are welcome to join and grow their voice in a supportive setting built on honesty\, courage\, and community.  Call to join 919-735-1824 ext. 1830. \n 
URL:https://wcpl.org/event/stories-that-stay/
LOCATION:Wayne County Public Library – Goldsboro\, 1001 E Ash Street\, Goldsboro\, NC\, 27530\, United States
CATEGORIES:Adult,Goldsboro
END:VEVENT
BEGIN:VEVENT
DTSTART;TZID=America/New_York:20251216T173000
DTEND;TZID=America/New_York:20251216T183000
DTSTAMP:20260423T141823
CREATED:20251106T184423Z
LAST-MODIFIED:20251120T200800Z
UID:21030-1765906200-1765909800@wcpl.org
SUMMARY:Goldsboro Cross Stitchers 
DESCRIPTION:Join us for the Goldsboro Cross stitchers! Connect with other people who enjoy cross stitch and learn new tips and tricks! Please call 919-735-1824 ext 5100 to learn more. \n 
URL:https://wcpl.org/event/goldsboro-cross-stitchers-10/
LOCATION:Wayne County Public Library – Goldsboro\, 1001 E Ash Street\, Goldsboro\, NC\, 27530\, United States
CATEGORIES:Adult,Goldsboro,Needlework
END:VEVENT
BEGIN:VEVENT
DTSTART;TZID=America/New_York:20251216T160000
DTEND;TZID=America/New_York:20251216T170000
DTSTAMP:20260423T141823
CREATED:20251106T184257Z
LAST-MODIFIED:20251106T184257Z
UID:21028-1765900800-1765904400@wcpl.org
SUMMARY:Documentary Day 
DESCRIPTION:Join us as we watch the PBS documentary “Finding your Roots: Born Champions.” Henry Louis Gates Jr. sits with three famous athletes to discover their family histories! Call 919-735-1824 ext 5100 to register. \n 
URL:https://wcpl.org/event/documentary-day/
LOCATION:Wayne County Public Library – Goldsboro\, 1001 E Ash Street\, Goldsboro\, NC\, 27530\, United States
CATEGORIES:Adult,Goldsboro,Local History
END:VEVENT
BEGIN:VEVENT
DTSTART;TZID=America/New_York:20251215T180000
DTEND;TZID=America/New_York:20251215T193000
DTSTAMP:20260423T141823
CREATED:20251106T181117Z
LAST-MODIFIED:20251106T191133Z
UID:21012-1765821600-1765827000@wcpl.org
SUMMARY:TV Hour: Family Matters
DESCRIPTION:Celebrate the best of television with our weekly watch party! Snack on a cheese platter and relive the laughs\, the dances\, and the inventions! Registration highly recommended. Seating is limited.  Please call 919-735-1824 ext 5100 to register. \n 
URL:https://wcpl.org/event/tv-hour-family-matters-2/
LOCATION:Wayne County Public Library – Goldsboro\, 1001 E Ash Street\, Goldsboro\, NC\, 27530\, United States
CATEGORIES:Adult,Goldsboro,Teens
END:VEVENT
BEGIN:VEVENT
DTSTART;TZID=America/New_York:20251215T143000
DTEND;TZID=America/New_York:20251215T153000
DTSTAMP:20260423T141823
CREATED:20251106T183801Z
LAST-MODIFIED:20251120T200857Z
UID:21026-1765809000-1765812600@wcpl.org
SUMMARY:Why Knot?: Knit and Crochet Group 
DESCRIPTION:Do you enjoy knitting and crochet? Join like-minded enthusiasts to knit or crochet and share tips\, tricks\, and resources. Bring your own materials. Please call 919-735-1824 ext 5100 for more information. \n 
URL:https://wcpl.org/event/why-knot-knit-and-crochet-group-4/
LOCATION:Wayne County Public Library – Goldsboro\, 1001 E Ash Street\, Goldsboro\, NC\, 27530\, United States
CATEGORIES:Adult,Goldsboro,Needlework
END:VEVENT
BEGIN:VEVENT
DTSTART;TZID=America/New_York:20251213T140000
DTEND;TZID=America/New_York:20251213T153000
DTSTAMP:20260423T141823
CREATED:20251106T183038Z
LAST-MODIFIED:20251106T183038Z
UID:21024-1765634400-1765639800@wcpl.org
SUMMARY:Studio Ghibli Fan Club
DESCRIPTION:Say a heartfelt goodbye to Miyazaki with our final Studio Ghibli Fan Club. Enjoy the daring tale\, Princess Mononoke\, while carving beautiful stamps. Registration is required. Please call 919-735-1824 ext 5100. \n 
URL:https://wcpl.org/event/studio-ghibli-fan-club-7/
LOCATION:Wayne County Public Library – Goldsboro\, 1001 E Ash Street\, Goldsboro\, NC\, 27530\, United States
CATEGORIES:Adult,Goldsboro
END:VEVENT
BEGIN:VEVENT
DTSTART;TZID=America/New_York:20251211T163000
DTEND;TZID=America/New_York:20251211T173000
DTSTAMP:20260423T141823
CREATED:20251110T160026Z
LAST-MODIFIED:20251110T160026Z
UID:21088-1765470600-1765474200@wcpl.org
SUMMARY:Tween LEGO Club (Goldsboro)
DESCRIPTION:Join us for an afternoon of LEGO building! Complete monthly challenges or design your own creation. For grades 6th-8th. No registration required. \n 
URL:https://wcpl.org/event/tween-lego-club-goldsboro-4/
LOCATION:Wayne County Public Library – Goldsboro\, 1001 E Ash Street\, Goldsboro\, NC\, 27530\, United States
CATEGORIES:Goldsboro,Tweens
END:VEVENT
BEGIN:VEVENT
DTSTART;TZID=America/New_York:20251211T150000
DTEND;TZID=America/New_York:20251211T160000
DTSTAMP:20260423T141823
CREATED:20251106T182411Z
LAST-MODIFIED:20251106T182411Z
UID:21022-1765465200-1765468800@wcpl.org
SUMMARY:Tech for Older Adults 
DESCRIPTION:Are you an older adult who wants to learn more about technology? We can help! Come join us as we answer your questions and help with your basic technology needs! Call 919-735-1824 ext 5100 to register. \n 
URL:https://wcpl.org/event/tech-for-older-adults-9/
LOCATION:Wayne County Public Library – Goldsboro\, 1001 E Ash Street\, Goldsboro\, NC\, 27530\, United States
CATEGORIES:Adult,Goldsboro
END:VEVENT
BEGIN:VEVENT
DTSTART;TZID=America/New_York:20251211T103000
DTEND;TZID=America/New_York:20251211T110000
DTSTAMP:20260423T141823
CREATED:20251110T155244Z
LAST-MODIFIED:20251110T155244Z
UID:21080-1765449000-1765450800@wcpl.org
SUMMARY:Music and Movement  (Goldsboro)
DESCRIPTION:Let’s move\, groove\, and make some noise!   Music & Movement combines songs\, rhythm\, and play to help little ones grow through joyful motion.  For ages 0 – 5 with a parent or caregiver.  No registration required. \n 
URL:https://wcpl.org/event/music-and-movement-goldsboro-36/
LOCATION:Wayne County Public Library – Goldsboro\, 1001 E Ash Street\, Goldsboro\, NC\, 27530\, United States
CATEGORIES:Children,Goldsboro
END:VEVENT
BEGIN:VEVENT
DTSTART;TZID=America/New_York:20251210T180000
DTEND;TZID=America/New_York:20251210T190000
DTSTAMP:20260423T141823
CREATED:20251106T181858Z
LAST-MODIFIED:20251117T164158Z
UID:21020-1765389600-1765393200@wcpl.org
SUMMARY:Wellness Wednesday – Healthy Holidays 
DESCRIPTION:Join us for our monthly Wellness Wednesday Series. UNC Health Wayne Librarian will offer a session on tips for a healthy holiday season. Call 919-735-1824 ext 5100 to register or for more information. \n 
URL:https://wcpl.org/event/wellness-wednesday-healthy-holidays/
LOCATION:Wayne County Public Library – Goldsboro\, 1001 E Ash Street\, Goldsboro\, NC\, 27530\, United States
CATEGORIES:Adult,Goldsboro,Holiday
END:VEVENT
BEGIN:VEVENT
DTSTART;TZID=America/New_York:20251210T150000
DTEND;TZID=America/New_York:20251210T160000
DTSTAMP:20260423T141823
CREATED:20251106T181438Z
LAST-MODIFIED:20251106T181438Z
UID:21016-1765378800-1765382400@wcpl.org
SUMMARY:Cardio Drumming  (Goldsboro)
DESCRIPTION:Join us for Cardio Drumming. Work up a sweat and get into a groovy rhythm! Call 919-735-1824 ext 5100 to register! \n 
URL:https://wcpl.org/event/cardio-drumming-goldsboro-18/
LOCATION:Wayne County Public Library – Goldsboro\, 1001 E Ash Street\, Goldsboro\, NC\, 27530\, United States
CATEGORIES:Adult,Goldsboro
END:VEVENT
BEGIN:VEVENT
DTSTART;TZID=America/New_York:20251210T103000
DTEND;TZID=America/New_York:20251210T110000
DTSTAMP:20260423T141823
CREATED:20251110T154945Z
LAST-MODIFIED:20251110T154945Z
UID:21076-1765362600-1765364400@wcpl.org
SUMMARY:Storytime  (Goldsboro)
DESCRIPTION:An introduction to books\, reading and language through stories\, songs\, rhymes\, and movement. For ages 3-5 with a parent or caregiver. No registration required. \n 
URL:https://wcpl.org/event/storytime-goldsboro-29/
LOCATION:Wayne County Public Library – Goldsboro\, 1001 E Ash Street\, Goldsboro\, NC\, 27530\, United States
CATEGORIES:Children,Goldsboro
END:VEVENT
BEGIN:VEVENT
DTSTART;TZID=America/New_York:20251210T093000
DTEND;TZID=America/New_York:20251210T100000
DTSTAMP:20260423T141823
CREATED:20251110T154632Z
LAST-MODIFIED:20251110T154632Z
UID:21072-1765359000-1765360800@wcpl.org
SUMMARY:Baby and Me  (Goldsboro)
DESCRIPTION:It’s never too early to fall in love with stories! Join us for gentle songs\, simple stories\, and lots of giggles for our tiniest book lovers.  For ages 0-2 with a parent or caregiver.  No registration required. \n 
URL:https://wcpl.org/event/baby-and-me-goldsboro-25/
LOCATION:Wayne County Public Library – Goldsboro\, 1001 E Ash Street\, Goldsboro\, NC\, 27530\, United States
CATEGORIES:Children,Goldsboro
END:VEVENT
BEGIN:VEVENT
DTSTART;TZID=America/New_York:20251209T170000
DTEND;TZID=America/New_York:20251209T183000
DTSTAMP:20260423T141823
CREATED:20251008T173606Z
LAST-MODIFIED:20251209T170715Z
UID:20580-1765299600-1765305000@wcpl.org
SUMMARY:Studio Ghibli Fan Club
DESCRIPTION:Enjoy an afternoon of crafting\, snacks\, and Ghibli. We’ll be screening “Castle in the Sky” while building our own zen gardens! Registration is required. Call 919-735-1824 ext 5100 to register. \n 
URL:https://wcpl.org/event/studio-ghibli-fan-club-6/
LOCATION:Wayne County Public Library – Goldsboro\, 1001 E Ash Street\, Goldsboro\, NC\, 27530\, United States
CATEGORIES:Adult,Goldsboro,Teens
END:VEVENT
BEGIN:VEVENT
DTSTART;TZID=America/New_York:20251209T163000
DTEND;TZID=America/New_York:20251209T173000
DTSTAMP:20260423T141823
CREATED:20251110T155643Z
LAST-MODIFIED:20251110T155643Z
UID:21084-1765297800-1765301400@wcpl.org
SUMMARY:LEGO Club  (Goldsboro)
DESCRIPTION:Join us for an afternoon of LEGO building! Complete monthly challenges or design your own creation.  For grades K-5th. No registration required. \n 
URL:https://wcpl.org/event/lego-club-goldsboro-4/
LOCATION:Wayne County Public Library – Goldsboro\, 1001 E Ash Street\, Goldsboro\, NC\, 27530\, United States
CATEGORIES:Children,Goldsboro
END:VEVENT
BEGIN:VEVENT
DTSTART;TZID=America/New_York:20251209T140000
DTEND;TZID=America/New_York:20251209T150000
DTSTAMP:20260423T141823
CREATED:20251106T181301Z
LAST-MODIFIED:20251106T181301Z
UID:21014-1765288800-1765292400@wcpl.org
SUMMARY:Blank Page Society 
DESCRIPTION:Interesting in journaling but don’t know where to start? Join the Blank Page Society for uninterrupted writing time\, fun prompts\, and optional sharing. All materials provided\, but feel free to bring your own! Please call 919-735-1824 ext 5100 to register. We’ll be meeting in the Local History Room. \n 
URL:https://wcpl.org/event/blank-page-society-4/
LOCATION:Wayne County Public Library – Goldsboro\, 1001 E Ash Street\, Goldsboro\, NC\, 27530\, United States
CATEGORIES:Adult,Goldsboro
END:VEVENT
BEGIN:VEVENT
DTSTART;TZID=America/New_York:20251209T103000
DTEND;TZID=America/New_York:20251209T110000
DTSTAMP:20260423T141823
CREATED:20251110T154233Z
LAST-MODIFIED:20251110T154233Z
UID:21068-1765276200-1765278000@wcpl.org
SUMMARY:Early Explorers
DESCRIPTION:Join us for our kindergarten-readiness program.  For ages 3-5 with a parent or caregiver. Programs will guide children as they learn social skills\, as well as letter\, number\, shape\, and color recognition. No registration required. \n 
URL:https://wcpl.org/event/early-explorers-5/
LOCATION:Wayne County Public Library – Goldsboro\, 1001 E Ash Street\, Goldsboro\, NC\, 27530\, United States
CATEGORIES:Children,Goldsboro
END:VEVENT
END:VCALENDAR