BEGIN:VCALENDAR
VERSION:2.0
PRODID:-//Wayne County Public Library - ECPv6.15.20//NONSGML v1.0//EN
CALSCALE:GREGORIAN
METHOD:PUBLISH
X-ORIGINAL-URL:https://wcpl.org
X-WR-CALDESC:Events for Wayne County Public Library
REFRESH-INTERVAL;VALUE=DURATION:PT1H
X-Robots-Tag:noindex
X-PUBLISHED-TTL:PT1H
BEGIN:VTIMEZONE
TZID:America/New_York
BEGIN:DAYLIGHT
TZOFFSETFROM:-0500
TZOFFSETTO:-0400
TZNAME:EDT
DTSTART:20250309T070000
END:DAYLIGHT
BEGIN:STANDARD
TZOFFSETFROM:-0400
TZOFFSETTO:-0500
TZNAME:EST
DTSTART:20251102T060000
END:STANDARD
BEGIN:DAYLIGHT
TZOFFSETFROM:-0500
TZOFFSETTO:-0400
TZNAME:EDT
DTSTART:20260308T070000
END:DAYLIGHT
BEGIN:STANDARD
TZOFFSETFROM:-0400
TZOFFSETTO:-0500
TZNAME:EST
DTSTART:20261101T060000
END:STANDARD
BEGIN:DAYLIGHT
TZOFFSETFROM:-0500
TZOFFSETTO:-0400
TZNAME:EDT
DTSTART:20270314T070000
END:DAYLIGHT
BEGIN:STANDARD
TZOFFSETFROM:-0400
TZOFFSETTO:-0500
TZNAME:EST
DTSTART:20271107T060000
END:STANDARD
END:VTIMEZONE
BEGIN:VEVENT
DTSTART;TZID=America/New_York:20260219T163000
DTEND;TZID=America/New_York:20260219T173000
DTSTAMP:20260423T005550
CREATED:20260121T181940Z
LAST-MODIFIED:20260121T181940Z
UID:21942-1771518600-1771522200@wcpl.org
SUMMARY:Tween Art Night
DESCRIPTION:Discover the Art of Perspective! Join our One-Point Perspective Art Workshop and learn how to bring depth and dimension to your drawings. Perfect for beginners and budding artists who want to add realism to their art! For grades 6th-8th. No registration required. \n 
URL:https://wcpl.org/event/tween-art-night/
LOCATION:Wayne County Public Library – Goldsboro\, 1001 E Ash Street\, Goldsboro\, NC\, 27530\, United States
CATEGORIES:Goldsboro,Tweens
END:VEVENT
BEGIN:VEVENT
DTSTART;TZID=America/New_York:20260219T150000
DTEND;TZID=America/New_York:20260219T160000
DTSTAMP:20260423T005550
CREATED:20260107T141622Z
LAST-MODIFIED:20260204T193434Z
UID:21672-1771513200-1771516800@wcpl.org
SUMMARY:Researching Black History with Fold3 
DESCRIPTION:Come join us as we learn to navigate Fold3\, a military history database\, to research the history of African American soldiers. Call 919-735-1824 ext 5100 to register. \n 
URL:https://wcpl.org/event/researching-black-history-with-fold3/
LOCATION:Wayne County Public Library – Goldsboro\, 1001 E Ash Street\, Goldsboro\, NC\, 27530\, United States
CATEGORIES:Adult,Black History,Goldsboro,Local History
ATTACH;FMTTYPE=image/png:https://wcpl.org/wp-content/uploads/2026/01/Fold3-event-image-2.png
END:VEVENT
BEGIN:VEVENT
DTSTART;TZID=America/New_York:20260219T103000
DTEND;TZID=America/New_York:20260219T110000
DTSTAMP:20260423T005550
CREATED:20260120T210237Z
LAST-MODIFIED:20260120T210237Z
UID:21920-1771497000-1771498800@wcpl.org
SUMMARY:Music and Movement  (Goldsboro)
DESCRIPTION:Let’s move\, groove\, and make some noise!   Music & Movement combines songs\, rhythm\, and play to help little ones grow through joyful motion.  For ages 0 – 5 with a parent or caregiver.  No registration required. \n 
URL:https://wcpl.org/event/music-and-movement-goldsboro-41/
LOCATION:Wayne County Public Library – Goldsboro\, 1001 E Ash Street\, Goldsboro\, NC\, 27530\, United States
CATEGORIES:Children,Goldsboro
END:VEVENT
BEGIN:VEVENT
DTSTART;TZID=America/New_York:20260218T103000
DTEND;TZID=America/New_York:20260218T110000
DTSTAMP:20260423T005550
CREATED:20260120T205428Z
LAST-MODIFIED:20260120T205428Z
UID:21912-1771410600-1771412400@wcpl.org
SUMMARY:Storytime  (Goldsboro)
DESCRIPTION:An introduction to books\, reading and language through stories\, songs\, rhymes\, and movement. For ages 3-5 with a parent or caregiver. No registration required. \n 
URL:https://wcpl.org/event/storytime-goldsboro-36/
LOCATION:Wayne County Public Library – Goldsboro\, 1001 E Ash Street\, Goldsboro\, NC\, 27530\, United States
CATEGORIES:Children,Goldsboro
END:VEVENT
BEGIN:VEVENT
DTSTART;TZID=America/New_York:20260218T093000
DTEND;TZID=America/New_York:20260218T100000
DTSTAMP:20260423T005550
CREATED:20260120T204522Z
LAST-MODIFIED:20260120T204522Z
UID:21904-1771407000-1771408800@wcpl.org
SUMMARY:Baby and Me  (Goldsboro)
DESCRIPTION:It’s never too early to fall in love with stories! Join us for gentle songs\, simple stories\, and lots of giggles for our tiniest book lovers.  For ages 0-2 with a parent or caregiver.  No registration required. \n 
URL:https://wcpl.org/event/baby-and-me-goldsboro-32/
LOCATION:Wayne County Public Library – Goldsboro\, 1001 E Ash Street\, Goldsboro\, NC\, 27530\, United States
CATEGORIES:Children,Goldsboro
END:VEVENT
BEGIN:VEVENT
DTSTART;TZID=America/New_York:20260217T163000
DTEND;TZID=America/New_York:20260217T173000
DTSTAMP:20260423T005550
CREATED:20260121T181726Z
LAST-MODIFIED:20260121T181726Z
UID:21940-1771345800-1771349400@wcpl.org
SUMMARY:Elementary Art Night
DESCRIPTION:Discover the Art of Perspective!  Join our One-Point Perspective Art Workshop and learn how to bring depth and dimension to your drawings. Perfect for beginners and budding artists who want to add realism to their art!  For grades K-5th.  No registration required. \n 
URL:https://wcpl.org/event/elementary-art-night/
LOCATION:Wayne County Public Library – Goldsboro\, 1001 E Ash Street\, Goldsboro\, NC\, 27530\, United States
CATEGORIES:Children,Goldsboro
END:VEVENT
BEGIN:VEVENT
DTSTART;TZID=America/New_York:20260217T140000
DTEND;TZID=America/New_York:20260217T150000
DTSTAMP:20260423T005550
CREATED:20260107T141437Z
LAST-MODIFIED:20260205T214429Z
UID:21670-1771336800-1771340400@wcpl.org
SUMMARY:Black Genealogy 
DESCRIPTION:Are you interested in your ancestry or creating a family tree? Join us to learn more about genealogical research for black and African American families and what resources Local History can offer you! Call 919-735-1824 ext 5100 to register. \n 
URL:https://wcpl.org/event/black-genealogy-3/
LOCATION:Wayne County Public Library – Goldsboro\, 1001 E Ash Street\, Goldsboro\, NC\, 27530\, United States
CATEGORIES:Adult,Black History,Goldsboro,Local History
ATTACH;FMTTYPE=image/png:https://wcpl.org/wp-content/uploads/2026/01/Black-Genealogy.png
END:VEVENT
BEGIN:VEVENT
DTSTART;TZID=America/New_York:20260217T103000
DTEND;TZID=America/New_York:20260217T110000
DTSTAMP:20260423T005550
CREATED:20260120T204003Z
LAST-MODIFIED:20260120T204003Z
UID:21896-1771324200-1771326000@wcpl.org
SUMMARY:Early Explorers
DESCRIPTION:Join us for our kindergarten-readiness program.  For ages 3-5 with a parent or caregiver. Programs will guide children as they learn social skills\, as well as letter\, number\, shape\, and color recognition. No registration required. \n 
URL:https://wcpl.org/event/early-explorers-12/
LOCATION:Wayne County Public Library – Goldsboro\, 1001 E Ash Street\, Goldsboro\, NC\, 27530\, United States
CATEGORIES:Children,Goldsboro
END:VEVENT
BEGIN:VEVENT
DTSTART;TZID=America/New_York:20260216T143000
DTEND;TZID=America/New_York:20260216T153000
DTSTAMP:20260423T005550
CREATED:20260107T141228Z
LAST-MODIFIED:20260108T201756Z
UID:21668-1771252200-1771255800@wcpl.org
SUMMARY:Why Knot?
DESCRIPTION:Do you enjoy knitting and crochet? Join like-minded enthusiasts to knit or crochet and share tips\, tricks and resources. Bring your own materials.  Call 919-735-1824 ext. 5100 for more information. \n 
URL:https://wcpl.org/event/why-knot/
LOCATION:Wayne County Public Library – Goldsboro\, 1001 E Ash Street\, Goldsboro\, NC\, 27530\, United States
CATEGORIES:Adult,Goldsboro
END:VEVENT
BEGIN:VEVENT
DTSTART;TZID=America/New_York:20260212T173000
DTEND;TZID=America/New_York:20260212T190000
DTSTAMP:20260423T005550
CREATED:20260107T132635Z
LAST-MODIFIED:20260204T171900Z
UID:21650-1770917400-1770922800@wcpl.org
SUMMARY:Handmade & Hollywood 
DESCRIPTION:Join us for an evening of crafting and classic cinema! Bring your own materials for the craft of your choice while we celebrate Valentine’s Day with a comedy starring Robert Walker and Ava Gardner as Venus\, the Goddess of Love! Call 919-735-1824 ext 5100 for more information! \n 
URL:https://wcpl.org/event/handmade-hollywood-2/
LOCATION:Wayne County Public Library – Goldsboro\, 1001 E Ash Street\, Goldsboro\, NC\, 27530\, United States
CATEGORIES:Adult,Goldsboro
END:VEVENT
BEGIN:VEVENT
DTSTART;TZID=America/New_York:20260212T163000
DTEND;TZID=America/New_York:20260212T173000
DTSTAMP:20260423T005550
CREATED:20260121T182219Z
LAST-MODIFIED:20260121T182219Z
UID:21944-1770913800-1770917400@wcpl.org
SUMMARY:Tween LEGO Club (Goldsboro)
DESCRIPTION:Join us for an afternoon of LEGO building! Complete monthly challenges or design your own creation. For grades 6th-8th. No registration required. \n 
URL:https://wcpl.org/event/tween-lego-club-goldsboro-6/
LOCATION:Wayne County Public Library – Goldsboro\, 1001 E Ash Street\, Goldsboro\, NC\, 27530\, United States
CATEGORIES:Goldsboro,Tweens
END:VEVENT
BEGIN:VEVENT
DTSTART;TZID=America/New_York:20260212T150000
DTEND;TZID=America/New_York:20260212T160000
DTSTAMP:20260423T005550
CREATED:20260107T140928Z
LAST-MODIFIED:20260108T201516Z
UID:21666-1770908400-1770912000@wcpl.org
SUMMARY:Valentine Bookmark Coloring 
DESCRIPTION:Love is in the air! Join us for an afternoon of socializing and coloring Valentine themed bookmarks! Call 919-735-1824 ext 5100 to register. \n 
URL:https://wcpl.org/event/valentine-bookmark-coloring/
LOCATION:Wayne County Public Library – Goldsboro\, 1001 E Ash Street\, Goldsboro\, NC\, 27530\, United States
CATEGORIES:Adult,Goldsboro
END:VEVENT
BEGIN:VEVENT
DTSTART;TZID=America/New_York:20260212T103000
DTEND;TZID=America/New_York:20260212T110000
DTSTAMP:20260423T005550
CREATED:20260120T205835Z
LAST-MODIFIED:20260120T205835Z
UID:21918-1770892200-1770894000@wcpl.org
SUMMARY:Music and Movement  (Goldsboro)
DESCRIPTION:Let’s move\, groove\, and make some noise!   Music & Movement combines songs\, rhythm\, and play to help little ones grow through joyful motion.  For ages 0 – 5 with a parent or caregiver.  No registration required. \n 
URL:https://wcpl.org/event/music-and-movement-goldsboro-2/
LOCATION:Wayne County Public Library – Goldsboro\, 1001 E Ash Street\, Goldsboro\, NC\, 27530\, United States
CATEGORIES:Children,Goldsboro
END:VEVENT
BEGIN:VEVENT
DTSTART;TZID=America/New_York:20260211T180000
DTEND;TZID=America/New_York:20260211T190000
DTSTAMP:20260423T005550
CREATED:20260107T140731Z
LAST-MODIFIED:20260108T201357Z
UID:21664-1770832800-1770836400@wcpl.org
SUMMARY:Wellness Wednesday: Heart Health 
DESCRIPTION:February is American Heart month! Join us for our monthly Wellness Wednesday Series where  UNC Health Wayne Librarian Sylvia Judd will offer a session on tips and information about heart health. \n 
URL:https://wcpl.org/event/wellness-wednesday-heart-health-2/
LOCATION:Wayne County Public Library – Goldsboro\, 1001 E Ash Street\, Goldsboro\, NC\, 27530\, United States
CATEGORIES:Adult,Goldsboro
END:VEVENT
BEGIN:VEVENT
DTSTART;TZID=America/New_York:20260211T103000
DTEND;TZID=America/New_York:20260211T110000
DTSTAMP:20260423T005550
CREATED:20260120T205323Z
LAST-MODIFIED:20260120T205323Z
UID:21910-1770805800-1770807600@wcpl.org
SUMMARY:Storytime  (Goldsboro)
DESCRIPTION:An introduction to books\, reading and language through stories\, songs\, rhymes\, and movement. For ages 3-5 with a parent or caregiver. No registration required. \n 
URL:https://wcpl.org/event/storytime-goldsboro-35/
LOCATION:Wayne County Public Library – Goldsboro\, 1001 E Ash Street\, Goldsboro\, NC\, 27530\, United States
CATEGORIES:Children,Goldsboro
END:VEVENT
BEGIN:VEVENT
DTSTART;TZID=America/New_York:20260211T093000
DTEND;TZID=America/New_York:20260211T100000
DTSTAMP:20260423T005550
CREATED:20260120T204403Z
LAST-MODIFIED:20260120T204403Z
UID:21902-1770802200-1770804000@wcpl.org
SUMMARY:Baby and Me  (Goldsboro)
DESCRIPTION:It’s never too early to fall in love with stories! Join us for gentle songs\, simple stories\, and lots of giggles for our tiniest book lovers.  For ages 0-2 with a parent or caregiver.  No registration required. \n 
URL:https://wcpl.org/event/baby-and-me-goldsboro-31/
LOCATION:Wayne County Public Library – Goldsboro\, 1001 E Ash Street\, Goldsboro\, NC\, 27530\, United States
CATEGORIES:Children,Goldsboro
END:VEVENT
BEGIN:VEVENT
DTSTART;TZID=America/New_York:20260210T173000
DTEND;TZID=America/New_York:20260210T190000
DTSTAMP:20260423T005550
CREATED:20260107T140519Z
LAST-MODIFIED:20260108T201142Z
UID:21662-1770744600-1770750000@wcpl.org
SUMMARY:Writing Workshop: Stories that Stay 
DESCRIPTION:Stories That Stay is a monthly memoir writing workshop through the North Carolina Writers’ Network. Each session offers a space to reflect and connect through personal storytelling and lived experience. All writers are welcome to join and grow their voice in a supportive setting. Call 919-735-1824 ext 5100 to register. \n 
URL:https://wcpl.org/event/writing-workshop-stories-that-stay-2/
LOCATION:Wayne County Public Library – Goldsboro\, 1001 E Ash Street\, Goldsboro\, NC\, 27530\, United States
CATEGORIES:Adult,Goldsboro
END:VEVENT
BEGIN:VEVENT
DTSTART;TZID=America/New_York:20260210T163000
DTEND;TZID=America/New_York:20260210T173000
DTSTAMP:20260423T005550
CREATED:20260121T145300Z
LAST-MODIFIED:20260121T145300Z
UID:21924-1770741000-1770744600@wcpl.org
SUMMARY:LEGO Club  (Goldsboro)
DESCRIPTION:Join us for an afternoon of LEGO building! Complete monthly challenges or design your own creation.  For grades K-5th. No registration required. \n 
URL:https://wcpl.org/event/lego-club-goldsboro-6/
LOCATION:Wayne County Public Library – Goldsboro\, 1001 E Ash Street\, Goldsboro\, NC\, 27530\, United States
CATEGORIES:Children,Goldsboro
END:VEVENT
BEGIN:VEVENT
DTSTART;TZID=America/New_York:20260210T140000
DTEND;TZID=America/New_York:20260210T153000
DTSTAMP:20260423T005550
CREATED:20260107T133445Z
LAST-MODIFIED:20260108T201022Z
UID:21660-1770732000-1770737400@wcpl.org
SUMMARY:Blank Page Society 
DESCRIPTION:Want to start journaling but don’t know where to start? Join the Blank Page Society for uninterrupted writing time\, fun prompts\, and optional sharing. All materials provided\, but feel free to bring your own! Call 919-735-1824 ext 5100 to register. \n 
URL:https://wcpl.org/event/blank-page-society-6/
LOCATION:Wayne County Public Library – Goldsboro\, 1001 E Ash Street\, Goldsboro\, NC\, 27530\, United States
CATEGORIES:Adult,Goldsboro
END:VEVENT
BEGIN:VEVENT
DTSTART;TZID=America/New_York:20260210T103000
DTEND;TZID=America/New_York:20260210T110000
DTSTAMP:20260423T005550
CREATED:20260120T203846Z
LAST-MODIFIED:20260120T203846Z
UID:21894-1770719400-1770721200@wcpl.org
SUMMARY:Early Explorers
DESCRIPTION:Join us for our kindergarten-readiness program.  For ages 3-5 with a parent or caregiver. Programs will guide children as they learn social skills\, as well as letter\, number\, shape\, and color recognition. No registration required. \n 
URL:https://wcpl.org/event/early-explorers-11/
LOCATION:Wayne County Public Library – Goldsboro\, 1001 E Ash Street\, Goldsboro\, NC\, 27530\, United States
CATEGORIES:Children,Goldsboro
END:VEVENT
BEGIN:VEVENT
DTSTART;TZID=America/New_York:20260209T180000
DTEND;TZID=America/New_York:20260209T190000
DTSTAMP:20260423T005550
CREATED:20260107T133241Z
LAST-MODIFIED:20260108T200827Z
UID:21658-1770660000-1770663600@wcpl.org
SUMMARY:Transparent Language 
DESCRIPTION:Interested in learning a new language? Join us and learn step-by-step how to use the library’s language-learning resource Transparent Language! Instructions will be given in English; handouts will be available in English and Spanish. Space is limited. Registration is required. Call 919-735-1824 ext 5100 to register. \n 
URL:https://wcpl.org/event/transparent-language/
LOCATION:Wayne County Public Library – Goldsboro\, 1001 E Ash Street\, Goldsboro\, NC\, 27530\, United States
CATEGORIES:Adult,Goldsboro
END:VEVENT
BEGIN:VEVENT
DTSTART;TZID=America/New_York:20260209T150000
DTEND;TZID=America/New_York:20260209T160000
DTSTAMP:20260423T005550
CREATED:20260107T133104Z
LAST-MODIFIED:20260108T200800Z
UID:21656-1770649200-1770652800@wcpl.org
SUMMARY:Healthy Living For Your Brain & Body 
DESCRIPTION:Join us for a session focusing on habits to aid in the prevention of Alzheimer’s Disease. This program is presented in conjunction with the American Alzheimer’s Association. Call 919-735-1824 ext 5100 to register. \n 
URL:https://wcpl.org/event/healthy-living-for-your-brain-body/
LOCATION:Wayne County Public Library – Goldsboro\, 1001 E Ash Street\, Goldsboro\, NC\, 27530\, United States
CATEGORIES:Adult,Goldsboro
END:VEVENT
BEGIN:VEVENT
DTSTART;TZID=America/New_York:20260207T100000
DTEND;TZID=America/New_York:20260207T113000
DTSTAMP:20260423T005550
CREATED:20260107T132923Z
LAST-MODIFIED:20260108T200651Z
UID:21654-1770458400-1770463800@wcpl.org
SUMMARY:Adult Crafting: Floating Tea Cups 
DESCRIPTION:Join us as we design and create a beautiful flower arrangement using a tea cup\, saucer\, flowers\, and a little imagination! Registration required. Call 919-735-1824 ext 5100 to register. \n 
URL:https://wcpl.org/event/adult-crafting-floating-tea-cups/
LOCATION:Wayne County Public Library – Goldsboro\, 1001 E Ash Street\, Goldsboro\, NC\, 27530\, United States
CATEGORIES:Adult,Goldsboro
END:VEVENT
BEGIN:VEVENT
DTSTART;TZID=America/New_York:20260205T163000
DTEND;TZID=America/New_York:20260205T173000
DTSTAMP:20260423T005550
CREATED:20260121T182340Z
LAST-MODIFIED:20260121T182340Z
UID:21946-1770309000-1770312600@wcpl.org
SUMMARY:Tween STEAM Club
DESCRIPTION:Join us for STEAM — hands-on fun with science experiments\, art projects\, and creative challenges that spark imagination and discovery!  For grades 6th-8th. No registration required. \n  \n 
URL:https://wcpl.org/event/tween-steam-club-4/
LOCATION:Wayne County Public Library – Goldsboro\, 1001 E Ash Street\, Goldsboro\, NC\, 27530\, United States
CATEGORIES:Goldsboro,Tweens
END:VEVENT
BEGIN:VEVENT
DTSTART;TZID=America/New_York:20260205T150000
DTEND;TZID=America/New_York:20260205T160000
DTSTAMP:20260423T005550
CREATED:20260107T132800Z
LAST-MODIFIED:20260108T200227Z
UID:21652-1770303600-1770307200@wcpl.org
SUMMARY:Tech for Older Adults 
DESCRIPTION:Are you an older adult who wants to learn more about technology? We can help! Join us as we help with your basic technological needs!   Call 919-735-1824 ext 5100 to register. \n 
URL:https://wcpl.org/event/tech-for-older-adults-10/
LOCATION:Wayne County Public Library – Goldsboro\, 1001 E Ash Street\, Goldsboro\, NC\, 27530\, United States
CATEGORIES:Adult,Goldsboro
END:VEVENT
BEGIN:VEVENT
DTSTART;TZID=America/New_York:20260205T103000
DTEND;TZID=America/New_York:20260205T110000
DTSTAMP:20260423T005550
CREATED:20260120T205726Z
LAST-MODIFIED:20260120T205726Z
UID:21916-1770287400-1770289200@wcpl.org
SUMMARY:Music and Movement  (Goldsboro)
DESCRIPTION:Let’s move\, groove\, and make some noise!   Music & Movement combines songs\, rhythm\, and play to help little ones grow through joyful motion.  For ages 0 – 5 with a parent or caregiver.  No registration required. \n 
URL:https://wcpl.org/event/music-and-movement-goldsboro/
LOCATION:Wayne County Public Library – Goldsboro\, 1001 E Ash Street\, Goldsboro\, NC\, 27530\, United States
CATEGORIES:Children,Goldsboro
END:VEVENT
BEGIN:VEVENT
DTSTART;TZID=America/New_York:20260204T150000
DTEND;TZID=America/New_York:20260204T160000
DTSTAMP:20260423T005550
CREATED:20260107T132513Z
LAST-MODIFIED:20260108T200039Z
UID:21648-1770217200-1770220800@wcpl.org
SUMMARY:Cardio Drumming (Goldsboro)
DESCRIPTION:Try something new this year and join us for cardio drumming! Work up a sweat and get into a groovy rhythm. Call 919-735-1824 ext 5100 to register!
URL:https://wcpl.org/event/cardio-drumming-goldsboro-23/
LOCATION:Wayne County Public Library – Goldsboro\, 1001 E Ash Street\, Goldsboro\, NC\, 27530\, United States
CATEGORIES:Adult,Goldsboro
END:VEVENT
BEGIN:VEVENT
DTSTART;TZID=America/New_York:20260204T103000
DTEND;TZID=America/New_York:20260204T110000
DTSTAMP:20260423T005550
CREATED:20260120T205215Z
LAST-MODIFIED:20260120T205215Z
UID:21908-1770201000-1770202800@wcpl.org
SUMMARY:Storytime  (Goldsboro)
DESCRIPTION:An introduction to books\, reading and language through stories\, songs\, rhymes\, and movement. For ages 3-5 with a parent or caregiver. No registration required. \n 
URL:https://wcpl.org/event/storytime-goldsboro-34/
LOCATION:Wayne County Public Library – Goldsboro\, 1001 E Ash Street\, Goldsboro\, NC\, 27530\, United States
CATEGORIES:Children,Goldsboro
END:VEVENT
BEGIN:VEVENT
DTSTART;TZID=America/New_York:20260204T093000
DTEND;TZID=America/New_York:20260204T100000
DTSTAMP:20260423T005550
CREATED:20260120T204249Z
LAST-MODIFIED:20260120T204249Z
UID:21900-1770197400-1770199200@wcpl.org
SUMMARY:Baby and Me  (Goldsboro)
DESCRIPTION:It’s never too early to fall in love with stories! Join us for gentle songs\, simple stories\, and lots of giggles for our tiniest book lovers.  For ages 0-2 with a parent or caregiver.  No registration required. \n 
URL:https://wcpl.org/event/baby-and-me-goldsboro-30/
LOCATION:Wayne County Public Library – Goldsboro\, 1001 E Ash Street\, Goldsboro\, NC\, 27530\, United States
CATEGORIES:Children,Goldsboro
END:VEVENT
BEGIN:VEVENT
DTSTART;TZID=America/New_York:20260203T163000
DTEND;TZID=America/New_York:20260203T173000
DTSTAMP:20260423T005550
CREATED:20260121T145420Z
LAST-MODIFIED:20260121T145420Z
UID:21926-1770136200-1770139800@wcpl.org
SUMMARY:STEAM Club (Goldsboro)
DESCRIPTION:Join us for STEAM — hands-on fun with science experiments\, art projects\, and creative challenges that spark imagination and discovery!  For grades K-5th. No registration required. \n 
URL:https://wcpl.org/event/steam-club-goldsboro-6/
LOCATION:Wayne County Public Library – Goldsboro\, 1001 E Ash Street\, Goldsboro\, NC\, 27530\, United States
CATEGORIES:Children,Goldsboro
END:VEVENT
END:VCALENDAR