BEGIN:VCALENDAR
VERSION:2.0
PRODID:-//Wayne County Public Library - ECPv6.15.20//NONSGML v1.0//EN
CALSCALE:GREGORIAN
METHOD:PUBLISH
X-ORIGINAL-URL:https://wcpl.org
X-WR-CALDESC:Events for Wayne County Public Library
REFRESH-INTERVAL;VALUE=DURATION:PT1H
X-Robots-Tag:noindex
X-PUBLISHED-TTL:PT1H
BEGIN:VTIMEZONE
TZID:America/New_York
BEGIN:DAYLIGHT
TZOFFSETFROM:-0500
TZOFFSETTO:-0400
TZNAME:EDT
DTSTART:20250309T070000
END:DAYLIGHT
BEGIN:STANDARD
TZOFFSETFROM:-0400
TZOFFSETTO:-0500
TZNAME:EST
DTSTART:20251102T060000
END:STANDARD
BEGIN:DAYLIGHT
TZOFFSETFROM:-0500
TZOFFSETTO:-0400
TZNAME:EDT
DTSTART:20260308T070000
END:DAYLIGHT
BEGIN:STANDARD
TZOFFSETFROM:-0400
TZOFFSETTO:-0500
TZNAME:EST
DTSTART:20261101T060000
END:STANDARD
BEGIN:DAYLIGHT
TZOFFSETFROM:-0500
TZOFFSETTO:-0400
TZNAME:EDT
DTSTART:20270314T070000
END:DAYLIGHT
BEGIN:STANDARD
TZOFFSETFROM:-0400
TZOFFSETTO:-0500
TZNAME:EST
DTSTART:20271107T060000
END:STANDARD
END:VTIMEZONE
BEGIN:VEVENT
DTSTART;TZID=America/New_York:20260422T093000
DTEND;TZID=America/New_York:20260422T100000
DTSTAMP:20260422T083528
CREATED:20260312T173426Z
LAST-MODIFIED:20260312T173627Z
UID:22670-1776850200-1776852000@wcpl.org
SUMMARY:Baby and Me  (Goldsboro)
DESCRIPTION:It’s never too early to fall in love with stories! Join us for gentle songs\, simple stories\, and lots of giggles for our tiniest book lovers.  For ages 0-2 with a parent or caregiver.  No registration required. \n 
URL:https://wcpl.org/event/baby-and-me-goldsboro-41/
LOCATION:Wayne County Public Library – Goldsboro\, 1001 E Ash Street\, Goldsboro\, NC\, 27530\, United States
CATEGORIES:Children,Goldsboro
END:VEVENT
BEGIN:VEVENT
DTSTART;TZID=America/New_York:20260422T103000
DTEND;TZID=America/New_York:20260422T110000
DTSTAMP:20260422T083528
CREATED:20260312T173743Z
LAST-MODIFIED:20260312T173945Z
UID:22673-1776853800-1776855600@wcpl.org
SUMMARY:Storytime  (Goldsboro)
DESCRIPTION:An introduction to books\, reading and language through stories\, songs\, rhymes\, and movement. For ages 3-5 with a parent or caregiver. No registration required. \n 
URL:https://wcpl.org/event/storytime-goldsboro-45/
LOCATION:Wayne County Public Library – Goldsboro\, 1001 E Ash Street\, Goldsboro\, NC\, 27530\, United States
CATEGORIES:Children,Goldsboro
END:VEVENT
BEGIN:VEVENT
DTSTART;TZID=America/New_York:20260422T180000
DTEND;TZID=America/New_York:20260422T190000
DTSTAMP:20260422T083528
CREATED:20260309T145841Z
LAST-MODIFIED:20260309T182653Z
UID:22563-1776880800-1776884400@wcpl.org
SUMMARY:Mini Macrame Plant Holders 
DESCRIPTION:Celebrate Earth Day by making a groovy mini macrame plant holder!  Space is limited. Registration required. To register\, call 919.735.1824 ext 5100. \n 
URL:https://wcpl.org/event/mini-macrame-plant-holders/
LOCATION:Wayne County Public Library – Goldsboro\, 1001 E Ash Street\, Goldsboro\, NC\, 27530\, United States
CATEGORIES:Adult,Goldsboro
END:VEVENT
BEGIN:VEVENT
DTSTART;TZID=America/New_York:20260423T103000
DTEND;TZID=America/New_York:20260423T110000
DTSTAMP:20260422T083528
CREATED:20260312T174919Z
LAST-MODIFIED:20260312T175154Z
UID:22677-1776940200-1776942000@wcpl.org
SUMMARY:Music and Movement  (Goldsboro)
DESCRIPTION:Let’s move\, groove\, and make some noise!   Music & Movement combines songs\, rhythm\, and play to help little ones grow through joyful motion.  For ages 0 – 5 with a parent or caregiver.  No registration required. \n 
URL:https://wcpl.org/event/music-and-movement-goldsboro-49/
LOCATION:Wayne County Public Library – Goldsboro\, 1001 E Ash Street\, Goldsboro\, NC\, 27530\, United States
CATEGORIES:Children,Goldsboro
END:VEVENT
BEGIN:VEVENT
DTSTART;TZID=America/New_York:20260423T163000
DTEND;TZID=America/New_York:20260423T173000
DTSTAMP:20260422T083528
CREATED:20260312T175339Z
LAST-MODIFIED:20260312T175511Z
UID:22680-1776961800-1776965400@wcpl.org
SUMMARY:Pokémon Party
DESCRIPTION:For grades 6th-8th.  Join our club for all things Pokémon.  No registration required. \n 
URL:https://wcpl.org/event/pokemon-party-4/
LOCATION:Wayne County Public Library – Goldsboro\, 1001 E Ash Street\, Goldsboro\, NC\, 27530\, United States
CATEGORIES:Goldsboro,Tweens
END:VEVENT
BEGIN:VEVENT
DTSTART;TZID=America/New_York:20260423T180000
DTEND;TZID=America/New_York:20260423T190000
DTSTAMP:20260422T083528
CREATED:20260311T123342Z
LAST-MODIFIED:20260311T123425Z
UID:22610-1776967200-1776970800@wcpl.org
SUMMARY:Silent Read N’ Sip
DESCRIPTION:Instead of setting time constraints on yourself to read a certain type of book\, visit a newer type of book club where you can read whatever you want. We’ll begin by talking about what books we are currently reading. Later\, you will silently read the book you brought to our club. Feel free to read print or electronic books. This is meant to be a quiet\, cozy\, and relaxing time for everyone. \n 
URL:https://wcpl.org/event/silent-read-n-sip-8/
LOCATION:Wayne County Public Library – Goldsboro\, 1001 E Ash Street\, Goldsboro\, NC\, 27530\, United States
CATEGORIES:Adult,Goldsboro,Library Book Club
END:VEVENT
BEGIN:VEVENT
DTSTART;TZID=America/New_York:20260428T103000
DTEND;TZID=America/New_York:20260428T110000
DTSTAMP:20260422T083528
CREATED:20260312T175644Z
LAST-MODIFIED:20260312T175816Z
UID:22683-1777372200-1777374000@wcpl.org
SUMMARY:Early Explorers
DESCRIPTION:Join us for our kindergarten-readiness program.  For ages 3-5 with a parent or caregiver. Programs will guide children as they learn social skills\, as well as letter\, number\, shape\, and color recognition. No registration required. \n 
URL:https://wcpl.org/event/early-explorers-45/
LOCATION:Wayne County Public Library – Goldsboro\, 1001 E Ash Street\, Goldsboro\, NC\, 27530\, United States
CATEGORIES:Children,Goldsboro
END:VEVENT
BEGIN:VEVENT
DTSTART;TZID=America/New_York:20260428T150000
DTEND;TZID=America/New_York:20260428T160000
DTSTAMP:20260422T083528
CREATED:20260309T161213Z
LAST-MODIFIED:20260309T183035Z
UID:22588-1777388400-1777392000@wcpl.org
SUMMARY:New Dawn Inspirational Book Club 
DESCRIPTION:Join us as we discuss books of Inspirational Fiction.  Please call 919-735-1824\, ext. 5102 to register. \nThis month we will be discussing the book On Hummingbird Wings by Lauraine Snelling \n 
URL:https://wcpl.org/event/new-dawn-inspirational-book-club-10/
LOCATION:Wayne County Public Library – Goldsboro\, 1001 E Ash Street\, Goldsboro\, NC\, 27530\, United States
CATEGORIES:Adult,Goldsboro,Library Book Club
END:VEVENT
BEGIN:VEVENT
DTSTART;TZID=America/New_York:20260428T180000
DTEND;TZID=America/New_York:20260428T190000
DTSTAMP:20260422T083528
CREATED:20260309T161554Z
LAST-MODIFIED:20260309T183121Z
UID:22592-1777399200-1777402800@wcpl.org
SUMMARY:Origami Hour 
DESCRIPTION:Practice the ancient art of origami! Follow along step-by-step and bring home your own tiny critter. Registration required. Call 919-735-1824 ext 5100 to register. \n 
URL:https://wcpl.org/event/origami-hour-4/
LOCATION:Wayne County Public Library – Goldsboro\, 1001 E Ash Street\, Goldsboro\, NC\, 27530\, United States
CATEGORIES:Adult,Goldsboro
END:VEVENT
BEGIN:VEVENT
DTSTART;TZID=America/New_York:20260429T093000
DTEND;TZID=America/New_York:20260429T100000
DTSTAMP:20260422T083528
CREATED:20260312T175945Z
LAST-MODIFIED:20260312T180117Z
UID:22686-1777455000-1777456800@wcpl.org
SUMMARY:Baby and Me  (Goldsboro)
DESCRIPTION:It’s never too early to fall in love with stories! Join us for gentle songs\, simple stories\, and lots of giggles for our tiniest book lovers.  For ages 0-2 with a parent or caregiver.  No registration required. \n 
URL:https://wcpl.org/event/baby-and-me-goldsboro-42/
LOCATION:Wayne County Public Library – Goldsboro\, 1001 E Ash Street\, Goldsboro\, NC\, 27530\, United States
CATEGORIES:Children,Goldsboro
END:VEVENT
BEGIN:VEVENT
DTSTART;TZID=America/New_York:20260429T103000
DTEND;TZID=America/New_York:20260429T110000
DTSTAMP:20260422T083528
CREATED:20260312T180245Z
LAST-MODIFIED:20260312T180444Z
UID:22689-1777458600-1777460400@wcpl.org
SUMMARY:Storytime  (Goldsboro)
DESCRIPTION:An introduction to books\, reading and language through stories\, songs\, rhymes\, and movement. For ages 3-5 with a parent or caregiver. No registration required. \n 
URL:https://wcpl.org/event/storytime-goldsboro-46/
LOCATION:Wayne County Public Library – Goldsboro\, 1001 E Ash Street\, Goldsboro\, NC\, 27530\, United States
CATEGORIES:Children,Goldsboro
END:VEVENT
BEGIN:VEVENT
DTSTART;TZID=America/New_York:20260429T173000
DTEND;TZID=America/New_York:20260429T183000
DTSTAMP:20260422T083528
CREATED:20260309T162209Z
LAST-MODIFIED:20260309T183244Z
UID:22600-1777483800-1777487400@wcpl.org
SUMMARY:The Lost Art of Letters 
DESCRIPTION:Write a historical style wax sealed letter and view some local letters from centuries passed.  Call 919.735.1824 ext 5100. \n 
URL:https://wcpl.org/event/the-lost-art-of-letters/
LOCATION:Wayne County Public Library – Goldsboro\, 1001 E Ash Street\, Goldsboro\, NC\, 27530\, United States
CATEGORIES:Adult,Goldsboro,Local History
END:VEVENT
BEGIN:VEVENT
DTSTART;TZID=America/New_York:20260430T103000
DTEND;TZID=America/New_York:20260430T110000
DTSTAMP:20260422T083528
CREATED:20260312T180612Z
LAST-MODIFIED:20260312T180738Z
UID:22692-1777545000-1777546800@wcpl.org
SUMMARY:Music and Movement  (Goldsboro)
DESCRIPTION:Let’s move\, groove\, and make some noise!   Music & Movement combines songs\, rhythm\, and play to help little ones grow through joyful motion.  For ages 0 – 5 with a parent or caregiver.  No registration required. \n 
URL:https://wcpl.org/event/music-and-movement-goldsboro-50/
LOCATION:Wayne County Public Library – Goldsboro\, 1001 E Ash Street\, Goldsboro\, NC\, 27530\, United States
CATEGORIES:Children,Goldsboro
END:VEVENT
END:VCALENDAR