BEGIN:VCALENDAR
VERSION:2.0
PRODID:-//Wayne County Public Library - ECPv6.15.20//NONSGML v1.0//EN
CALSCALE:GREGORIAN
METHOD:PUBLISH
X-WR-CALNAME:Wayne County Public Library
X-ORIGINAL-URL:https://wcpl.org
X-WR-CALDESC:Events for Wayne County Public Library
REFRESH-INTERVAL;VALUE=DURATION:PT1H
X-Robots-Tag:noindex
X-PUBLISHED-TTL:PT1H
BEGIN:VTIMEZONE
TZID:America/New_York
BEGIN:DAYLIGHT
TZOFFSETFROM:-0500
TZOFFSETTO:-0400
TZNAME:EDT
DTSTART:20250309T070000
END:DAYLIGHT
BEGIN:STANDARD
TZOFFSETFROM:-0400
TZOFFSETTO:-0500
TZNAME:EST
DTSTART:20251102T060000
END:STANDARD
BEGIN:DAYLIGHT
TZOFFSETFROM:-0500
TZOFFSETTO:-0400
TZNAME:EDT
DTSTART:20260308T070000
END:DAYLIGHT
BEGIN:STANDARD
TZOFFSETFROM:-0400
TZOFFSETTO:-0500
TZNAME:EST
DTSTART:20261101T060000
END:STANDARD
BEGIN:DAYLIGHT
TZOFFSETFROM:-0500
TZOFFSETTO:-0400
TZNAME:EDT
DTSTART:20270314T070000
END:DAYLIGHT
BEGIN:STANDARD
TZOFFSETFROM:-0400
TZOFFSETTO:-0500
TZNAME:EST
DTSTART:20271107T060000
END:STANDARD
END:VTIMEZONE
BEGIN:VEVENT
DTSTART;TZID=America/New_York:20260421T173000
DTEND;TZID=America/New_York:20260421T183000
DTSTAMP:20260422T082056
CREATED:20260309T144938Z
LAST-MODIFIED:20260309T182453Z
UID:22553-1776792600-1776796200@wcpl.org
SUMMARY:Goldsboro Cross Stitchers 
DESCRIPTION:Connect with others who enjoy cross stitch and learn new tips and tricks for the craft! Bring your own materials. Call 919-735-1824 ext 5100 for more information. \n 
URL:https://wcpl.org/event/goldsboro-cross-stitchers-13/
LOCATION:Wayne County Public Library – Goldsboro\, 1001 E Ash Street\, Goldsboro\, NC\, 27530\, United States
CATEGORIES:Adult,Goldsboro,Needlework
END:VEVENT
BEGIN:VEVENT
DTSTART;TZID=America/New_York:20260421T163000
DTEND;TZID=America/New_York:20260421T173000
DTSTAMP:20260422T082056
CREATED:20260312T172513Z
LAST-MODIFIED:20260312T172720Z
UID:22667-1776789000-1776792600@wcpl.org
SUMMARY:Pokémon Party
DESCRIPTION:For grades K-5th.  Join our club for all things Pokémon.  No registration required. \n 
URL:https://wcpl.org/event/pokemon-party-3/
LOCATION:Wayne County Public Library – Goldsboro\, 1001 E Ash Street\, Goldsboro\, NC\, 27530\, United States
CATEGORIES:Children,Goldsboro
END:VEVENT
BEGIN:VEVENT
DTSTART;TZID=America/New_York:20260421T103000
DTEND;TZID=America/New_York:20260421T110000
DTSTAMP:20260422T082056
CREATED:20260312T172158Z
LAST-MODIFIED:20260312T172318Z
UID:22664-1776767400-1776769200@wcpl.org
SUMMARY:Early Explorers
DESCRIPTION:Join us for our kindergarten-readiness program.  For ages 3-5 with a parent or caregiver. Programs will guide children as they learn social skills\, as well as letter\, number\, shape\, and color recognition. No registration required. \n 
URL:https://wcpl.org/event/early-explorers-44/
LOCATION:Wayne County Public Library – Goldsboro\, 1001 E Ash Street\, Goldsboro\, NC\, 27530\, United States
CATEGORIES:Children,Goldsboro
END:VEVENT
BEGIN:VEVENT
DTSTART;TZID=America/New_York:20260420T143000
DTEND;TZID=America/New_York:20260420T153000
DTSTAMP:20260422T082056
CREATED:20260309T140343Z
LAST-MODIFIED:20260309T182214Z
UID:22545-1776695400-1776699000@wcpl.org
SUMMARY:Why Knot? Knit and Crochet 
DESCRIPTION:Do you enjoy knitting and crocheting? Join like-minded enthusiasts once a month to knit or crochet and share tips\, tricks and resources. Bring your own materials.  Call 919-735-1824 ext. 5100 for more information. \n 
URL:https://wcpl.org/event/why-knot-knit-and-crochet-2/
LOCATION:Wayne County Public Library – Goldsboro\, 1001 E Ash Street\, Goldsboro\, NC\, 27530\, United States
CATEGORIES:Adult,Goldsboro,Needlework
END:VEVENT
BEGIN:VEVENT
DTSTART;TZID=America/New_York:20260418T140000
DTEND;TZID=America/New_York:20260418T153000
DTSTAMP:20260422T082056
CREATED:20260309T140113Z
LAST-MODIFIED:20260309T182142Z
UID:22543-1776520800-1776526200@wcpl.org
SUMMARY:Audiobook Trekkers 
DESCRIPTION:Walk while you listen to your favorite stories or find a new one! We will meet at Stoney Creek Park on Ash St. Registration is suggested. Call 919-735-1824 ext. 5100 for more information. \n 
URL:https://wcpl.org/event/audiobook-trekkers-7/
LOCATION:Stoney Creek Park\, 2200 Ash St.\, Goldsboro\, NC\, 27530
CATEGORIES:Adult,Goldsboro,Library Book Club
END:VEVENT
BEGIN:VEVENT
DTSTART;TZID=America/New_York:20260418T100000
DTEND;TZID=America/New_York:20260418T120000
DTSTAMP:20260422T082056
CREATED:20260309T135608Z
LAST-MODIFIED:20260309T182114Z
UID:22539-1776506400-1776513600@wcpl.org
SUMMARY:Reading Tails with Dolly (Goldsboro)
DESCRIPTION:Practice your reading skills with Dolly the therapy dog! She loves to listen to students read. Students will practice their reading skills in a comfortable\, fun setting. Dolly’s owner is a certified teacher that will be glad to share tips along the way to make reading more enjoyable.  By appointment only during the hours of 10:00-12:00pm.  Register here. \n 
URL:https://wcpl.org/event/reading-tails-with-dolly-goldsboro-8/
LOCATION:Wayne County Public Library – Goldsboro\, 1001 E Ash Street\, Goldsboro\, NC\, 27530\, United States
CATEGORIES:Children,Goldsboro
END:VEVENT
BEGIN:VEVENT
DTSTART;TZID=America/New_York:20260416T163000
DTEND;TZID=America/New_York:20260416T173000
DTSTAMP:20260422T082056
CREATED:20260312T170452Z
LAST-MODIFIED:20260312T172027Z
UID:22661-1776357000-1776360600@wcpl.org
SUMMARY:Tween Lego Club (Goldsboro)
DESCRIPTION:Join us for an afternoon of LEGO building! Complete monthly challenges or design your own creation. For grades 6th-8th. No registration required. \n 
URL:https://wcpl.org/event/tween-lego-club-goldsboro-8/
LOCATION:Wayne County Public Library – Goldsboro\, 1001 E Ash Street\, Goldsboro\, NC\, 27530\, United States
CATEGORIES:Goldsboro,Tweens
END:VEVENT
BEGIN:VEVENT
DTSTART;TZID=America/New_York:20260416T150000
DTEND;TZID=America/New_York:20260416T160000
DTSTAMP:20260422T082056
CREATED:20260309T134714Z
LAST-MODIFIED:20260309T181701Z
UID:22531-1776351600-1776355200@wcpl.org
SUMMARY:Tech for Older Adults 
DESCRIPTION:Are you an older adult who wants to learn more about technology? We can help! Come join us as we answer your questions and help with your basic technology needs!  Call 919-735-1824 ext 5100 to register. \n 
URL:https://wcpl.org/event/tech-for-older-adults-11/
LOCATION:Wayne County Public Library – Goldsboro\, 1001 E Ash Street\, Goldsboro\, NC\, 27530\, United States
CATEGORIES:Adult,Goldsboro
END:VEVENT
BEGIN:VEVENT
DTSTART;TZID=America/New_York:20260416T103000
DTEND;TZID=America/New_York:20260416T110000
DTSTAMP:20260422T082056
CREATED:20260312T170150Z
LAST-MODIFIED:20260312T170321Z
UID:22658-1776335400-1776337200@wcpl.org
SUMMARY:Music and Movement  (Goldsboro)
DESCRIPTION:Let’s move\, groove\, and make some noise!   Music & Movement combines songs\, rhythm\, and play to help little ones grow through joyful motion.  For ages 0 – 5 with a parent or caregiver.  No registration required. \n 
URL:https://wcpl.org/event/music-and-movement-goldsboro-48/
LOCATION:Wayne County Public Library – Goldsboro\, 1001 E Ash Street\, Goldsboro\, NC\, 27530\, United States
CATEGORIES:Children,Goldsboro
END:VEVENT
BEGIN:VEVENT
DTSTART;TZID=America/New_York:20260415T180000
DTEND;TZID=America/New_York:20260415T190000
DTSTAMP:20260422T082056
CREATED:20260311T164620Z
LAST-MODIFIED:20260311T164717Z
UID:22613-1776276000-1776279600@wcpl.org
SUMMARY:Paint & Sip Coffee
DESCRIPTION:Paint a picture with us – all skill levels welcomed and encouraged! Registration required. Call (919) 735-1824 ext 5102 or email jamie.tyler@waynegov.com to register. \n 
URL:https://wcpl.org/event/paint-sip-coffee-5/
LOCATION:Wayne County Public Library – Goldsboro\, 1001 E Ash Street\, Goldsboro\, NC\, 27530\, United States
CATEGORIES:Adult,Goldsboro
END:VEVENT
BEGIN:VEVENT
DTSTART;TZID=America/New_York:20260415T150000
DTEND;TZID=America/New_York:20260415T160000
DTSTAMP:20260422T082056
CREATED:20260309T134046Z
LAST-MODIFIED:20260309T181531Z
UID:22525-1776265200-1776268800@wcpl.org
SUMMARY:Cardio Drumming (Goldsboro)
DESCRIPTION:Get into a groovy rhythm and work up a sweat with cardio drumming! Space is limited. Call 919-735-1824 ext 5100 to register. \n 
URL:https://wcpl.org/event/cardio-drumming-goldsboro-28/
LOCATION:Wayne County Public Library – Goldsboro\, 1001 E Ash Street\, Goldsboro\, NC\, 27530\, United States
CATEGORIES:Adult,Goldsboro
END:VEVENT
BEGIN:VEVENT
DTSTART;TZID=America/New_York:20260415T103000
DTEND;TZID=America/New_York:20260415T110000
DTSTAMP:20260422T082056
CREATED:20260312T165848Z
LAST-MODIFIED:20260312T170005Z
UID:22655-1776249000-1776250800@wcpl.org
SUMMARY:Storytime  (Goldsboro)
DESCRIPTION:An introduction to books\, reading and language through stories\, songs\, rhymes\, and movement. For ages 3-5 with a parent or caregiver. No registration required. \n 
URL:https://wcpl.org/event/storytime-goldsboro-44/
LOCATION:Wayne County Public Library – Goldsboro\, 1001 E Ash Street\, Goldsboro\, NC\, 27530\, United States
CATEGORIES:Children,Goldsboro
END:VEVENT
BEGIN:VEVENT
DTSTART;TZID=America/New_York:20260415T093000
DTEND;TZID=America/New_York:20260415T100000
DTSTAMP:20260422T082056
CREATED:20260312T165615Z
LAST-MODIFIED:20260312T165721Z
UID:22652-1776245400-1776247200@wcpl.org
SUMMARY:Baby and Me  (Goldsboro)
DESCRIPTION:It’s never too early to fall in love with stories! Join us for gentle songs\, simple stories\, and lots of giggles for our tiniest book lovers.  For ages 0-2 with a parent or caregiver.  No registration required. \n 
URL:https://wcpl.org/event/baby-and-me-goldsboro-40/
LOCATION:Wayne County Public Library – Goldsboro\, 1001 E Ash Street\, Goldsboro\, NC\, 27530\, United States
CATEGORIES:Children,Goldsboro
END:VEVENT
BEGIN:VEVENT
DTSTART;TZID=America/New_York:20260414T173000
DTEND;TZID=America/New_York:20260414T190000
DTSTAMP:20260422T082056
CREATED:20260309T133412Z
LAST-MODIFIED:20260309T181403Z
UID:22517-1776187800-1776193200@wcpl.org
SUMMARY:Writing Workshop: Stories That Stay 
DESCRIPTION:A monthly memoir writing workshop through the North Carolina Writers Network. Each session offers a space to reflect and connect through personal storytelling and lived experience. All writers are welcome to join and grow their voice in a supportive setting. Call 919-735-1824 ext 5100 to register. \n 
URL:https://wcpl.org/event/writing-workshop-stories-that-stay-4/
LOCATION:Wayne County Public Library – Goldsboro\, 1001 E Ash Street\, Goldsboro\, NC\, 27530\, United States
CATEGORIES:Adult,Goldsboro
END:VEVENT
BEGIN:VEVENT
DTSTART;TZID=America/New_York:20260414T163000
DTEND;TZID=America/New_York:20260414T173000
DTSTAMP:20260422T082056
CREATED:20260312T165223Z
LAST-MODIFIED:20260312T165445Z
UID:22649-1776184200-1776187800@wcpl.org
SUMMARY:LEGO Club  (Goldsboro)
DESCRIPTION:Join us for an afternoon of LEGO building! Complete monthly challenges or design your own creation.  For grades K-5th. No registration required. \n 
URL:https://wcpl.org/event/lego-club-goldsboro-8/
LOCATION:Wayne County Public Library – Goldsboro\, 1001 E Ash Street\, Goldsboro\, NC\, 27530\, United States
CATEGORIES:Children,Goldsboro
END:VEVENT
BEGIN:VEVENT
DTSTART;TZID=America/New_York:20260414T140000
DTEND;TZID=America/New_York:20260414T150000
DTSTAMP:20260422T082056
CREATED:20260309T132629Z
LAST-MODIFIED:20260309T181224Z
UID:22511-1776175200-1776178800@wcpl.org
SUMMARY:Local History Research Hour
DESCRIPTION:An hour of local history research including 1-on-1 help with microfilm\, archives\, and online databases. Call 919-735-1824 ext 5100 to register! \n 
URL:https://wcpl.org/event/local-history-research-hour/
LOCATION:Wayne County Public Library – Goldsboro\, 1001 E Ash Street\, Goldsboro\, NC\, 27530\, United States
CATEGORIES:Adult,Goldsboro,Local History
END:VEVENT
BEGIN:VEVENT
DTSTART;TZID=America/New_York:20260414T103000
DTEND;TZID=America/New_York:20260414T110000
DTSTAMP:20260422T082056
CREATED:20260312T164922Z
LAST-MODIFIED:20260312T165100Z
UID:22646-1776162600-1776164400@wcpl.org
SUMMARY:Early Explorers
DESCRIPTION:Join us for our kindergarten-readiness program.  For ages 3-5 with a parent or caregiver. Programs will guide children as they learn social skills\, as well as letter\, number\, shape\, and color recognition. No registration required. \n 
URL:https://wcpl.org/event/early-explorers-43/
LOCATION:Wayne County Public Library – Goldsboro\, 1001 E Ash Street\, Goldsboro\, NC\, 27530\, United States
CATEGORIES:Children,Goldsboro
END:VEVENT
BEGIN:VEVENT
DTSTART;TZID=America/New_York:20260413T173000
DTEND;TZID=America/New_York:20260413T190000
DTSTAMP:20260422T082056
CREATED:20260309T132245Z
LAST-MODIFIED:20260309T181121Z
UID:22507-1776101400-1776106800@wcpl.org
SUMMARY:Adult Crafting: Sea Glass Terrarium 
DESCRIPTION:Create a small terrarium with sea glass and shells! Space is limited. Registration required.  Please call 919-735-1824 ext 5100 to register. \n 
URL:https://wcpl.org/event/adult-crafting-sea-glass-terrarium/
LOCATION:Wayne County Public Library – Goldsboro\, 1001 E Ash Street\, Goldsboro\, NC\, 27530\, United States
CATEGORIES:Adult,Goldsboro
END:VEVENT
BEGIN:VEVENT
DTSTART;TZID=America/New_York:20260413T150000
DTEND;TZID=America/New_York:20260413T160000
DTSTAMP:20260422T082056
CREATED:20260309T132039Z
LAST-MODIFIED:20260309T181051Z
UID:22505-1776092400-1776096000@wcpl.org
SUMMARY:Dementia Conversations 
DESCRIPTION:Learn to navigate practical conversations that need to take place when a loved one has Alzheimer’s or another dementia. This program is presented with the Alzheimer’s Association. Call 919-735-1824 ext 5100 to register. \n 
URL:https://wcpl.org/event/dementia-conversations/
LOCATION:Wayne County Public Library – Goldsboro\, 1001 E Ash Street\, Goldsboro\, NC\, 27530\, United States
CATEGORIES:Adult,Goldsboro
END:VEVENT
BEGIN:VEVENT
DTSTART;TZID=America/New_York:20260411T100000
DTEND;TZID=America/New_York:20260411T120000
DTSTAMP:20260422T082056
CREATED:20260309T131909Z
LAST-MODIFIED:20260309T180941Z
UID:22503-1775901600-1775908800@wcpl.org
SUMMARY:Reading Tails with Dolly (Goldsboro)
DESCRIPTION:Practice your reading skills with Dolly the therapy dog! She loves to listen to students read. Students will practice their reading skills in a comfortable\, fun setting. Dolly’s owner is a certified teacher that will be glad to share tips along the way to make reading more enjoyable.  By appointment only during the hours of 10:00-12:00pm.  Register here. \n 
URL:https://wcpl.org/event/reading-tails-with-dolly-goldsboro-7/
LOCATION:Wayne County Public Library – Goldsboro\, 1001 E Ash Street\, Goldsboro\, NC\, 27530\, United States
CATEGORIES:Children,Goldsboro
END:VEVENT
BEGIN:VEVENT
DTSTART;TZID=America/New_York:20260409T163000
DTEND;TZID=America/New_York:20260409T173000
DTSTAMP:20260422T082056
CREATED:20260312T164626Z
LAST-MODIFIED:20260312T164739Z
UID:22643-1775752200-1775755800@wcpl.org
SUMMARY:Tween STEAM Club (Goldsboro)
DESCRIPTION:Join us for STEAM — hands-on fun with science experiments\, art projects\, and creative challenges that spark imagination and discovery!  For grades 6th-8th. No registration required. \n 
URL:https://wcpl.org/event/tween-steam-club-goldsboro-3/
LOCATION:Wayne County Public Library – Goldsboro\, 1001 E Ash Street\, Goldsboro\, NC\, 27530\, United States
CATEGORIES:Goldsboro,Tweens
END:VEVENT
BEGIN:VEVENT
DTSTART;TZID=America/New_York:20260409T150000
DTEND;TZID=America/New_York:20260409T160000
DTSTAMP:20260422T082056
CREATED:20260306T150729Z
LAST-MODIFIED:20260306T160216Z
UID:22483-1775746800-1775750400@wcpl.org
SUMMARY:Getting Started with Local History 
DESCRIPTION:Curious about our Local History Room? Join us for an informational session about our resources and how to use them! Call 919-735-1824 ext 5100 to register. \n 
URL:https://wcpl.org/event/getting-started-with-local-history/
LOCATION:Wayne County Public Library – Goldsboro\, 1001 E Ash Street\, Goldsboro\, NC\, 27530\, United States
CATEGORIES:Adult,Goldsboro,Local History
END:VEVENT
BEGIN:VEVENT
DTSTART;TZID=America/New_York:20260409T103000
DTEND;TZID=America/New_York:20260409T110000
DTSTAMP:20260422T082056
CREATED:20260312T164312Z
LAST-MODIFIED:20260312T164425Z
UID:22640-1775730600-1775732400@wcpl.org
SUMMARY:Music and Movement  (Goldsboro)
DESCRIPTION:Let’s move\, groove\, and make some noise!   Music & Movement combines songs\, rhythm\, and play to help little ones grow through joyful motion.  For ages 0 – 5 with a parent or caregiver.  No registration required. \n 
URL:https://wcpl.org/event/music-and-movement-goldsboro-47/
LOCATION:Wayne County Public Library – Goldsboro\, 1001 E Ash Street\, Goldsboro\, NC\, 27530\, United States
CATEGORIES:Children,Goldsboro
END:VEVENT
BEGIN:VEVENT
DTSTART;TZID=America/New_York:20260408T180000
DTEND;TZID=America/New_York:20260408T190000
DTSTAMP:20260422T082056
CREATED:20260306T150405Z
LAST-MODIFIED:20260306T160015Z
UID:22479-1775671200-1775674800@wcpl.org
SUMMARY:Wellness Wednesday – Foot Health 
DESCRIPTION:During this month’s Wellness Wednesday\, join Sylvia Judd\, librarian at UNC Health Wayne\, to learn tips and tricks for keeping feet healthy. Call 919-735-1824 ext 5100 to register. \n 
URL:https://wcpl.org/event/wellness-wednesday-foot-health/
LOCATION:Wayne County Public Library – Goldsboro\, 1001 E Ash Street\, Goldsboro\, NC\, 27530\, United States
CATEGORIES:Adult,Goldsboro
END:VEVENT
BEGIN:VEVENT
DTSTART;TZID=America/New_York:20260408T150000
DTEND;TZID=America/New_York:20260408T160000
DTSTAMP:20260422T082056
CREATED:20260306T144024Z
LAST-MODIFIED:20260306T155903Z
UID:22475-1775660400-1775664000@wcpl.org
SUMMARY:Cardio Drumming (Goldsboro)
DESCRIPTION:Get into a groovy rhythm and work up a sweat with cardio drumming! Space is limited. Call 919-735-1824 ext 5100 to register. \n 
URL:https://wcpl.org/event/cardio-drumming-goldsboro-27/
LOCATION:Wayne County Public Library – Goldsboro\, 1001 E Ash Street\, Goldsboro\, NC\, 27530\, United States
CATEGORIES:Adult,Goldsboro
END:VEVENT
BEGIN:VEVENT
DTSTART;TZID=America/New_York:20260408T103000
DTEND;TZID=America/New_York:20260408T110000
DTSTAMP:20260422T082056
CREATED:20260312T135928Z
LAST-MODIFIED:20260312T140101Z
UID:22637-1775644200-1775646000@wcpl.org
SUMMARY:Storytime  (Goldsboro)
DESCRIPTION:An introduction to books\, reading and language through stories\, songs\, rhymes\, and movement. For ages 3-5 with a parent or caregiver. No registration required. \n 
URL:https://wcpl.org/event/storytime-goldsboro-43/
LOCATION:Wayne County Public Library – Goldsboro\, 1001 E Ash Street\, Goldsboro\, NC\, 27530\, United States
CATEGORIES:Children,Goldsboro
END:VEVENT
BEGIN:VEVENT
DTSTART;TZID=America/New_York:20260408T093000
DTEND;TZID=America/New_York:20260408T100000
DTSTAMP:20260422T082056
CREATED:20260312T135547Z
LAST-MODIFIED:20260312T135808Z
UID:22634-1775640600-1775642400@wcpl.org
SUMMARY:Baby and Me  (Goldsboro)
DESCRIPTION:It’s never too early to fall in love with stories! Join us for gentle songs\, simple stories\, and lots of giggles for our tiniest book lovers.  For ages 0-2 with a parent or caregiver.  No registration required. \n 
URL:https://wcpl.org/event/baby-and-me-goldsboro-39/
LOCATION:Wayne County Public Library – Goldsboro\, 1001 E Ash Street\, Goldsboro\, NC\, 27530\, United States
CATEGORIES:Children,Goldsboro
END:VEVENT
BEGIN:VEVENT
DTSTART;TZID=America/New_York:20260407T163000
DTEND;TZID=America/New_York:20260407T173000
DTSTAMP:20260422T082056
CREATED:20260312T135312Z
LAST-MODIFIED:20260312T135433Z
UID:22631-1775579400-1775583000@wcpl.org
SUMMARY:STEAM Club (Goldsboro)
DESCRIPTION:Join us for STEAM — hands-on fun with science experiments\, art projects\, and creative challenges that spark imagination and discovery!  For grades K-5th. No registration required. \n 
URL:https://wcpl.org/event/steam-club-goldsboro-8/
LOCATION:Wayne County Public Library – Goldsboro\, 1001 E Ash Street\, Goldsboro\, NC\, 27530\, United States
CATEGORIES:Children,Goldsboro
END:VEVENT
BEGIN:VEVENT
DTSTART;TZID=America/New_York:20260407T140000
DTEND;TZID=America/New_York:20260407T150000
DTSTAMP:20260422T082056
CREATED:20260306T135822Z
LAST-MODIFIED:20260306T155709Z
UID:22467-1775570400-1775574000@wcpl.org
SUMMARY:Blank Page Society 
DESCRIPTION:Join us for a prompted journaling session with optional sharing! All materials provided but feel free to bring your own!  Call 919-735-1824 ext 5100 to register! \n 
URL:https://wcpl.org/event/blank-page-society-8/
LOCATION:Wayne County Public Library – Goldsboro\, 1001 E Ash Street\, Goldsboro\, NC\, 27530\, United States
CATEGORIES:Adult,Goldsboro
END:VEVENT
BEGIN:VEVENT
DTSTART;TZID=America/New_York:20260407T103000
DTEND;TZID=America/New_York:20260407T110000
DTSTAMP:20260422T082056
CREATED:20260312T135009Z
LAST-MODIFIED:20260312T135148Z
UID:22628-1775557800-1775559600@wcpl.org
SUMMARY:Early Explorers
DESCRIPTION:Join us for our kindergarten-readiness program.  For ages 3-5 with a parent or caregiver. Programs will guide children as they learn social skills\, as well as letter\, number\, shape\, and color recognition. No registration required. \n 
URL:https://wcpl.org/event/early-explorers-42/
LOCATION:Wayne County Public Library – Goldsboro\, 1001 E Ash Street\, Goldsboro\, NC\, 27530\, United States
CATEGORIES:Children,Goldsboro
END:VEVENT
END:VCALENDAR