BEGIN:VCALENDAR
VERSION:2.0
PRODID:-//Wayne County Public Library - ECPv6.15.20//NONSGML v1.0//EN
CALSCALE:GREGORIAN
METHOD:PUBLISH
X-ORIGINAL-URL:https://wcpl.org
X-WR-CALDESC:Events for Wayne County Public Library
REFRESH-INTERVAL;VALUE=DURATION:PT1H
X-Robots-Tag:noindex
X-PUBLISHED-TTL:PT1H
BEGIN:VTIMEZONE
TZID:America/New_York
BEGIN:DAYLIGHT
TZOFFSETFROM:-0500
TZOFFSETTO:-0400
TZNAME:EDT
DTSTART:20250309T070000
END:DAYLIGHT
BEGIN:STANDARD
TZOFFSETFROM:-0400
TZOFFSETTO:-0500
TZNAME:EST
DTSTART:20251102T060000
END:STANDARD
BEGIN:DAYLIGHT
TZOFFSETFROM:-0500
TZOFFSETTO:-0400
TZNAME:EDT
DTSTART:20260308T070000
END:DAYLIGHT
BEGIN:STANDARD
TZOFFSETFROM:-0400
TZOFFSETTO:-0500
TZNAME:EST
DTSTART:20261101T060000
END:STANDARD
BEGIN:DAYLIGHT
TZOFFSETFROM:-0500
TZOFFSETTO:-0400
TZNAME:EDT
DTSTART:20270314T070000
END:DAYLIGHT
BEGIN:STANDARD
TZOFFSETFROM:-0400
TZOFFSETTO:-0500
TZNAME:EST
DTSTART:20271107T060000
END:STANDARD
END:VTIMEZONE
BEGIN:VEVENT
DTSTART;TZID=America/New_York:20260519T103000
DTEND;TZID=America/New_York:20260519T110000
DTSTAMP:20260422T114623
CREATED:20260417T165842Z
LAST-MODIFIED:20260417T165926Z
UID:23206-1779186600-1779188400@wcpl.org
SUMMARY:Early Explorers
DESCRIPTION:Join us for our kindergarten-readiness program.  For ages 3-5 with a parent or caregiver. Programs will guide children as they learn social skills\, as well as letter\, number\, shape\, and color recognition. No registration required. \n 
URL:https://wcpl.org/event/early-explorers-47/
LOCATION:Wayne County Public Library – Goldsboro\, 1001 E Ash Street\, Goldsboro\, NC\, 27530\, United States
CATEGORIES:Children,Goldsboro
END:VEVENT
BEGIN:VEVENT
DTSTART;TZID=America/New_York:20260519T150000
DTEND;TZID=America/New_York:20260519T160000
DTSTAMP:20260422T114623
CREATED:20260410T172724Z
LAST-MODIFIED:20260410T182911Z
UID:23028-1779202800-1779206400@wcpl.org
SUMMARY:Oral Histories 
DESCRIPTION:Join us to learn about how to collect oral histories and the oral history kits available in our Local History room! Call 919-735-1824 ext 5100 to register. \n 
URL:https://wcpl.org/event/oral-histories/
LOCATION:Wayne County Public Library – Goldsboro\, 1001 E Ash Street\, Goldsboro\, NC\, 27530\, United States
CATEGORIES:Adult,Goldsboro,Local History
END:VEVENT
BEGIN:VEVENT
DTSTART;TZID=America/New_York:20260519T163000
DTEND;TZID=America/New_York:20260519T173000
DTSTAMP:20260422T114623
CREATED:20260410T172941Z
LAST-MODIFIED:20260410T182958Z
UID:23030-1779208200-1779211800@wcpl.org
SUMMARY:Goldsboro Cross Stitchers 
DESCRIPTION:Connect with other people who enjoy cross stitch and learn new tips and tricks! Call 919-735-1824 ext 5100 for more information. \n 
URL:https://wcpl.org/event/goldsboro-cross-stitchers-14/
LOCATION:Wayne County Public Library – Goldsboro\, 1001 E Ash Street\, Goldsboro\, NC\, 27530\, United States
CATEGORIES:Adult,Goldsboro,Needlework
END:VEVENT
BEGIN:VEVENT
DTSTART;TZID=America/New_York:20260519T163000
DTEND;TZID=America/New_York:20260519T173000
DTSTAMP:20260422T114623
CREATED:20260417T170051Z
LAST-MODIFIED:20260417T170138Z
UID:23209-1779208200-1779211800@wcpl.org
SUMMARY:Pokémon Party
DESCRIPTION:For grades K-5th.  Join our club for all things Pokémon.  No registration required. \n 
URL:https://wcpl.org/event/pokemon-party-5/
LOCATION:Wayne County Public Library – Goldsboro\, 1001 E Ash Street\, Goldsboro\, NC\, 27530\, United States
CATEGORIES:Children,Goldsboro
END:VEVENT
END:VCALENDAR