BEGIN:VCALENDAR
VERSION:2.0
PRODID:-//Wayne County Public Library - ECPv6.15.20//NONSGML v1.0//EN
CALSCALE:GREGORIAN
METHOD:PUBLISH
X-ORIGINAL-URL:https://wcpl.org
X-WR-CALDESC:Events for Wayne County Public Library
REFRESH-INTERVAL;VALUE=DURATION:PT1H
X-Robots-Tag:noindex
X-PUBLISHED-TTL:PT1H
BEGIN:VTIMEZONE
TZID:America/New_York
BEGIN:DAYLIGHT
TZOFFSETFROM:-0500
TZOFFSETTO:-0400
TZNAME:EDT
DTSTART:20250309T070000
END:DAYLIGHT
BEGIN:STANDARD
TZOFFSETFROM:-0400
TZOFFSETTO:-0500
TZNAME:EST
DTSTART:20251102T060000
END:STANDARD
BEGIN:DAYLIGHT
TZOFFSETFROM:-0500
TZOFFSETTO:-0400
TZNAME:EDT
DTSTART:20260308T070000
END:DAYLIGHT
BEGIN:STANDARD
TZOFFSETFROM:-0400
TZOFFSETTO:-0500
TZNAME:EST
DTSTART:20261101T060000
END:STANDARD
BEGIN:DAYLIGHT
TZOFFSETFROM:-0500
TZOFFSETTO:-0400
TZNAME:EDT
DTSTART:20270314T070000
END:DAYLIGHT
BEGIN:STANDARD
TZOFFSETFROM:-0400
TZOFFSETTO:-0500
TZNAME:EST
DTSTART:20271107T060000
END:STANDARD
END:VTIMEZONE
BEGIN:VEVENT
DTSTART;TZID=America/New_York:20260317T103000
DTEND;TZID=America/New_York:20260317T110000
DTSTAMP:20260422T114546
CREATED:20260216T210241Z
LAST-MODIFIED:20260217T200327Z
UID:22263-1773743400-1773745200@wcpl.org
SUMMARY:Early Explorers
DESCRIPTION:Join us for our kindergarten-readiness program.  For ages 3-5 with a parent or caregiver. Programs will guide children as they learn social skills\, as well as letter\, number\, shape\, and color recognition. No registration required. \n 
URL:https://wcpl.org/event/early-explorers-16/
LOCATION:Wayne County Public Library – Goldsboro\, 1001 E Ash Street\, Goldsboro\, NC\, 27530\, United States
CATEGORIES:Children,Goldsboro
END:VEVENT
BEGIN:VEVENT
DTSTART;TZID=America/New_York:20260317T140000
DTEND;TZID=America/New_York:20260317T150000
DTSTAMP:20260422T114546
CREATED:20260216T210908Z
LAST-MODIFIED:20260216T210908Z
UID:22265-1773756000-1773759600@wcpl.org
SUMMARY:What’s That Say?
DESCRIPTION:Learn tips and tricks for reading cursive handwriting on historical documents during this informational session. Call 919-735-1824 ext 5100 to register. \n 
URL:https://wcpl.org/event/whats-that-say/
LOCATION:Wayne County Public Library – Goldsboro\, 1001 E Ash Street\, Goldsboro\, NC\, 27530\, United States
CATEGORIES:Adult,Goldsboro,Local History
END:VEVENT
BEGIN:VEVENT
DTSTART;TZID=America/New_York:20260317T163000
DTEND;TZID=America/New_York:20260317T173000
DTSTAMP:20260422T114546
CREATED:20260219T162426Z
LAST-MODIFIED:20260219T162426Z
UID:22384-1773765000-1773768600@wcpl.org
SUMMARY:Pokémon Party
DESCRIPTION:For grades K-5th.  Join our club for all things Pokémon.  Get a chance to create your own Pokémon card.  No registration required. \n 
URL:https://wcpl.org/event/pokemon-party/
LOCATION:Wayne County Public Library – Goldsboro\, 1001 E Ash Street\, Goldsboro\, NC\, 27530\, United States
CATEGORIES:Children,Goldsboro
END:VEVENT
BEGIN:VEVENT
DTSTART;TZID=America/New_York:20260317T173000
DTEND;TZID=America/New_York:20260317T183000
DTSTAMP:20260422T114546
CREATED:20260216T211229Z
LAST-MODIFIED:20260217T200446Z
UID:22269-1773768600-1773772200@wcpl.org
SUMMARY:Goldsboro Cross Stitchers 
DESCRIPTION:Come be a part of the Goldsboro Cross Stitchers! Connect with others who enjoy the art of cross stitch and learn helpful tips and tricks! Call 919-735-1825 ext 5100 for more information. \n 
URL:https://wcpl.org/event/goldsboro-cross-stitchers-12/
LOCATION:Wayne County Public Library – Goldsboro\, 1001 E Ash Street\, Goldsboro\, NC\, 27530\, United States
CATEGORIES:Adult,Goldsboro,Needlework
END:VEVENT
END:VCALENDAR