BEGIN:VCALENDAR
VERSION:2.0
PRODID:-//Wayne County Public Library - ECPv6.15.20//NONSGML v1.0//EN
CALSCALE:GREGORIAN
METHOD:PUBLISH
X-ORIGINAL-URL:https://wcpl.org
X-WR-CALDESC:Events for Wayne County Public Library
REFRESH-INTERVAL;VALUE=DURATION:PT1H
X-Robots-Tag:noindex
X-PUBLISHED-TTL:PT1H
BEGIN:VTIMEZONE
TZID:America/New_York
BEGIN:DAYLIGHT
TZOFFSETFROM:-0500
TZOFFSETTO:-0400
TZNAME:EDT
DTSTART:20250309T070000
END:DAYLIGHT
BEGIN:STANDARD
TZOFFSETFROM:-0400
TZOFFSETTO:-0500
TZNAME:EST
DTSTART:20251102T060000
END:STANDARD
BEGIN:DAYLIGHT
TZOFFSETFROM:-0500
TZOFFSETTO:-0400
TZNAME:EDT
DTSTART:20260308T070000
END:DAYLIGHT
BEGIN:STANDARD
TZOFFSETFROM:-0400
TZOFFSETTO:-0500
TZNAME:EST
DTSTART:20261101T060000
END:STANDARD
BEGIN:DAYLIGHT
TZOFFSETFROM:-0500
TZOFFSETTO:-0400
TZNAME:EDT
DTSTART:20270314T070000
END:DAYLIGHT
BEGIN:STANDARD
TZOFFSETFROM:-0400
TZOFFSETTO:-0500
TZNAME:EST
DTSTART:20271107T060000
END:STANDARD
END:VTIMEZONE
BEGIN:VEVENT
DTSTART;TZID=America/New_York:20260311T093000
DTEND;TZID=America/New_York:20260311T100000
DTSTAMP:20260422T113918
CREATED:20260213T184754Z
LAST-MODIFIED:20260213T195015Z
UID:22212-1773221400-1773223200@wcpl.org
SUMMARY:Baby and Me  (Goldsboro)
DESCRIPTION:It’s never too early to fall in love with stories! Join us for gentle songs\, simple stories\, and lots of giggles for our tiniest book lovers.  For ages 0-2 with a parent or caregiver.  No registration required. \n 
URL:https://wcpl.org/event/baby-and-me-goldsboro-35/
LOCATION:Wayne County Public Library – Goldsboro\, 1001 E Ash Street\, Goldsboro\, NC\, 27530\, United States
CATEGORIES:Children,Goldsboro
END:VEVENT
BEGIN:VEVENT
DTSTART;TZID=America/New_York:20260311T103000
DTEND;TZID=America/New_York:20260311T110000
DTSTAMP:20260422T113918
CREATED:20260213T185457Z
LAST-MODIFIED:20260213T195708Z
UID:22220-1773225000-1773226800@wcpl.org
SUMMARY:Storytime  (Goldsboro)
DESCRIPTION:An introduction to books\, reading and language through stories\, songs\, rhymes\, and movement. For ages 3-5 with a parent or caregiver. No registration required. \n 
URL:https://wcpl.org/event/storytime-goldsboro-39/
LOCATION:Wayne County Public Library – Goldsboro\, 1001 E Ash Street\, Goldsboro\, NC\, 27530\, United States
CATEGORIES:Children,Goldsboro
END:VEVENT
BEGIN:VEVENT
DTSTART;TZID=America/New_York:20260311T150000
DTEND;TZID=America/New_York:20260311T160000
DTSTAMP:20260422T113918
CREATED:20260213T185617Z
LAST-MODIFIED:20260213T195732Z
UID:22222-1773241200-1773244800@wcpl.org
SUMMARY:Cardio Drumming  (Goldsboro)
DESCRIPTION:Get into a groovy rhythm and work up a sweat with cardio drumming! Space is limited. Call 919-735-1824 ext 5100 to register. \n 
URL:https://wcpl.org/event/cardio-drumming-goldsboro/
LOCATION:Wayne County Public Library – Goldsboro\, 1001 E Ash Street\, Goldsboro\, NC\, 27530\, United States
CATEGORIES:Adult,Goldsboro
END:VEVENT
BEGIN:VEVENT
DTSTART;TZID=America/New_York:20260311T180000
DTEND;TZID=America/New_York:20260311T190000
DTSTAMP:20260422T113918
CREATED:20260213T185914Z
LAST-MODIFIED:20260213T195829Z
UID:22226-1773252000-1773255600@wcpl.org
SUMMARY:Wellness Wednesday: Kidney Health 
DESCRIPTION:UNC Health Wayne Librarian Sylvia Judd will offer an informational session and tips for kidney health! Call 919-735-1824 ext 5100 to register. \n 
URL:https://wcpl.org/event/wellness-wednesday-kidney-health/
LOCATION:Wayne County Public Library – Goldsboro\, 1001 E Ash Street\, Goldsboro\, NC\, 27530\, United States
CATEGORIES:Adult,Goldsboro
END:VEVENT
END:VCALENDAR