BEGIN:VCALENDAR
VERSION:2.0
PRODID:-//Wayne County Public Library - ECPv6.15.20//NONSGML v1.0//EN
CALSCALE:GREGORIAN
METHOD:PUBLISH
X-WR-CALNAME:Wayne County Public Library
X-ORIGINAL-URL:https://wcpl.org
X-WR-CALDESC:Events for Wayne County Public Library
REFRESH-INTERVAL;VALUE=DURATION:PT1H
X-Robots-Tag:noindex
X-PUBLISHED-TTL:PT1H
BEGIN:VTIMEZONE
TZID:America/New_York
BEGIN:DAYLIGHT
TZOFFSETFROM:-0500
TZOFFSETTO:-0400
TZNAME:EDT
DTSTART:20250309T070000
END:DAYLIGHT
BEGIN:STANDARD
TZOFFSETFROM:-0400
TZOFFSETTO:-0500
TZNAME:EST
DTSTART:20251102T060000
END:STANDARD
BEGIN:DAYLIGHT
TZOFFSETFROM:-0500
TZOFFSETTO:-0400
TZNAME:EDT
DTSTART:20260308T070000
END:DAYLIGHT
BEGIN:STANDARD
TZOFFSETFROM:-0400
TZOFFSETTO:-0500
TZNAME:EST
DTSTART:20261101T060000
END:STANDARD
BEGIN:DAYLIGHT
TZOFFSETFROM:-0500
TZOFFSETTO:-0400
TZNAME:EDT
DTSTART:20270314T070000
END:DAYLIGHT
BEGIN:STANDARD
TZOFFSETFROM:-0400
TZOFFSETTO:-0500
TZNAME:EST
DTSTART:20271107T060000
END:STANDARD
END:VTIMEZONE
BEGIN:VEVENT
DTSTART;TZID=America/New_York:20260209T150000
DTEND;TZID=America/New_York:20260209T160000
DTSTAMP:20260422T130308
CREATED:20260107T133104Z
LAST-MODIFIED:20260108T200800Z
UID:21656-1770649200-1770652800@wcpl.org
SUMMARY:Healthy Living For Your Brain & Body 
DESCRIPTION:Join us for a session focusing on habits to aid in the prevention of Alzheimer’s Disease. This program is presented in conjunction with the American Alzheimer’s Association. Call 919-735-1824 ext 5100 to register. \n 
URL:https://wcpl.org/event/healthy-living-for-your-brain-body/
LOCATION:Wayne County Public Library – Goldsboro\, 1001 E Ash Street\, Goldsboro\, NC\, 27530\, United States
CATEGORIES:Adult,Goldsboro
END:VEVENT
BEGIN:VEVENT
DTSTART;TZID=America/New_York:20260209T180000
DTEND;TZID=America/New_York:20260209T190000
DTSTAMP:20260422T130308
CREATED:20260107T133241Z
LAST-MODIFIED:20260108T200827Z
UID:21658-1770660000-1770663600@wcpl.org
SUMMARY:Transparent Language 
DESCRIPTION:Interested in learning a new language? Join us and learn step-by-step how to use the library’s language-learning resource Transparent Language! Instructions will be given in English; handouts will be available in English and Spanish. Space is limited. Registration is required. Call 919-735-1824 ext 5100 to register. \n 
URL:https://wcpl.org/event/transparent-language/
LOCATION:Wayne County Public Library – Goldsboro\, 1001 E Ash Street\, Goldsboro\, NC\, 27530\, United States
CATEGORIES:Adult,Goldsboro
END:VEVENT
END:VCALENDAR