BEGIN:VCALENDAR
VERSION:2.0
PRODID:-//Wayne County Public Library - ECPv6.15.20//NONSGML v1.0//EN
CALSCALE:GREGORIAN
METHOD:PUBLISH
X-ORIGINAL-URL:https://wcpl.org
X-WR-CALDESC:Events for Wayne County Public Library
REFRESH-INTERVAL;VALUE=DURATION:PT1H
X-Robots-Tag:noindex
X-PUBLISHED-TTL:PT1H
BEGIN:VTIMEZONE
TZID:America/New_York
BEGIN:DAYLIGHT
TZOFFSETFROM:-0500
TZOFFSETTO:-0400
TZNAME:EDT
DTSTART:20250309T070000
END:DAYLIGHT
BEGIN:STANDARD
TZOFFSETFROM:-0400
TZOFFSETTO:-0500
TZNAME:EST
DTSTART:20251102T060000
END:STANDARD
BEGIN:DAYLIGHT
TZOFFSETFROM:-0500
TZOFFSETTO:-0400
TZNAME:EDT
DTSTART:20260308T070000
END:DAYLIGHT
BEGIN:STANDARD
TZOFFSETFROM:-0400
TZOFFSETTO:-0500
TZNAME:EST
DTSTART:20261101T060000
END:STANDARD
BEGIN:DAYLIGHT
TZOFFSETFROM:-0500
TZOFFSETTO:-0400
TZNAME:EDT
DTSTART:20270314T070000
END:DAYLIGHT
BEGIN:STANDARD
TZOFFSETFROM:-0400
TZOFFSETTO:-0500
TZNAME:EST
DTSTART:20271107T060000
END:STANDARD
END:VTIMEZONE
BEGIN:VEVENT
DTSTART;TZID=America/New_York:20260114T093000
DTEND;TZID=America/New_York:20260114T100000
DTSTAMP:20260422T144236
CREATED:20251217T170332Z
LAST-MODIFIED:20251217T170332Z
UID:21426-1768383000-1768384800@wcpl.org
SUMMARY:Baby and Me  (Goldsboro)
DESCRIPTION:It’s never too early to fall in love with stories! Join us for gentle songs\, simple stories\, and lots of giggles for our tiniest book lovers.  For ages 0-2 with a parent or caregiver.  No registration required. \n 
URL:https://wcpl.org/event/baby-and-me-goldsboro-27/
LOCATION:Wayne County Public Library – Goldsboro\, 1001 E Ash Street\, Goldsboro\, NC\, 27530\, United States
CATEGORIES:Children,Goldsboro
END:VEVENT
BEGIN:VEVENT
DTSTART;TZID=America/New_York:20260114T103000
DTEND;TZID=America/New_York:20260114T110000
DTSTAMP:20260422T144236
CREATED:20251217T171638Z
LAST-MODIFIED:20251217T171638Z
UID:21434-1768386600-1768388400@wcpl.org
SUMMARY:Storytime  (Goldsboro)
DESCRIPTION:An introduction to books\, reading and language through stories\, songs\, rhymes\, and movement. For ages 3-5 with a parent or caregiver. No registration required. \n 
URL:https://wcpl.org/event/storytime-goldsboro-31/
LOCATION:Wayne County Public Library – Goldsboro\, 1001 E Ash Street\, Goldsboro\, NC\, 27530\, United States
CATEGORIES:Children,Goldsboro
END:VEVENT
BEGIN:VEVENT
DTSTART;TZID=America/New_York:20260114T150000
DTEND;TZID=America/New_York:20260114T160000
DTSTAMP:20260422T144236
CREATED:20251209T170309Z
LAST-MODIFIED:20251209T170309Z
UID:21362-1768402800-1768406400@wcpl.org
SUMMARY:Cardio Drumming  (Goldsboro)
DESCRIPTION:Join us for Cardio Drumming. Work up a sweat and get into a groovy rhythm! Call 919-735-1824 ext 5100 to register! \n 
URL:https://wcpl.org/event/cardio-drumming-goldsboro-21/
LOCATION:Wayne County Public Library – Goldsboro\, 1001 E Ash Street\, Goldsboro\, NC\, 27530\, United States
CATEGORIES:Adult,Goldsboro
END:VEVENT
BEGIN:VEVENT
DTSTART;TZID=America/New_York:20260114T180000
DTEND;TZID=America/New_York:20260114T190000
DTSTAMP:20260422T144236
CREATED:20251209T182709Z
LAST-MODIFIED:20251209T182709Z
UID:21374-1768413600-1768417200@wcpl.org
SUMMARY:Wellness Wednesday – Winter Wellness 
DESCRIPTION:Join us for our monthly Wellness Wednesday series. UNC Health Wayne Librarian Sylvia Judd will offer a session on tips for a healthy winter season. \n 
URL:https://wcpl.org/event/wellness-wednesday-winter-wellness/
LOCATION:Wayne County Public Library – Goldsboro\, 1001 E Ash Street\, Goldsboro\, NC\, 27530\, United States
CATEGORIES:Adult,Goldsboro
END:VEVENT
END:VCALENDAR