BEGIN:VCALENDAR
VERSION:2.0
PRODID:-//Wayne County Public Library - ECPv6.15.20//NONSGML v1.0//EN
CALSCALE:GREGORIAN
METHOD:PUBLISH
X-ORIGINAL-URL:https://wcpl.org
X-WR-CALDESC:Events for Wayne County Public Library
REFRESH-INTERVAL;VALUE=DURATION:PT1H
X-Robots-Tag:noindex
X-PUBLISHED-TTL:PT1H
BEGIN:VTIMEZONE
TZID:America/New_York
BEGIN:DAYLIGHT
TZOFFSETFROM:-0500
TZOFFSETTO:-0400
TZNAME:EDT
DTSTART:20250309T070000
END:DAYLIGHT
BEGIN:STANDARD
TZOFFSETFROM:-0400
TZOFFSETTO:-0500
TZNAME:EST
DTSTART:20251102T060000
END:STANDARD
BEGIN:DAYLIGHT
TZOFFSETFROM:-0500
TZOFFSETTO:-0400
TZNAME:EDT
DTSTART:20260308T070000
END:DAYLIGHT
BEGIN:STANDARD
TZOFFSETFROM:-0400
TZOFFSETTO:-0500
TZNAME:EST
DTSTART:20261101T060000
END:STANDARD
BEGIN:DAYLIGHT
TZOFFSETFROM:-0500
TZOFFSETTO:-0400
TZNAME:EDT
DTSTART:20270314T070000
END:DAYLIGHT
BEGIN:STANDARD
TZOFFSETFROM:-0400
TZOFFSETTO:-0500
TZNAME:EST
DTSTART:20271107T060000
END:STANDARD
END:VTIMEZONE
BEGIN:VEVENT
DTSTART;TZID=America/New_York:20260106T103000
DTEND;TZID=America/New_York:20260106T110000
DTSTAMP:20260422T144231
CREATED:20251217T164732Z
LAST-MODIFIED:20251217T164732Z
UID:21416-1767695400-1767697200@wcpl.org
SUMMARY:Early Explorers
DESCRIPTION:Join us for our kindergarten-readiness program.  For ages 3-5 with a parent or caregiver. Programs will guide children as they learn social skills\, as well as letter\, number\, shape\, and color recognition. No registration required. \n 
URL:https://wcpl.org/event/early-explorers-6/
LOCATION:Wayne County Public Library – Goldsboro\, 1001 E Ash Street\, Goldsboro\, NC\, 27530\, United States
CATEGORIES:Children,Goldsboro
END:VEVENT
BEGIN:VEVENT
DTSTART;TZID=America/New_York:20260106T140000
DTEND;TZID=America/New_York:20260106T150000
DTSTAMP:20260422T144231
CREATED:20251209T165955Z
LAST-MODIFIED:20251209T165955Z
UID:21358-1767708000-1767711600@wcpl.org
SUMMARY:Blank Page Society 
DESCRIPTION:Join us for a bullet journaling session\, where will we learn the bujo system\, set up a new planner\, and start the year off right! All materials will be provided but feel free to bring your own for a personal touch. Call 919-735-1824 ext 5100 to register. \n 
URL:https://wcpl.org/event/blank-page-society-5/
LOCATION:Wayne County Public Library – Goldsboro\, 1001 E Ash Street\, Goldsboro\, NC\, 27530\, United States
CATEGORIES:Adult,Goldsboro
END:VEVENT
BEGIN:VEVENT
DTSTART;TZID=America/New_York:20260106T163000
DTEND;TZID=America/New_York:20260106T173000
DTSTAMP:20260422T144231
CREATED:20251217T180206Z
LAST-MODIFIED:20251217T180206Z
UID:21448-1767717000-1767720600@wcpl.org
SUMMARY:STEAM Club (Goldsboro)
DESCRIPTION:For grades K-5th.  Join us for STEAM — hands-on fun with science experiments\, art projects\, and creative challenges that spark imagination and discovery!  No registration required. \n 
URL:https://wcpl.org/event/steam-club-goldsboro-5/
LOCATION:Wayne County Public Library – Goldsboro\, 1001 E Ash Street\, Goldsboro\, NC\, 27530\, United States
CATEGORIES:Children,Goldsboro
END:VEVENT
END:VCALENDAR