BEGIN:VCALENDAR
VERSION:2.0
PRODID:-//Wayne County Public Library - ECPv6.15.20//NONSGML v1.0//EN
CALSCALE:GREGORIAN
METHOD:PUBLISH
X-ORIGINAL-URL:https://wcpl.org
X-WR-CALDESC:Events for Wayne County Public Library
REFRESH-INTERVAL;VALUE=DURATION:PT1H
X-Robots-Tag:noindex
X-PUBLISHED-TTL:PT1H
BEGIN:VTIMEZONE
TZID:America/New_York
BEGIN:DAYLIGHT
TZOFFSETFROM:-0500
TZOFFSETTO:-0400
TZNAME:EDT
DTSTART:20240310T070000
END:DAYLIGHT
BEGIN:STANDARD
TZOFFSETFROM:-0400
TZOFFSETTO:-0500
TZNAME:EST
DTSTART:20241103T060000
END:STANDARD
BEGIN:DAYLIGHT
TZOFFSETFROM:-0500
TZOFFSETTO:-0400
TZNAME:EDT
DTSTART:20250309T070000
END:DAYLIGHT
BEGIN:STANDARD
TZOFFSETFROM:-0400
TZOFFSETTO:-0500
TZNAME:EST
DTSTART:20251102T060000
END:STANDARD
BEGIN:DAYLIGHT
TZOFFSETFROM:-0500
TZOFFSETTO:-0400
TZNAME:EDT
DTSTART:20260308T070000
END:DAYLIGHT
BEGIN:STANDARD
TZOFFSETFROM:-0400
TZOFFSETTO:-0500
TZNAME:EST
DTSTART:20261101T060000
END:STANDARD
END:VTIMEZONE
BEGIN:VEVENT
DTSTART;TZID=America/New_York:20251027T190000
DTEND;TZID=America/New_York:20251027T200000
DTSTAMP:20260422T174837
CREATED:20250908T200110Z
LAST-MODIFIED:20250908T200110Z
UID:20037-1761591600-1761595200@wcpl.org
SUMMARY:Golden Girls: TV Hour 
DESCRIPTION:Celebrate your favorite show with our weekly watch party! Join us every Monday to get cozy and indulge in cheesecake while reliving the laughs\, the tears\, and the friendship. Space is limited. Registration highly recommended! Call 919-735-1824 ext 5100 to register. \n 
URL:https://wcpl.org/event/golden-girls-tv-hour-4/
LOCATION:Wayne County Public Library – Goldsboro\, 1001 E Ash Street\, Goldsboro\, NC\, 27530\, United States
CATEGORIES:Adult,Goldsboro
END:VEVENT
BEGIN:VEVENT
DTSTART;TZID=America/New_York:20251027T190000
DTEND;TZID=America/New_York:20251027T200000
DTSTAMP:20260422T174837
CREATED:20250912T120627Z
LAST-MODIFIED:20250925T204232Z
UID:20226-1761591600-1761595200@wcpl.org
SUMMARY:Mystery Blanket Knit Along
DESCRIPTION:Knit along with us as we make a blanket\, one square at a time.  Each month a new square will be revealed at the meeting.  But what will the final blanket design look like?  That’s the mystery!  Come by to pick up your free copy of this month’s pattern\, talk to other knitters\, or ask questions. Open to all skill levels. Check here for previous months’ pattern instructions.  For more information email Jamie.walton@waynegov.com. \n 
URL:https://wcpl.org/event/mystery-blanket-knit-along-2/
LOCATION:Wayne County Public Library – Goldsboro\, 1001 E Ash Street\, Goldsboro\, NC\, 27530\, United States
CATEGORIES:Adult,Goldsboro
END:VEVENT
END:VCALENDAR