BEGIN:VCALENDAR
VERSION:2.0
PRODID:-//Wayne County Public Library - ECPv6.15.20//NONSGML v1.0//EN
CALSCALE:GREGORIAN
METHOD:PUBLISH
X-WR-CALNAME:Wayne County Public Library
X-ORIGINAL-URL:https://wcpl.org
X-WR-CALDESC:Events for Wayne County Public Library
REFRESH-INTERVAL;VALUE=DURATION:PT1H
X-Robots-Tag:noindex
X-PUBLISHED-TTL:PT1H
BEGIN:VTIMEZONE
TZID:America/New_York
BEGIN:DAYLIGHT
TZOFFSETFROM:-0500
TZOFFSETTO:-0400
TZNAME:EDT
DTSTART:20240310T070000
END:DAYLIGHT
BEGIN:STANDARD
TZOFFSETFROM:-0400
TZOFFSETTO:-0500
TZNAME:EST
DTSTART:20241103T060000
END:STANDARD
BEGIN:DAYLIGHT
TZOFFSETFROM:-0500
TZOFFSETTO:-0400
TZNAME:EDT
DTSTART:20250309T070000
END:DAYLIGHT
BEGIN:STANDARD
TZOFFSETFROM:-0400
TZOFFSETTO:-0500
TZNAME:EST
DTSTART:20251102T060000
END:STANDARD
BEGIN:DAYLIGHT
TZOFFSETFROM:-0500
TZOFFSETTO:-0400
TZNAME:EDT
DTSTART:20260308T070000
END:DAYLIGHT
BEGIN:STANDARD
TZOFFSETFROM:-0400
TZOFFSETTO:-0500
TZNAME:EST
DTSTART:20261101T060000
END:STANDARD
END:VTIMEZONE
BEGIN:VEVENT
DTSTART;TZID=America/New_York:20251004T100000
DTEND;TZID=America/New_York:20251004T120000
DTSTAMP:20260422T192856
CREATED:20250912T121025Z
LAST-MODIFIED:20250912T121025Z
UID:20228-1759572000-1759579200@wcpl.org
SUMMARY:Reading Tails with Dolly (Goldsboro)
DESCRIPTION:Practice your reading skills with Dolly the therapy dog! She loves to listen to students read. Students will practice their reading skills in a comfortable\, fun setting. Dolly’s owner is a certified teacher that will be glad to share tips along the way to make reading more enjoyable.  By appointment only during the hours of 10:00-12:00pm.  Register here.
URL:https://wcpl.org/event/reading-tails-with-dolly-goldsboro-2/
LOCATION:Wayne County Public Library – Goldsboro\, 1001 E Ash Street\, Goldsboro\, NC\, 27530\, United States
CATEGORIES:Children,Goldsboro
END:VEVENT
BEGIN:VEVENT
DTSTART;TZID=America/New_York:20251004T100000
DTEND;TZID=America/New_York:20251004T233000
DTSTAMP:20260422T192856
CREATED:20250908T194754Z
LAST-MODIFIED:20250908T194754Z
UID:20029-1759572000-1759620600@wcpl.org
SUMMARY:Adult Crafting: Fall Wreaths 
DESCRIPTION:Get into the fall mood! Let’s decorate a small fall wreath using paint\, clothespins\, and a small wreath form. Call 919-735-1824 ext 5100. \n 
URL:https://wcpl.org/event/adult-crafting-fall-wreaths/
LOCATION:Wayne County Public Library – Goldsboro\, 1001 E Ash Street\, Goldsboro\, NC\, 27530\, United States
CATEGORIES:Adult,Goldsboro
END:VEVENT
END:VCALENDAR