BEGIN:VCALENDAR
VERSION:2.0
PRODID:-//Wayne County Public Library - ECPv6.15.20//NONSGML v1.0//EN
CALSCALE:GREGORIAN
METHOD:PUBLISH
X-WR-CALNAME:Wayne County Public Library
X-ORIGINAL-URL:https://wcpl.org
X-WR-CALDESC:Events for Wayne County Public Library
REFRESH-INTERVAL;VALUE=DURATION:PT1H
X-Robots-Tag:noindex
X-PUBLISHED-TTL:PT1H
BEGIN:VTIMEZONE
TZID:America/New_York
BEGIN:DAYLIGHT
TZOFFSETFROM:-0500
TZOFFSETTO:-0400
TZNAME:EDT
DTSTART:20240310T070000
END:DAYLIGHT
BEGIN:STANDARD
TZOFFSETFROM:-0400
TZOFFSETTO:-0500
TZNAME:EST
DTSTART:20241103T060000
END:STANDARD
BEGIN:DAYLIGHT
TZOFFSETFROM:-0500
TZOFFSETTO:-0400
TZNAME:EDT
DTSTART:20250309T070000
END:DAYLIGHT
BEGIN:STANDARD
TZOFFSETFROM:-0400
TZOFFSETTO:-0500
TZNAME:EST
DTSTART:20251102T060000
END:STANDARD
BEGIN:DAYLIGHT
TZOFFSETFROM:-0500
TZOFFSETTO:-0400
TZNAME:EDT
DTSTART:20260308T070000
END:DAYLIGHT
BEGIN:STANDARD
TZOFFSETFROM:-0400
TZOFFSETTO:-0500
TZNAME:EST
DTSTART:20261101T060000
END:STANDARD
END:VTIMEZONE
BEGIN:VEVENT
DTSTART;TZID=America/New_York:20250924T093000
DTEND;TZID=America/New_York:20250924T100000
DTSTAMP:20260422T211031
CREATED:20250815T150932Z
LAST-MODIFIED:20250815T150932Z
UID:19754-1758706200-1758708000@wcpl.org
SUMMARY:Baby and Me  (Goldsboro)
DESCRIPTION:An introduction to books\, reading and language through stories\, songs\, rhymes\, and movement. For ages 0-2 with a parent or caregiver.  No registration required. \n 
URL:https://wcpl.org/event/baby-and-me-goldsboro-16/
LOCATION:Wayne County Public Library – Goldsboro\, 1001 E Ash Street\, Goldsboro\, NC\, 27530\, United States
CATEGORIES:Children,Goldsboro
END:VEVENT
BEGIN:VEVENT
DTSTART;TZID=America/New_York:20250924T103000
DTEND;TZID=America/New_York:20250924T110000
DTSTAMP:20260422T211031
CREATED:20250815T151455Z
LAST-MODIFIED:20250815T151455Z
UID:19760-1758709800-1758711600@wcpl.org
SUMMARY:Storytime  (Goldsboro)
DESCRIPTION:An introduction to books\, reading and language through stories\, songs\, rhymes\, and movement. For ages 3-5 with a parent or caregiver. No registration required. \n 
URL:https://wcpl.org/event/storytime-goldsboro-20/
LOCATION:Wayne County Public Library – Goldsboro\, 1001 E Ash Street\, Goldsboro\, NC\, 27530\, United States
CATEGORIES:Children,Goldsboro
END:VEVENT
BEGIN:VEVENT
DTSTART;TZID=America/New_York:20250924T150000
DTEND;TZID=America/New_York:20250924T160000
DTSTAMP:20260422T211031
CREATED:20250806T123531Z
LAST-MODIFIED:20250806T123531Z
UID:19553-1758726000-1758729600@wcpl.org
SUMMARY:Cardio Drumming  (Goldsboro)
DESCRIPTION:Get into a groovy rhythm! Join us for cardio drumming to work up a sweat and have some fun. Registration required. Call 919-735-1824 ext 5100 to register. \n 
URL:https://wcpl.org/event/cardio-drumming-goldsboro-14/
LOCATION:Wayne County Public Library – Goldsboro\, 1001 E Ash Street\, Goldsboro\, NC\, 27530\, United States
CATEGORIES:Adult,Goldsboro
END:VEVENT
BEGIN:VEVENT
DTSTART;TZID=America/New_York:20250924T183000
DTEND;TZID=America/New_York:20250924T193000
DTSTAMP:20260422T211031
CREATED:20250806T145541Z
LAST-MODIFIED:20250806T145541Z
UID:19633-1758738600-1758742200@wcpl.org
SUMMARY:Paint & Sip Coffee    
DESCRIPTION:Paint a picture with us – all skill levels welcomed and encouraged! Registration required. Call (919) 735-1824 ext 5102 or email jamie.tyler@waynegov.com to register. \n 
URL:https://wcpl.org/event/paint-sip-coffee-2/
LOCATION:Wayne County Public Library – Goldsboro\, 1001 E Ash Street\, Goldsboro\, NC\, 27530\, United States
CATEGORIES:Adult,Goldsboro
END:VEVENT
END:VCALENDAR