BEGIN:VCALENDAR
VERSION:2.0
PRODID:-//Wayne County Public Library - ECPv6.15.20//NONSGML v1.0//EN
CALSCALE:GREGORIAN
METHOD:PUBLISH
X-ORIGINAL-URL:https://wcpl.org
X-WR-CALDESC:Events for Wayne County Public Library
REFRESH-INTERVAL;VALUE=DURATION:PT1H
X-Robots-Tag:noindex
X-PUBLISHED-TTL:PT1H
BEGIN:VTIMEZONE
TZID:America/New_York
BEGIN:DAYLIGHT
TZOFFSETFROM:-0500
TZOFFSETTO:-0400
TZNAME:EDT
DTSTART:20240310T070000
END:DAYLIGHT
BEGIN:STANDARD
TZOFFSETFROM:-0400
TZOFFSETTO:-0500
TZNAME:EST
DTSTART:20241103T060000
END:STANDARD
BEGIN:DAYLIGHT
TZOFFSETFROM:-0500
TZOFFSETTO:-0400
TZNAME:EDT
DTSTART:20250309T070000
END:DAYLIGHT
BEGIN:STANDARD
TZOFFSETFROM:-0400
TZOFFSETTO:-0500
TZNAME:EST
DTSTART:20251102T060000
END:STANDARD
BEGIN:DAYLIGHT
TZOFFSETFROM:-0500
TZOFFSETTO:-0400
TZNAME:EDT
DTSTART:20260308T070000
END:DAYLIGHT
BEGIN:STANDARD
TZOFFSETFROM:-0400
TZOFFSETTO:-0500
TZNAME:EST
DTSTART:20261101T060000
END:STANDARD
END:VTIMEZONE
BEGIN:VEVENT
DTSTART;TZID=America/New_York:20250916T103000
DTEND;TZID=America/New_York:20250916T110000
DTSTAMP:20260422T211509
CREATED:20250815T145829Z
LAST-MODIFIED:20250815T145829Z
UID:19744-1758018600-1758020400@wcpl.org
SUMMARY:Early Explorers
DESCRIPTION:Join us for our kindergarten-readiness program.  For ages 3-5 with a parent or caregiver. Programs will guide children as they learn social skills\, as well as letter\, number\, shape\, and color recognition. No registration required. \n 
URL:https://wcpl.org/event/early-explorers-36/
LOCATION:Wayne County Public Library – Goldsboro\, 1001 E Ash Street\, Goldsboro\, NC\, 27530\, United States
CATEGORIES:Children,Goldsboro
END:VEVENT
BEGIN:VEVENT
DTSTART;TZID=America/New_York:20250916T140000
DTEND;TZID=America/New_York:20250916T150000
DTSTAMP:20260422T211509
CREATED:20250805T190917Z
LAST-MODIFIED:20250805T190917Z
UID:19541-1758031200-1758034800@wcpl.org
SUMMARY:Blank Page Society 
DESCRIPTION:Want to start journaling but don’t know where to start? Join the Blank Page Society for uninterrupted writing time\, fun prompts\, and optional sharing. All materials provided\, but feel free to bring your own! Call 919-735-1824 Ext. 5100 to register. \n 
URL:https://wcpl.org/event/blank-page-society/
LOCATION:Wayne County Public Library – Goldsboro\, 1001 E Ash Street\, Goldsboro\, NC\, 27530\, United States
CATEGORIES:Adult,Goldsboro
END:VEVENT
BEGIN:VEVENT
DTSTART;TZID=America/New_York:20250916T163000
DTEND;TZID=America/New_York:20250916T173000
DTSTAMP:20260422T211509
CREATED:20250815T153040Z
LAST-MODIFIED:20250815T153040Z
UID:19770-1758040200-1758043800@wcpl.org
SUMMARY:Lego Club  (Goldsboro) 
DESCRIPTION:Join us for an afternoon of Lego building. Complete monthly challenges or design your own creation.  For ages 5-8. No registration required. \n 
URL:https://wcpl.org/event/lego-club-goldsboro/
LOCATION:Wayne County Public Library – Goldsboro\, 1001 E Ash Street\, Goldsboro\, NC\, 27530\, United States
CATEGORIES:Children,Goldsboro
END:VEVENT
BEGIN:VEVENT
DTSTART;TZID=America/New_York:20250916T173000
DTEND;TZID=America/New_York:20250916T183000
DTSTAMP:20260422T211509
CREATED:20250805T191123Z
LAST-MODIFIED:20250805T191123Z
UID:19543-1758043800-1758047400@wcpl.org
SUMMARY:Goldsboro Cross Stitchers 
DESCRIPTION:Join us for the Goldsboro Cross stitchers! Connect with other people who enjoy cross stitch and learn new tips and tricks! Call 919-735-1824 ext 5100 for more information. \n 
URL:https://wcpl.org/event/goldsboro-cross-stitchers-8/
LOCATION:Wayne County Public Library – Goldsboro\, 1001 E Ash Street\, Goldsboro\, NC\, 27530\, United States
CATEGORIES:Adult,Goldsboro
END:VEVENT
END:VCALENDAR