BEGIN:VCALENDAR
VERSION:2.0
PRODID:-//Wayne County Public Library - ECPv6.15.20//NONSGML v1.0//EN
CALSCALE:GREGORIAN
METHOD:PUBLISH
X-ORIGINAL-URL:https://wcpl.org
X-WR-CALDESC:Events for Wayne County Public Library
REFRESH-INTERVAL;VALUE=DURATION:PT1H
X-Robots-Tag:noindex
X-PUBLISHED-TTL:PT1H
BEGIN:VTIMEZONE
TZID:America/New_York
BEGIN:DAYLIGHT
TZOFFSETFROM:-0500
TZOFFSETTO:-0400
TZNAME:EDT
DTSTART:20240310T070000
END:DAYLIGHT
BEGIN:STANDARD
TZOFFSETFROM:-0400
TZOFFSETTO:-0500
TZNAME:EST
DTSTART:20241103T060000
END:STANDARD
BEGIN:DAYLIGHT
TZOFFSETFROM:-0500
TZOFFSETTO:-0400
TZNAME:EDT
DTSTART:20250309T070000
END:DAYLIGHT
BEGIN:STANDARD
TZOFFSETFROM:-0400
TZOFFSETTO:-0500
TZNAME:EST
DTSTART:20251102T060000
END:STANDARD
BEGIN:DAYLIGHT
TZOFFSETFROM:-0500
TZOFFSETTO:-0400
TZNAME:EDT
DTSTART:20260308T070000
END:DAYLIGHT
BEGIN:STANDARD
TZOFFSETFROM:-0400
TZOFFSETTO:-0500
TZNAME:EST
DTSTART:20261101T060000
END:STANDARD
END:VTIMEZONE
BEGIN:VEVENT
DTSTART;TZID=America/New_York:20250911T103000
DTEND;TZID=America/New_York:20250911T110000
DTSTAMP:20260422T211525
CREATED:20250815T151959Z
LAST-MODIFIED:20250815T151959Z
UID:19762-1757586600-1757588400@wcpl.org
SUMMARY:Music and Movement  (Goldsboro)
DESCRIPTION:Let’s boost our brains with music and movement! For ages 0 – 5 with a parent or caregiver.  No registration required. \n 
URL:https://wcpl.org/event/music-and-movement-goldsboro-20/
LOCATION:Wayne County Public Library – Goldsboro\, 1001 E Ash Street\, Goldsboro\, NC\, 27530\, United States
CATEGORIES:Children,Goldsboro
END:VEVENT
BEGIN:VEVENT
DTSTART;TZID=America/New_York:20250911T150000
DTEND;TZID=America/New_York:20250911T160000
DTSTAMP:20260422T211525
CREATED:20250805T190547Z
LAST-MODIFIED:20250805T190547Z
UID:19537-1757602800-1757606400@wcpl.org
SUMMARY:Tech for Older Adults 
DESCRIPTION:Are you an older adult who wants to learn more about technology? We can help! Come join us as we answer your questions and help with your basic tech needs! Call 919-735-1824 ext 5100 to register. \n 
URL:https://wcpl.org/event/tech-for-older-adults-6/
LOCATION:Wayne County Public Library – Goldsboro\, 1001 E Ash Street\, Goldsboro\, NC\, 27530\, United States
CATEGORIES:Adult,Goldsboro
END:VEVENT
BEGIN:VEVENT
DTSTART;TZID=America/New_York:20250911T163000
DTEND;TZID=America/New_York:20250911T173000
DTSTAMP:20260422T211525
CREATED:20250815T153336Z
LAST-MODIFIED:20250815T153336Z
UID:19774-1757608200-1757611800@wcpl.org
SUMMARY:Tween STEAM Club
DESCRIPTION:Join us each month as we complete a new monthly STEAM challenge. For ages 9-12. No registration required. \n 
URL:https://wcpl.org/event/tween-steam-club/
LOCATION:Wayne County Public Library – Goldsboro\, 1001 E Ash Street\, Goldsboro\, NC\, 27530\, United States
CATEGORIES:Children,Goldsboro
END:VEVENT
END:VCALENDAR