BEGIN:VCALENDAR
VERSION:2.0
PRODID:-//Wayne County Public Library - ECPv6.15.20//NONSGML v1.0//EN
CALSCALE:GREGORIAN
METHOD:PUBLISH
X-ORIGINAL-URL:https://wcpl.org
X-WR-CALDESC:Events for Wayne County Public Library
REFRESH-INTERVAL;VALUE=DURATION:PT1H
X-Robots-Tag:noindex
X-PUBLISHED-TTL:PT1H
BEGIN:VTIMEZONE
TZID:America/New_York
BEGIN:DAYLIGHT
TZOFFSETFROM:-0500
TZOFFSETTO:-0400
TZNAME:EDT
DTSTART:20240310T070000
END:DAYLIGHT
BEGIN:STANDARD
TZOFFSETFROM:-0400
TZOFFSETTO:-0500
TZNAME:EST
DTSTART:20241103T060000
END:STANDARD
BEGIN:DAYLIGHT
TZOFFSETFROM:-0500
TZOFFSETTO:-0400
TZNAME:EDT
DTSTART:20250309T070000
END:DAYLIGHT
BEGIN:STANDARD
TZOFFSETFROM:-0400
TZOFFSETTO:-0500
TZNAME:EST
DTSTART:20251102T060000
END:STANDARD
BEGIN:DAYLIGHT
TZOFFSETFROM:-0500
TZOFFSETTO:-0400
TZNAME:EDT
DTSTART:20260308T070000
END:DAYLIGHT
BEGIN:STANDARD
TZOFFSETFROM:-0400
TZOFFSETTO:-0500
TZNAME:EST
DTSTART:20261101T060000
END:STANDARD
END:VTIMEZONE
BEGIN:VEVENT
DTSTART;TZID=America/New_York:20250626T103000
DTEND;TZID=America/New_York:20250626T110000
DTSTAMP:20260423T025419
CREATED:20250507T192722Z
LAST-MODIFIED:20250618T182442Z
UID:18006-1750933800-1750935600@wcpl.org
SUMMARY:Music and Movement (Goldsboro)
DESCRIPTION:Let’s boost our brains with music and movement! For ages 0 – 5 with a parent or caregiver.  No registration required. \n 
URL:https://wcpl.org/event/music-and-movement-goldsboro-23/
LOCATION:Wayne County Public Library – Goldsboro\, 1001 E Ash Street\, Goldsboro\, NC\, 27530\, United States
CATEGORIES:Children,Goldsboro
END:VEVENT
BEGIN:VEVENT
DTSTART;TZID=America/New_York:20250626T153000
DTEND;TZID=America/New_York:20250626T163000
DTSTAMP:20260423T025419
CREATED:20250505T175434Z
LAST-MODIFIED:20250505T175434Z
UID:17910-1750951800-1750955400@wcpl.org
SUMMARY:Mad Scientists of the Triangle (Goldsboro)
DESCRIPTION:Join us as we explore color science with the Mad Scientists of the Triangle! For children of all ages with a caregiver. No registration required. \n 
URL:https://wcpl.org/event/mad-scientists-of-the-triangle-goldsboro/
LOCATION:Wayne County Public Library – Goldsboro\, 1001 E Ash Street\, Goldsboro\, NC\, 27530\, United States
CATEGORIES:Children,Goldsboro
END:VEVENT
BEGIN:VEVENT
DTSTART;TZID=America/New_York:20250626T180000
DTEND;TZID=America/New_York:20250626T190000
DTSTAMP:20260423T025419
CREATED:20250507T185854Z
LAST-MODIFIED:20250507T185854Z
UID:17982-1750960800-1750964400@wcpl.org
SUMMARY:Silent Read N’ Sip 
DESCRIPTION:Instead of setting time constraints on yourself to read a certain type of book\, visit a newer type of book club where you can read whatever you want. We’ll begin by talking about what books we are currently reading. Later\, you will silently read the book you brought to our club. Feel free to read print or electronic books. This is meant to be a quiet\, cozy\, and relaxing time for everyone. \n 
URL:https://wcpl.org/event/silent-read-n-sip-17/
LOCATION:Wayne County Public Library – Goldsboro\, 1001 E Ash Street\, Goldsboro\, NC\, 27530\, United States
CATEGORIES:Adult,Goldsboro,Library Book Club
END:VEVENT
END:VCALENDAR