BEGIN:VCALENDAR
VERSION:2.0
PRODID:-//Wayne County Public Library - ECPv6.15.20//NONSGML v1.0//EN
CALSCALE:GREGORIAN
METHOD:PUBLISH
X-WR-CALNAME:Wayne County Public Library
X-ORIGINAL-URL:https://wcpl.org
X-WR-CALDESC:Events for Wayne County Public Library
REFRESH-INTERVAL;VALUE=DURATION:PT1H
X-Robots-Tag:noindex
X-PUBLISHED-TTL:PT1H
BEGIN:VTIMEZONE
TZID:America/New_York
BEGIN:DAYLIGHT
TZOFFSETFROM:-0500
TZOFFSETTO:-0400
TZNAME:EDT
DTSTART:20240310T070000
END:DAYLIGHT
BEGIN:STANDARD
TZOFFSETFROM:-0400
TZOFFSETTO:-0500
TZNAME:EST
DTSTART:20241103T060000
END:STANDARD
BEGIN:DAYLIGHT
TZOFFSETFROM:-0500
TZOFFSETTO:-0400
TZNAME:EDT
DTSTART:20250309T070000
END:DAYLIGHT
BEGIN:STANDARD
TZOFFSETFROM:-0400
TZOFFSETTO:-0500
TZNAME:EST
DTSTART:20251102T060000
END:STANDARD
BEGIN:DAYLIGHT
TZOFFSETFROM:-0500
TZOFFSETTO:-0400
TZNAME:EDT
DTSTART:20260308T070000
END:DAYLIGHT
BEGIN:STANDARD
TZOFFSETFROM:-0400
TZOFFSETTO:-0500
TZNAME:EST
DTSTART:20261101T060000
END:STANDARD
END:VTIMEZONE
BEGIN:VEVENT
DTSTART;TZID=America/New_York:20250429T103000
DTEND;TZID=America/New_York:20250429T110000
DTSTAMP:20260423T044330
CREATED:20250324T153256Z
LAST-MODIFIED:20250324T153256Z
UID:17188-1745922600-1745924400@wcpl.org
SUMMARY:Early Explorers
DESCRIPTION:Join us for our new kindergarten readiness program. For ages 3-5 with a parent or caregiver.  Programs will guide children as they learn social skills\, as well as letter\, number\, shape\, and color recognition. \n 
URL:https://wcpl.org/event/early-explorers-31/
LOCATION:Wayne County Public Library – Goldsboro\, 1001 E Ash Street\, Goldsboro\, NC\, 27530\, United States
CATEGORIES:Children,Goldsboro
END:VEVENT
BEGIN:VEVENT
DTSTART;TZID=America/New_York:20250429T180000
DTEND;TZID=America/New_York:20250429T193000
DTSTAMP:20260423T044330
CREATED:20250317T154816Z
LAST-MODIFIED:20250317T154816Z
UID:17034-1745949600-1745955000@wcpl.org
SUMMARY:Improving Your Relationship with Time  
DESCRIPTION:Join Kate Behrenshausen\, Executive Function Coach and owner of Sage EF Coaching\, for the next session in our series on executive function. In this session\, we’ll work to improve your relationship with time. We’ll cover executive function\, time management\, and procrastination. We’ll talk about how our brains work\, how we struggle with time management\, and what strategies can help. Call 919-735-1824 ext. 5106 for more information or to register. \n 
URL:https://wcpl.org/event/improving-your-relationship-with-time/
LOCATION:Wayne County Public Library – Goldsboro\, 1001 E Ash Street\, Goldsboro\, NC\, 27530\, United States
CATEGORIES:Adult,Goldsboro
END:VEVENT
END:VCALENDAR