BEGIN:VCALENDAR
VERSION:2.0
PRODID:-//Wayne County Public Library - ECPv6.15.20//NONSGML v1.0//EN
CALSCALE:GREGORIAN
METHOD:PUBLISH
X-ORIGINAL-URL:https://wcpl.org
X-WR-CALDESC:Events for Wayne County Public Library
REFRESH-INTERVAL;VALUE=DURATION:PT1H
X-Robots-Tag:noindex
X-PUBLISHED-TTL:PT1H
BEGIN:VTIMEZONE
TZID:America/New_York
BEGIN:DAYLIGHT
TZOFFSETFROM:-0500
TZOFFSETTO:-0400
TZNAME:EDT
DTSTART:20240310T070000
END:DAYLIGHT
BEGIN:STANDARD
TZOFFSETFROM:-0400
TZOFFSETTO:-0500
TZNAME:EST
DTSTART:20241103T060000
END:STANDARD
BEGIN:DAYLIGHT
TZOFFSETFROM:-0500
TZOFFSETTO:-0400
TZNAME:EDT
DTSTART:20250309T070000
END:DAYLIGHT
BEGIN:STANDARD
TZOFFSETFROM:-0400
TZOFFSETTO:-0500
TZNAME:EST
DTSTART:20251102T060000
END:STANDARD
BEGIN:DAYLIGHT
TZOFFSETFROM:-0500
TZOFFSETTO:-0400
TZNAME:EDT
DTSTART:20260308T070000
END:DAYLIGHT
BEGIN:STANDARD
TZOFFSETFROM:-0400
TZOFFSETTO:-0500
TZNAME:EST
DTSTART:20261101T060000
END:STANDARD
END:VTIMEZONE
BEGIN:VEVENT
DTSTART;TZID=America/New_York:20250415T100000
DTEND;TZID=America/New_York:20250415T110000
DTSTAMP:20260423T063454
CREATED:20250317T155242Z
LAST-MODIFIED:20250317T155242Z
UID:17038-1744711200-1744714800@wcpl.org
SUMMARY:Northern Wayne Stitchers
DESCRIPTION:The program is designed to create a relaxed\, welcoming environment where participants can focus on honing their craft while receiving the support they need to challenge themselves creatively. It’s an ideal opportunity for experienced stitchers to elevate their work\, troubleshoot projects\, and continue growing as artisans. Registration is required. Please call 919-705-1892 to register. \n 
URL:https://wcpl.org/event/northern-wayne-stitchers-18/
LOCATION:Northern Wayne Library\, 609 S. Wilson St.\, Fremont\, NC\, 27830\, United States
CATEGORIES:Adult,Goldsboro
END:VEVENT
BEGIN:VEVENT
DTSTART;TZID=America/New_York:20250415T103000
DTEND;TZID=America/New_York:20250415T110000
DTSTAMP:20260423T063454
CREATED:20250324T153050Z
LAST-MODIFIED:20250324T153050Z
UID:17184-1744713000-1744714800@wcpl.org
SUMMARY:Early Explorers
DESCRIPTION:Join us for our new kindergarten readiness program. For ages 3-5 with a parent or caregiver.  Programs will guide children as they learn social skills\, as well as letter\, number\, shape\, and color recognition. \n 
URL:https://wcpl.org/event/early-explorers-29/
LOCATION:Wayne County Public Library – Goldsboro\, 1001 E Ash Street\, Goldsboro\, NC\, 27530\, United States
CATEGORIES:Children,Goldsboro
END:VEVENT
BEGIN:VEVENT
DTSTART;TZID=America/New_York:20250415T130000
DTEND;TZID=America/New_York:20250415T143000
DTSTAMP:20260423T063454
CREATED:20250317T152523Z
LAST-MODIFIED:20250317T152523Z
UID:17018-1744722000-1744727400@wcpl.org
SUMMARY:DIY Mini Zen Garden  
DESCRIPTION:Need a creative way to relax? Join us in the Auditorium to design your own mini Zen garden. Registration Required: call 919-735-1824 ext. 5100 for registration and information. \n 
URL:https://wcpl.org/event/diy-mini-zen-garden/
LOCATION:Wayne County Public Library – Goldsboro\, 1001 E Ash Street\, Goldsboro\, NC\, 27530\, United States
CATEGORIES:Adult,Goldsboro
END:VEVENT
BEGIN:VEVENT
DTSTART;TZID=America/New_York:20250415T160000
DTEND;TZID=America/New_York:20250415T170000
DTSTAMP:20260423T063454
CREATED:20250324T155456Z
LAST-MODIFIED:20250324T155456Z
UID:17222-1744732800-1744736400@wcpl.org
SUMMARY:Sprouts Garden Club  (Elementary)
DESCRIPTION:Join us as we as we kickoff our 2025 gardening season. This hands-on program invites kids to connect with nature\, learn about sustainable practices\, and cultivate a love for the environment. Ages 5-8. \n 
URL:https://wcpl.org/event/sprouts-garden-club-elementary-2/
LOCATION:Wayne County Public Library – Goldsboro\, 1001 E Ash Street\, Goldsboro\, NC\, 27530\, United States
CATEGORIES:Children,Goldsboro
END:VEVENT
BEGIN:VEVENT
DTSTART;TZID=America/New_York:20250415T173000
DTEND;TZID=America/New_York:20250415T183000
DTSTAMP:20260423T063454
CREATED:20250317T152727Z
LAST-MODIFIED:20250317T152727Z
UID:17020-1744738200-1744741800@wcpl.org
SUMMARY:Goldsboro Cross Stitchers  
DESCRIPTION:Join the Goldsboro Cross Stitchers! Connect with other people who enjoy cross stitch and learn new tips and tricks! Call 919-735-1824 Ext 5100 to register or for more information. \n 
URL:https://wcpl.org/event/goldsboro-cross-stitchers-3/
LOCATION:Wayne County Public Library – Goldsboro\, 1001 E Ash Street\, Goldsboro\, NC\, 27530\, United States
CATEGORIES:Adult,Goldsboro
END:VEVENT
END:VCALENDAR