BEGIN:VCALENDAR
VERSION:2.0
PRODID:-//Wayne County Public Library - ECPv6.15.20//NONSGML v1.0//EN
CALSCALE:GREGORIAN
METHOD:PUBLISH
X-ORIGINAL-URL:https://wcpl.org
X-WR-CALDESC:Events for Wayne County Public Library
REFRESH-INTERVAL;VALUE=DURATION:PT1H
X-Robots-Tag:noindex
X-PUBLISHED-TTL:PT1H
BEGIN:VTIMEZONE
TZID:America/New_York
BEGIN:DAYLIGHT
TZOFFSETFROM:-0500
TZOFFSETTO:-0400
TZNAME:EDT
DTSTART:20240310T070000
END:DAYLIGHT
BEGIN:STANDARD
TZOFFSETFROM:-0400
TZOFFSETTO:-0500
TZNAME:EST
DTSTART:20241103T060000
END:STANDARD
BEGIN:DAYLIGHT
TZOFFSETFROM:-0500
TZOFFSETTO:-0400
TZNAME:EDT
DTSTART:20250309T070000
END:DAYLIGHT
BEGIN:STANDARD
TZOFFSETFROM:-0400
TZOFFSETTO:-0500
TZNAME:EST
DTSTART:20251102T060000
END:STANDARD
BEGIN:DAYLIGHT
TZOFFSETFROM:-0500
TZOFFSETTO:-0400
TZNAME:EDT
DTSTART:20260308T070000
END:DAYLIGHT
BEGIN:STANDARD
TZOFFSETFROM:-0400
TZOFFSETTO:-0500
TZNAME:EST
DTSTART:20261101T060000
END:STANDARD
END:VTIMEZONE
BEGIN:VEVENT
DTSTART;TZID=America/New_York:20250410T103000
DTEND;TZID=America/New_York:20250410T110000
DTSTAMP:20260423T063456
CREATED:20250324T154948Z
LAST-MODIFIED:20250324T154948Z
UID:17214-1744281000-1744282800@wcpl.org
SUMMARY:Music and Movement (Goldsboro)
DESCRIPTION:Let’s boost our brains with music and movement! For ages 0 – 5 with a parent or caregiver. \n 
URL:https://wcpl.org/event/music-and-movement-goldsboro-14/
LOCATION:Wayne County Public Library – Goldsboro\, 1001 E Ash Street\, Goldsboro\, NC\, 27530\, United States
CATEGORIES:Children,Goldsboro
END:VEVENT
BEGIN:VEVENT
DTSTART;TZID=America/New_York:20250410T150000
DTEND;TZID=America/New_York:20250410T160000
DTSTAMP:20260423T063456
CREATED:20250317T151550Z
LAST-MODIFIED:20250317T151550Z
UID:17012-1744297200-1744300800@wcpl.org
SUMMARY:Tech for Older Adults  
DESCRIPTION:Are you an older adult who has questions about technology? Whether you want to learn how to create Word documents or recover a password\, we can help! Join our staff and Mary Shands\, a retired office administrator\, to learn some basics and get your questions answered. To register\, call 919-735-1824 ext. 5100. \n 
URL:https://wcpl.org/event/tech-for-older-adults-2/
LOCATION:Wayne County Public Library – Goldsboro\, 1001 E Ash Street\, Goldsboro\, NC\, 27530\, United States
CATEGORIES:Adult,Goldsboro
END:VEVENT
BEGIN:VEVENT
DTSTART;TZID=America/New_York:20250410T160000
DTEND;TZID=America/New_York:20250410T170000
DTSTAMP:20260423T063456
CREATED:20250324T155809Z
LAST-MODIFIED:20250324T155809Z
UID:17226-1744300800-1744304400@wcpl.org
SUMMARY:Time Travelers Club (Tweens)
DESCRIPTION:Join us as we travel through time learning about local and world history events and how they have shaped our world today. Ages 9-12 \n 
URL:https://wcpl.org/event/time-travelers-club-tweens-8/
LOCATION:Wayne County Public Library – Goldsboro\, 1001 E Ash Street\, Goldsboro\, NC\, 27530\, United States
CATEGORIES:Goldsboro,Tweens
END:VEVENT
END:VCALENDAR