BEGIN:VCALENDAR
VERSION:2.0
PRODID:-//Wayne County Public Library - ECPv6.15.20//NONSGML v1.0//EN
CALSCALE:GREGORIAN
METHOD:PUBLISH
X-ORIGINAL-URL:https://wcpl.org
X-WR-CALDESC:Events for Wayne County Public Library
REFRESH-INTERVAL;VALUE=DURATION:PT1H
X-Robots-Tag:noindex
X-PUBLISHED-TTL:PT1H
BEGIN:VTIMEZONE
TZID:America/New_York
BEGIN:DAYLIGHT
TZOFFSETFROM:-0500
TZOFFSETTO:-0400
TZNAME:EDT
DTSTART:20240310T070000
END:DAYLIGHT
BEGIN:STANDARD
TZOFFSETFROM:-0400
TZOFFSETTO:-0500
TZNAME:EST
DTSTART:20241103T060000
END:STANDARD
BEGIN:DAYLIGHT
TZOFFSETFROM:-0500
TZOFFSETTO:-0400
TZNAME:EDT
DTSTART:20250309T070000
END:DAYLIGHT
BEGIN:STANDARD
TZOFFSETFROM:-0400
TZOFFSETTO:-0500
TZNAME:EST
DTSTART:20251102T060000
END:STANDARD
BEGIN:DAYLIGHT
TZOFFSETFROM:-0500
TZOFFSETTO:-0400
TZNAME:EDT
DTSTART:20260308T070000
END:DAYLIGHT
BEGIN:STANDARD
TZOFFSETFROM:-0400
TZOFFSETTO:-0500
TZNAME:EST
DTSTART:20261101T060000
END:STANDARD
END:VTIMEZONE
BEGIN:VEVENT
DTSTART;TZID=America/New_York:20250403T103000
DTEND;TZID=America/New_York:20250403T110000
DTSTAMP:20260423T063455
CREATED:20250324T154842Z
LAST-MODIFIED:20250324T154842Z
UID:17212-1743676200-1743678000@wcpl.org
SUMMARY:Music and Movement (Goldsboro)
DESCRIPTION:Let’s boost our brains with music and movement! For ages 0 – 5 with a parent or caregiver. \n 
URL:https://wcpl.org/event/music-and-movement-goldsboro-13/
LOCATION:Wayne County Public Library – Goldsboro\, 1001 E Ash Street\, Goldsboro\, NC\, 27530\, United States
CATEGORIES:Children,Goldsboro
END:VEVENT
BEGIN:VEVENT
DTSTART;TZID=America/New_York:20250403T140000
DTEND;TZID=America/New_York:20250403T150000
DTSTAMP:20260423T063455
CREATED:20250317T150511Z
LAST-MODIFIED:20250317T150511Z
UID:17004-1743688800-1743692400@wcpl.org
SUMMARY:From the Archive: The Conway Rose Collection  
DESCRIPTION:Join us for our From the Archive program! We will discuss the process of acquiring and managing our local history collection\, and attendees will have an opportunity to dig deeper into one of our many special collections – the Conway Rose Collection.  Space is limited. Registration required! Call 919-705-1830. \n 
URL:https://wcpl.org/event/from-the-archive-the-conway-rose-collection-2/
LOCATION:Wayne County Public Library – Goldsboro\, 1001 E Ash Street\, Goldsboro\, NC\, 27530\, United States
CATEGORIES:Adult,Goldsboro,Local History
END:VEVENT
BEGIN:VEVENT
DTSTART;TZID=America/New_York:20250403T160000
DTEND;TZID=America/New_York:20250403T170000
DTSTAMP:20260423T063455
CREATED:20250324T155644Z
LAST-MODIFIED:20250324T155644Z
UID:17224-1743696000-1743699600@wcpl.org
SUMMARY:Young Artist Program (Tweens)
DESCRIPTION:Join us each month as we learn about some of the greatest artists in the world and then create a masterpiece inspired by their art! This month we’ll learn about the contemporary Australian artist\, Pete Cromer.  Ages 9-12 \n 
URL:https://wcpl.org/event/young-artist-program-tweens-6/
LOCATION:Wayne County Public Library – Goldsboro\, 1001 E Ash Street\, Goldsboro\, NC\, 27530\, United States
CATEGORIES:Goldsboro,Tweens
END:VEVENT
BEGIN:VEVENT
DTSTART;TZID=America/New_York:20250403T170000
DTEND;TZID=America/New_York:20250403T180000
DTSTAMP:20260423T063455
CREATED:20250317T150726Z
LAST-MODIFIED:20250317T150726Z
UID:17006-1743699600-1743703200@wcpl.org
SUMMARY:Our Favorite Reads Book Club  
DESCRIPTION:Join the conversation for a meeting of the Our Favorite Reads book club. Share what you are reading and get recommendations from other members. Registration is suggested. Call 919-735-1824 ext. 5100 for more information. We’ll meet in the Yellow Study Room at the Goldsboro Library. \n 
URL:https://wcpl.org/event/our-favorite-reads-book-club-16/
LOCATION:Wayne County Public Library – Goldsboro\, 1001 E Ash Street\, Goldsboro\, NC\, 27530\, United States
CATEGORIES:Adult,Goldsboro,Library Book Club
END:VEVENT
END:VCALENDAR