BEGIN:VCALENDAR
VERSION:2.0
PRODID:-//Wayne County Public Library - ECPv6.15.20//NONSGML v1.0//EN
CALSCALE:GREGORIAN
METHOD:PUBLISH
X-WR-CALNAME:Wayne County Public Library
X-ORIGINAL-URL:https://wcpl.org
X-WR-CALDESC:Events for Wayne County Public Library
REFRESH-INTERVAL;VALUE=DURATION:PT1H
X-Robots-Tag:noindex
X-PUBLISHED-TTL:PT1H
BEGIN:VTIMEZONE
TZID:America/New_York
BEGIN:DAYLIGHT
TZOFFSETFROM:-0500
TZOFFSETTO:-0400
TZNAME:EDT
DTSTART:20240310T070000
END:DAYLIGHT
BEGIN:STANDARD
TZOFFSETFROM:-0400
TZOFFSETTO:-0500
TZNAME:EST
DTSTART:20241103T060000
END:STANDARD
BEGIN:DAYLIGHT
TZOFFSETFROM:-0500
TZOFFSETTO:-0400
TZNAME:EDT
DTSTART:20250309T070000
END:DAYLIGHT
BEGIN:STANDARD
TZOFFSETFROM:-0400
TZOFFSETTO:-0500
TZNAME:EST
DTSTART:20251102T060000
END:STANDARD
BEGIN:DAYLIGHT
TZOFFSETFROM:-0500
TZOFFSETTO:-0400
TZNAME:EDT
DTSTART:20260308T070000
END:DAYLIGHT
BEGIN:STANDARD
TZOFFSETFROM:-0400
TZOFFSETTO:-0500
TZNAME:EST
DTSTART:20261101T060000
END:STANDARD
END:VTIMEZONE
BEGIN:VEVENT
DTSTART;TZID=America/New_York:20250401T103000
DTEND;TZID=America/New_York:20250401T110000
DTSTAMP:20260423T063240
CREATED:20250324T152842Z
LAST-MODIFIED:20250324T152842Z
UID:17180-1743503400-1743505200@wcpl.org
SUMMARY:Early Explorers
DESCRIPTION:Join us for our new kindergarten readiness program. For ages 3-5 with a parent or caregiver.  Programs will guide children as they learn social skills\, as well as letter\, number\, shape\, and color recognition. \n 
URL:https://wcpl.org/event/early-explorers-27/
LOCATION:Wayne County Public Library – Goldsboro\, 1001 E Ash Street\, Goldsboro\, NC\, 27530\, United States
CATEGORIES:Children,Goldsboro
END:VEVENT
BEGIN:VEVENT
DTSTART;TZID=America/New_York:20250401T160000
DTEND;TZID=America/New_York:20250401T170000
DTSTAMP:20260423T063240
CREATED:20250324T155217Z
LAST-MODIFIED:20250324T155217Z
UID:17218-1743523200-1743526800@wcpl.org
SUMMARY:Young Artist Program (Elementary)
DESCRIPTION:Join us each month as we learn about some of the greatest artists in the world and then create a masterpiece inspired by their art!  Ages 5-8.  This month we’ll learn about the contemporary Australian artist\, Pete Cromer.
URL:https://wcpl.org/event/young-artist-program-elementary-11/
LOCATION:Wayne County Public Library – Goldsboro\, 1001 E Ash Street\, Goldsboro\, NC\, 27530\, United States
CATEGORIES:Children,Goldsboro
END:VEVENT
END:VCALENDAR