BEGIN:VCALENDAR
VERSION:2.0
PRODID:-//Wayne County Public Library - ECPv6.15.20//NONSGML v1.0//EN
CALSCALE:GREGORIAN
METHOD:PUBLISH
X-ORIGINAL-URL:https://wcpl.org
X-WR-CALDESC:Events for Wayne County Public Library
REFRESH-INTERVAL;VALUE=DURATION:PT1H
X-Robots-Tag:noindex
X-PUBLISHED-TTL:PT1H
BEGIN:VTIMEZONE
TZID:America/New_York
BEGIN:DAYLIGHT
TZOFFSETFROM:-0500
TZOFFSETTO:-0400
TZNAME:EDT
DTSTART:20240310T070000
END:DAYLIGHT
BEGIN:STANDARD
TZOFFSETFROM:-0400
TZOFFSETTO:-0500
TZNAME:EST
DTSTART:20241103T060000
END:STANDARD
BEGIN:DAYLIGHT
TZOFFSETFROM:-0500
TZOFFSETTO:-0400
TZNAME:EDT
DTSTART:20250309T070000
END:DAYLIGHT
BEGIN:STANDARD
TZOFFSETFROM:-0400
TZOFFSETTO:-0500
TZNAME:EST
DTSTART:20251102T060000
END:STANDARD
BEGIN:DAYLIGHT
TZOFFSETFROM:-0500
TZOFFSETTO:-0400
TZNAME:EDT
DTSTART:20260308T070000
END:DAYLIGHT
BEGIN:STANDARD
TZOFFSETFROM:-0400
TZOFFSETTO:-0500
TZNAME:EST
DTSTART:20261101T060000
END:STANDARD
END:VTIMEZONE
BEGIN:VEVENT
DTSTART;TZID=America/New_York:20250319T093000
DTEND;TZID=America/New_York:20250319T100000
DTSTAMP:20260423T075820
CREATED:20250214T204633Z
LAST-MODIFIED:20250214T204633Z
UID:16659-1742376600-1742378400@wcpl.org
SUMMARY:Baby and Me
DESCRIPTION:An introduction to books\, reading\, and language through stories\, songs\, rhymes\, and movement. For ages 0-2 with a parent or caregiver. \n 
URL:https://wcpl.org/event/baby-and-me-95/
LOCATION:Wayne County Public Library – Goldsboro\, 1001 E Ash Street\, Goldsboro\, NC\, 27530\, United States
CATEGORIES:Children,Goldsboro
END:VEVENT
BEGIN:VEVENT
DTSTART;TZID=America/New_York:20250319T103000
DTEND;TZID=America/New_York:20250319T110000
DTSTAMP:20260423T075820
CREATED:20250214T205522Z
LAST-MODIFIED:20250214T205522Z
UID:16669-1742380200-1742382000@wcpl.org
SUMMARY:Storytime
DESCRIPTION:An introduction to books\, reading\, and language through stories\, songs\, rhymes\, and movement. For ages 3-5 with a parent or caregiver. \n 
URL:https://wcpl.org/event/storytime-56/
LOCATION:Wayne County Public Library – Goldsboro\, 1001 E Ash Street\, Goldsboro\, NC\, 27530\, United States
CATEGORIES:Children,Goldsboro
END:VEVENT
BEGIN:VEVENT
DTSTART;TZID=America/New_York:20250319T160000
DTEND;TZID=America/New_York:20250319T170000
DTSTAMP:20260423T075820
CREATED:20250206T214433Z
LAST-MODIFIED:20250206T214433Z
UID:16515-1742400000-1742403600@wcpl.org
SUMMARY:Parchment to Pixels 
DESCRIPTION:Join us in the Local History room to transcribe historical documents from our collection. Bring your own laptop or use one of ours! Call 919-735-1824 ext 5100 to register. \n 
URL:https://wcpl.org/event/parchment-to-pixels/
LOCATION:Wayne County Public Library – Goldsboro\, 1001 E Ash Street\, Goldsboro\, NC\, 27530\, United States
CATEGORIES:Adult,Goldsboro,Local History
END:VEVENT
BEGIN:VEVENT
DTSTART;TZID=America/New_York:20250319T163000
DTEND;TZID=America/New_York:20250319T173000
DTSTAMP:20260423T075820
CREATED:20250206T214301Z
LAST-MODIFIED:20250206T214301Z
UID:16513-1742401800-1742405400@wcpl.org
SUMMARY:Lo-fi Study Hour 
DESCRIPTION:Need a space to unwind and focus on your schoolwork? Set up in our auditorium and enjoy peaceful lo-fi beats as you study. Grab a few snacks and knock out that assignment! \n 
URL:https://wcpl.org/event/lo-fi-study-hour-3/
LOCATION:Wayne County Public Library – Goldsboro\, 1001 E Ash Street\, Goldsboro\, NC\, 27530\, United States
CATEGORIES:Goldsboro,Teens
END:VEVENT
BEGIN:VEVENT
DTSTART;TZID=America/New_York:20250319T180000
DTEND;TZID=America/New_York:20250319T190000
DTSTAMP:20260423T075820
CREATED:20250206T214951Z
LAST-MODIFIED:20250206T214951Z
UID:16517-1742407200-1742410800@wcpl.org
SUMMARY:Wellness Wednesday: Hearing Health 
DESCRIPTION:Join us for our monthly Wellness Wednesday series! This month\, Sylvia Judd from UNC Health Wayne will join us to discuss hearing health. Call 919-735-1824 Ext 5100 to register or for more information.  We’ll meet in the Yellow Study Room at the Goldsboro Library. \n 
URL:https://wcpl.org/event/wellness-wednesday-hearing-health/
LOCATION:Wayne County Public Library – Goldsboro\, 1001 E Ash Street\, Goldsboro\, NC\, 27530\, United States
CATEGORIES:Adult,Goldsboro
END:VEVENT
END:VCALENDAR