BEGIN:VCALENDAR
VERSION:2.0
PRODID:-//Wayne County Public Library - ECPv6.15.20//NONSGML v1.0//EN
CALSCALE:GREGORIAN
METHOD:PUBLISH
X-WR-CALNAME:Wayne County Public Library
X-ORIGINAL-URL:https://wcpl.org
X-WR-CALDESC:Events for Wayne County Public Library
REFRESH-INTERVAL;VALUE=DURATION:PT1H
X-Robots-Tag:noindex
X-PUBLISHED-TTL:PT1H
BEGIN:VTIMEZONE
TZID:America/New_York
BEGIN:DAYLIGHT
TZOFFSETFROM:-0500
TZOFFSETTO:-0400
TZNAME:EDT
DTSTART:20240310T070000
END:DAYLIGHT
BEGIN:STANDARD
TZOFFSETFROM:-0400
TZOFFSETTO:-0500
TZNAME:EST
DTSTART:20241103T060000
END:STANDARD
BEGIN:DAYLIGHT
TZOFFSETFROM:-0500
TZOFFSETTO:-0400
TZNAME:EDT
DTSTART:20250309T070000
END:DAYLIGHT
BEGIN:STANDARD
TZOFFSETFROM:-0400
TZOFFSETTO:-0500
TZNAME:EST
DTSTART:20251102T060000
END:STANDARD
BEGIN:DAYLIGHT
TZOFFSETFROM:-0500
TZOFFSETTO:-0400
TZNAME:EDT
DTSTART:20260308T070000
END:DAYLIGHT
BEGIN:STANDARD
TZOFFSETFROM:-0400
TZOFFSETTO:-0500
TZNAME:EST
DTSTART:20261101T060000
END:STANDARD
END:VTIMEZONE
BEGIN:VEVENT
DTSTART;TZID=America/New_York:20250311T103000
DTEND;TZID=America/New_York:20250311T110000
DTSTAMP:20260423T075739
CREATED:20250214T204139Z
LAST-MODIFIED:20250214T204139Z
UID:16649-1741689000-1741690800@wcpl.org
SUMMARY:Early Explorers
DESCRIPTION:Join us for our new kindergarten readiness program. For ages 3-5 with a parent or caregiver.  Programs will guide children as they learn social skills\, as well as letter\, number\, shape\, and color recognition. \n 
URL:https://wcpl.org/event/early-explorers-24/
LOCATION:Wayne County Public Library – Goldsboro\, 1001 E Ash Street\, Goldsboro\, NC\, 27530\, United States
CATEGORIES:Children,Goldsboro
END:VEVENT
BEGIN:VEVENT
DTSTART;TZID=America/New_York:20250311T160000
DTEND;TZID=America/New_York:20250311T170000
DTSTAMP:20260423T075739
CREATED:20250214T210253Z
LAST-MODIFIED:20250214T210253Z
UID:16681-1741708800-1741712400@wcpl.org
SUMMARY:Time Travelers Club (Elementary)
DESCRIPTION:Join us as we travel through time learning about local and world history events and how they have shaped our world today.  Grades K-4th. \n 
URL:https://wcpl.org/event/time-travelers-club-elementary-7/
LOCATION:Wayne County Public Library – Goldsboro\, 1001 E Ash Street\, Goldsboro\, NC\, 27530\, United States
CATEGORIES:Children,Goldsboro
END:VEVENT
BEGIN:VEVENT
DTSTART;TZID=America/New_York:20250311T173000
DTEND;TZID=America/New_York:20250311T190000
DTSTAMP:20260423T075739
CREATED:20250206T213415Z
LAST-MODIFIED:20250206T213415Z
UID:16505-1741714200-1741719600@wcpl.org
SUMMARY:Goldsboro Cross Stitchers 
DESCRIPTION:Join the Goldsboro Cross Stitchers! Connect with other people who enjoy cross stitch and learn new tips and tricks! Call 919-735-1824 Ext 5100 to register or for more information. \n 
URL:https://wcpl.org/event/goldsboro-cross-stitchers-2/
LOCATION:Wayne County Public Library – Goldsboro\, 1001 E Ash Street\, Goldsboro\, NC\, 27530\, United States
CATEGORIES:Adult,Goldsboro
END:VEVENT
BEGIN:VEVENT
DTSTART;TZID=America/New_York:20250311T180000
DTEND;TZID=America/New_York:20250311T190000
DTSTAMP:20260423T075739
CREATED:20250206T213239Z
LAST-MODIFIED:20250206T213239Z
UID:16503-1741716000-1741719600@wcpl.org
SUMMARY:Family History Show and Tell 
DESCRIPTION:Join us for an evening of sharing memories and stories! Do you have a historic family photo or heirloom you think everyone should see? Now is your time to share! Bring a historic photo or other family treasure to share with the group! Limit one item per person. Space is limited. Registration required! Call 919-735-1824 ext 1830. \n 
URL:https://wcpl.org/event/family-history-show-and-tell/
LOCATION:Wayne County Public Library – Goldsboro\, 1001 E Ash Street\, Goldsboro\, NC\, 27530\, United States
CATEGORIES:Adult,Goldsboro,Local History
END:VEVENT
END:VCALENDAR