BEGIN:VCALENDAR
VERSION:2.0
PRODID:-//Wayne County Public Library - ECPv6.15.20//NONSGML v1.0//EN
CALSCALE:GREGORIAN
METHOD:PUBLISH
X-ORIGINAL-URL:https://wcpl.org
X-WR-CALDESC:Events for Wayne County Public Library
REFRESH-INTERVAL;VALUE=DURATION:PT1H
X-Robots-Tag:noindex
X-PUBLISHED-TTL:PT1H
BEGIN:VTIMEZONE
TZID:America/New_York
BEGIN:DAYLIGHT
TZOFFSETFROM:-0500
TZOFFSETTO:-0400
TZNAME:EDT
DTSTART:20240310T070000
END:DAYLIGHT
BEGIN:STANDARD
TZOFFSETFROM:-0400
TZOFFSETTO:-0500
TZNAME:EST
DTSTART:20241103T060000
END:STANDARD
BEGIN:DAYLIGHT
TZOFFSETFROM:-0500
TZOFFSETTO:-0400
TZNAME:EDT
DTSTART:20250309T070000
END:DAYLIGHT
BEGIN:STANDARD
TZOFFSETFROM:-0400
TZOFFSETTO:-0500
TZNAME:EST
DTSTART:20251102T060000
END:STANDARD
BEGIN:DAYLIGHT
TZOFFSETFROM:-0500
TZOFFSETTO:-0400
TZNAME:EDT
DTSTART:20260308T070000
END:DAYLIGHT
BEGIN:STANDARD
TZOFFSETFROM:-0400
TZOFFSETTO:-0500
TZNAME:EST
DTSTART:20261101T060000
END:STANDARD
END:VTIMEZONE
BEGIN:VEVENT
DTSTART;TZID=America/New_York:20250306T103000
DTEND;TZID=America/New_York:20250306T110000
DTSTAMP:20260423T075821
CREATED:20250214T205703Z
LAST-MODIFIED:20250214T205703Z
UID:16671-1741257000-1741258800@wcpl.org
SUMMARY:Music and Movement (Goldsboro)
DESCRIPTION:Let’s boost our brains with music and movement! For ages 0 – 5 with a parent or caregiver. \n 
URL:https://wcpl.org/event/music-and-movement-goldsboro-9/
LOCATION:Wayne County Public Library – Goldsboro\, 1001 E Ash Street\, Goldsboro\, NC\, 27530\, United States
CATEGORIES:Children,Goldsboro
END:VEVENT
BEGIN:VEVENT
DTSTART;TZID=America/New_York:20250306T160000
DTEND;TZID=America/New_York:20250306T170000
DTSTAMP:20260423T075821
CREATED:20250214T210531Z
LAST-MODIFIED:20250214T210714Z
UID:16685-1741276800-1741280400@wcpl.org
SUMMARY:Young Artist Program (Tweens)
DESCRIPTION:Join us each month as we learn about some of the greatest artists in the world and then create a masterpiece inspired by their art! This month we’ll learn about Hokusai\, a Japanese ukiyo-e artist. For grades 5th – 8th. \n 
URL:https://wcpl.org/event/young-artist-program-tweens-5/
LOCATION:Wayne County Public Library – Goldsboro\, 1001 E Ash Street\, Goldsboro\, NC\, 27530\, United States
CATEGORIES:Goldsboro,Tweens
END:VEVENT
BEGIN:VEVENT
DTSTART;TZID=America/New_York:20250306T170000
DTEND;TZID=America/New_York:20250306T180000
DTSTAMP:20260423T075821
CREATED:20250206T212936Z
LAST-MODIFIED:20250206T212936Z
UID:16499-1741280400-1741284000@wcpl.org
SUMMARY:Our Favorite Reads Book Club 
DESCRIPTION:Join the conversation at a meeting of Our Favorite Reads book club. Share what you are reading and get recommendations from other members. Registration is suggested. Call 919-735-1824 ext 5100 for more information. \n 
URL:https://wcpl.org/event/our-favorite-reads-book-club-15/
LOCATION:Wayne County Public Library – Goldsboro\, 1001 E Ash Street\, Goldsboro\, NC\, 27530\, United States
CATEGORIES:Adult,Goldsboro
END:VEVENT
BEGIN:VEVENT
DTSTART;TZID=America/New_York:20250306T180000
DTEND;TZID=America/New_York:20250306T193000
DTSTAMP:20260423T075821
CREATED:20250206T213130Z
LAST-MODIFIED:20250206T213130Z
UID:16501-1741284000-1741289400@wcpl.org
SUMMARY:Her Own Words: Women’s Voices via Diaries\, Correspondence\, and More! 
DESCRIPTION:Join us as we learn from professional genealogist Diane L. Richard! Women can be hard to document in genealogy research. Exploring diaries\, letters\, and other materials gives us insight into their lives. Let’s explore different types of female voices in family history research – often\, in their own words! For more information\, call 919-735-1824 ext 1830. \n 
URL:https://wcpl.org/event/her-own-words-womens-voices-via-diaries-correspondence-and-more/
LOCATION:Wayne County Public Library – Goldsboro\, 1001 E Ash Street\, Goldsboro\, NC\, 27530\, United States
CATEGORIES:Adult,Goldsboro,Local History
END:VEVENT
END:VCALENDAR