BEGIN:VCALENDAR
VERSION:2.0
PRODID:-//Wayne County Public Library - ECPv6.15.20//NONSGML v1.0//EN
CALSCALE:GREGORIAN
METHOD:PUBLISH
X-ORIGINAL-URL:https://wcpl.org
X-WR-CALDESC:Events for Wayne County Public Library
REFRESH-INTERVAL;VALUE=DURATION:PT1H
X-Robots-Tag:noindex
X-PUBLISHED-TTL:PT1H
BEGIN:VTIMEZONE
TZID:America/New_York
BEGIN:DAYLIGHT
TZOFFSETFROM:-0500
TZOFFSETTO:-0400
TZNAME:EDT
DTSTART:20240310T070000
END:DAYLIGHT
BEGIN:STANDARD
TZOFFSETFROM:-0400
TZOFFSETTO:-0500
TZNAME:EST
DTSTART:20241103T060000
END:STANDARD
BEGIN:DAYLIGHT
TZOFFSETFROM:-0500
TZOFFSETTO:-0400
TZNAME:EDT
DTSTART:20250309T070000
END:DAYLIGHT
BEGIN:STANDARD
TZOFFSETFROM:-0400
TZOFFSETTO:-0500
TZNAME:EST
DTSTART:20251102T060000
END:STANDARD
BEGIN:DAYLIGHT
TZOFFSETFROM:-0500
TZOFFSETTO:-0400
TZNAME:EDT
DTSTART:20260308T070000
END:DAYLIGHT
BEGIN:STANDARD
TZOFFSETFROM:-0400
TZOFFSETTO:-0500
TZNAME:EST
DTSTART:20261101T060000
END:STANDARD
END:VTIMEZONE
BEGIN:VEVENT
DTSTART;TZID=America/New_York:20250305T093000
DTEND;TZID=America/New_York:20250305T100000
DTSTAMP:20260423T075821
CREATED:20250214T204426Z
LAST-MODIFIED:20250214T204426Z
UID:16655-1741167000-1741168800@wcpl.org
SUMMARY:Baby and Me
DESCRIPTION:An introduction to books\, reading\, and language through stories\, songs\, rhymes\, and movement. For ages 0-2 with a parent or caregiver. \n 
URL:https://wcpl.org/event/baby-and-me-93/
LOCATION:Wayne County Public Library – Goldsboro\, 1001 E Ash Street\, Goldsboro\, NC\, 27530\, United States
CATEGORIES:Children,Goldsboro
END:VEVENT
BEGIN:VEVENT
DTSTART;TZID=America/New_York:20250305T103000
DTEND;TZID=America/New_York:20250305T110000
DTSTAMP:20260423T075821
CREATED:20250214T205203Z
LAST-MODIFIED:20250214T205203Z
UID:16663-1741170600-1741172400@wcpl.org
SUMMARY:Storytime
DESCRIPTION:An introduction to books\, reading\, and language through stories\, songs\, rhymes\, and movement. For ages 3-5 with a parent or caregiver. \n 
URL:https://wcpl.org/event/storytime-53/
LOCATION:Wayne County Public Library – Goldsboro\, 1001 E Ash Street\, Goldsboro\, NC\, 27530\, United States
CATEGORIES:Children,Goldsboro
END:VEVENT
END:VCALENDAR