BEGIN:VCALENDAR
VERSION:2.0
PRODID:-//Wayne County Public Library - ECPv6.15.20//NONSGML v1.0//EN
CALSCALE:GREGORIAN
METHOD:PUBLISH
X-WR-CALNAME:Wayne County Public Library
X-ORIGINAL-URL:https://wcpl.org
X-WR-CALDESC:Events for Wayne County Public Library
REFRESH-INTERVAL;VALUE=DURATION:PT1H
X-Robots-Tag:noindex
X-PUBLISHED-TTL:PT1H
BEGIN:VTIMEZONE
TZID:America/New_York
BEGIN:DAYLIGHT
TZOFFSETFROM:-0500
TZOFFSETTO:-0400
TZNAME:EDT
DTSTART:20240310T070000
END:DAYLIGHT
BEGIN:STANDARD
TZOFFSETFROM:-0400
TZOFFSETTO:-0500
TZNAME:EST
DTSTART:20241103T060000
END:STANDARD
BEGIN:DAYLIGHT
TZOFFSETFROM:-0500
TZOFFSETTO:-0400
TZNAME:EDT
DTSTART:20250309T070000
END:DAYLIGHT
BEGIN:STANDARD
TZOFFSETFROM:-0400
TZOFFSETTO:-0500
TZNAME:EST
DTSTART:20251102T060000
END:STANDARD
BEGIN:DAYLIGHT
TZOFFSETFROM:-0500
TZOFFSETTO:-0400
TZNAME:EDT
DTSTART:20260308T070000
END:DAYLIGHT
BEGIN:STANDARD
TZOFFSETFROM:-0400
TZOFFSETTO:-0500
TZNAME:EST
DTSTART:20261101T060000
END:STANDARD
END:VTIMEZONE
BEGIN:VEVENT
DTSTART;TZID=America/New_York:20251101T100000
DTEND;TZID=America/New_York:20251101T113000
DTSTAMP:20260422T160749
CREATED:20251008T163952Z
LAST-MODIFIED:20251008T163952Z
UID:20546-1761991200-1761996600@wcpl.org
SUMMARY:Audiobook Trekkers 
DESCRIPTION:Do you enjoy listening to audiobooks? Walk while you listen! We will meet at the Stoney Creek Park Welcome Center. Registration is suggested. Call 919-735-1824 ext 5100 for more information. \n 
URL:https://wcpl.org/event/audiobook-trekkers-2/
LOCATION:Stoney Creek Park\, 2200 Ash St.\, Goldsboro\, NC\, 27530
CATEGORIES:Adult,Goldsboro,Library Book Club
END:VEVENT
BEGIN:VEVENT
DTSTART;TZID=America/New_York:20251101T100000
DTEND;TZID=America/New_York:20251101T120000
DTSTAMP:20260422T160749
CREATED:20251010T152040Z
LAST-MODIFIED:20251010T152040Z
UID:20709-1761991200-1761998400@wcpl.org
SUMMARY:Reading Tails with Dolly (Goldsboro)
DESCRIPTION:Practice your reading skills with Dolly the therapy dog! She loves to listen to students read. Students will practice their reading skills in a comfortable\, fun setting. Dolly’s owner is a certified teacher that will be glad to share tips along the way to make reading more enjoyable.  By appointment only during the hours of 10:00-12:00pm.  Register here. \n 
URL:https://wcpl.org/event/reading-tails-with-dolly-goldsboro-3/
LOCATION:Wayne County Public Library – Goldsboro\, 1001 E Ash Street\, Goldsboro\, NC\, 27530\, United States
CATEGORIES:Children,Goldsboro
END:VEVENT
BEGIN:VEVENT
DTSTART;TZID=America/New_York:20251103T180000
DTEND;TZID=America/New_York:20251103T190000
DTSTAMP:20260422T160749
CREATED:20251008T170430Z
LAST-MODIFIED:20251015T162520Z
UID:20553-1762192800-1762196400@wcpl.org
SUMMARY:TV Hour: The Nanny 
DESCRIPTION:Celebrate the best of television with our weekly watch party!  Dress to impress with the woman from Flushing\, Queens.  We’ll nibble on slices of babka and enjoy the best episodes of The Nanny! Registration highly recommended. Call (919)-735-1824 ext. 5110 to register. \n 
URL:https://wcpl.org/event/tv-hour-the-nanny/
LOCATION:Wayne County Public Library – Goldsboro\, 1001 E Ash Street\, Goldsboro\, NC\, 27530\, United States
CATEGORIES:Adult,Goldsboro,Teens
END:VEVENT
BEGIN:VEVENT
DTSTART;TZID=America/New_York:20251104T103000
DTEND;TZID=America/New_York:20251104T110000
DTSTAMP:20260422T160749
CREATED:20251023T182135Z
LAST-MODIFIED:20251023T182135Z
UID:20793-1762252200-1762254000@wcpl.org
SUMMARY:Early Explorers
DESCRIPTION:Join us for our kindergarten-readiness program.  For ages 3-5 with a parent or caregiver. Programs will guide children as they learn social skills\, as well as letter\, number\, shape\, and color recognition. No registration required. \n 
URL:https://wcpl.org/event/early-explorers-2/
LOCATION:Wayne County Public Library – Goldsboro\, 1001 E Ash Street\, Goldsboro\, NC\, 27530\, United States
CATEGORIES:Children,Goldsboro
END:VEVENT
BEGIN:VEVENT
DTSTART;TZID=America/New_York:20251104T163000
DTEND;TZID=America/New_York:20251104T173000
DTSTAMP:20260422T160749
CREATED:20251023T183634Z
LAST-MODIFIED:20251023T183634Z
UID:20815-1762273800-1762277400@wcpl.org
SUMMARY:STEAM Club (Goldsboro)
DESCRIPTION:Join us each month as we complete a new monthly STEAM challenge. For grades K-5th. No registration required. \n 
URL:https://wcpl.org/event/steam-club-goldsboro-3/
LOCATION:Wayne County Public Library – Goldsboro\, 1001 E Ash Street\, Goldsboro\, NC\, 27530\, United States
CATEGORIES:Children,Goldsboro
END:VEVENT
BEGIN:VEVENT
DTSTART;TZID=America/New_York:20251104T170000
DTEND;TZID=America/New_York:20251104T180000
DTSTAMP:20260422T160749
CREATED:20251008T165548Z
LAST-MODIFIED:20251008T165548Z
UID:20549-1762275600-1762279200@wcpl.org
SUMMARY:Recipe Club 
DESCRIPTION:Thanksgiving is fast approaching and we all want to be equipped with the best recipes for our family table! Have a go-to recipe you want to share or just looking for a new side dish to try? Join us to chat all things Thanksgiving recipes! Call 919-735-1824 ext 5100 to register. \n 
URL:https://wcpl.org/event/recipe-club-2/
LOCATION:Wayne County Public Library – Goldsboro\, 1001 E Ash Street\, Goldsboro\, NC\, 27530\, United States
CATEGORIES:Adult,Goldsboro
END:VEVENT
BEGIN:VEVENT
DTSTART;TZID=America/New_York:20251105T093000
DTEND;TZID=America/New_York:20251105T100000
DTSTAMP:20260422T160749
CREATED:20251023T182416Z
LAST-MODIFIED:20251023T182416Z
UID:20797-1762335000-1762336800@wcpl.org
SUMMARY:Baby and Me  (Goldsboro)
DESCRIPTION:An introduction to books\, reading and language through stories\, songs\, rhymes\, and movement. For ages 0-2 with a parent or caregiver.  No registration required. \n 
URL:https://wcpl.org/event/baby-and-me-goldsboro-19/
LOCATION:Wayne County Public Library – Goldsboro\, 1001 E Ash Street\, Goldsboro\, NC\, 27530\, United States
CATEGORIES:Children,Goldsboro
END:VEVENT
BEGIN:VEVENT
DTSTART;TZID=America/New_York:20251105T103000
DTEND;TZID=America/New_York:20251105T110000
DTSTAMP:20260422T160749
CREATED:20251023T182807Z
LAST-MODIFIED:20251023T182807Z
UID:20803-1762338600-1762340400@wcpl.org
SUMMARY:Storytime  (Goldsboro)
DESCRIPTION:An introduction to books\, reading and language through stories\, songs\, rhymes\, and movement. For ages 3-5 with a parent or caregiver. No registration required. \n 
URL:https://wcpl.org/event/storytime-goldsboro-23/
LOCATION:Wayne County Public Library – Goldsboro\, 1001 E Ash Street\, Goldsboro\, NC\, 27530\, United States
CATEGORIES:Children,Goldsboro
END:VEVENT
BEGIN:VEVENT
DTSTART;TZID=America/New_York:20251105T160000
DTEND;TZID=America/New_York:20251105T170000
DTSTAMP:20260422T160749
CREATED:20251008T170820Z
LAST-MODIFIED:20251008T170820Z
UID:20559-1762358400-1762362000@wcpl.org
SUMMARY:Getting Started with Family History
DESCRIPTION:Ready to start your genealogy project? Join us for tips and resources that will make your research easier and learn about the databases available to you at the library! Call 919-735-1824 ext 5100 to register. \n 
URL:https://wcpl.org/event/getting-started-with-family-history/
LOCATION:Wayne County Public Library – Goldsboro\, 1001 E Ash Street\, Goldsboro\, NC\, 27530\, United States
CATEGORIES:Adult,Goldsboro,Local History
END:VEVENT
BEGIN:VEVENT
DTSTART;TZID=America/New_York:20251106T103000
DTEND;TZID=America/New_York:20251106T110000
DTSTAMP:20260422T160749
CREATED:20251023T183152Z
LAST-MODIFIED:20251023T183152Z
UID:20809-1762425000-1762426800@wcpl.org
SUMMARY:Music and Movement  (Goldsboro)
DESCRIPTION:Let’s boost our brains with music and movement! For ages 0 – 5 with a parent or caregiver.  No registration required. \n 
URL:https://wcpl.org/event/music-and-movement-goldsboro-30/
LOCATION:Wayne County Public Library – Goldsboro\, 1001 E Ash Street\, Goldsboro\, NC\, 27530\, United States
CATEGORIES:Children,Goldsboro
END:VEVENT
BEGIN:VEVENT
DTSTART;TZID=America/New_York:20251106T163000
DTEND;TZID=America/New_York:20251106T173000
DTSTAMP:20260422T160749
CREATED:20251023T183959Z
LAST-MODIFIED:20251023T183959Z
UID:20819-1762446600-1762450200@wcpl.org
SUMMARY:Tween STEAM Club
DESCRIPTION:Join us each month as we complete a new monthly STEAM challenge. For grades 6th-8th. No registration required. \n 
URL:https://wcpl.org/event/tween-steam-club-3/
LOCATION:Wayne County Public Library – Goldsboro\, 1001 E Ash Street\, Goldsboro\, NC\, 27530\, United States
CATEGORIES:Goldsboro,Tweens
END:VEVENT
BEGIN:VEVENT
DTSTART;TZID=America/New_York:20251108T140000
DTEND;TZID=America/New_York:20251108T153000
DTSTAMP:20260422T160749
CREATED:20251008T171000Z
LAST-MODIFIED:20251008T171000Z
UID:20561-1762610400-1762615800@wcpl.org
SUMMARY:Adult Crafting: Fall Centerpieces 
DESCRIPTION:What do you get when you take a pool noodle\, zip ties\, florals and combine them together? A beautiful centerpiece for the holidays! Thanksgiving is just around the corner\, so come join us as we craft centerpieces to celebrate! Registration required. Contact 919-735-1824 ext 5100 to register. \n 
URL:https://wcpl.org/event/adult-crafting-fall-centerpieces/
LOCATION:Wayne County Public Library – Goldsboro\, 1001 E Ash Street\, Goldsboro\, NC\, 27530\, United States
CATEGORIES:Adult,Goldsboro
END:VEVENT
BEGIN:VEVENT
DTSTART;TZID=America/New_York:20251110T140000
DTEND;TZID=America/New_York:20251110T150000
DTSTAMP:20260422T160749
CREATED:20251008T171801Z
LAST-MODIFIED:20251008T171801Z
UID:20563-1762783200-1762786800@wcpl.org
SUMMARY:Blank Page Society 
DESCRIPTION:Want to start journaling but don’t know where to start? Join the Blank Page Society for uninterrupted writing time\, fun prompts\, and optional sharing. All materials provided\, but feel free to bring your own!  Call 919-735-1824 ext 5100 to register! Meet in the Local History Room. \n 
URL:https://wcpl.org/event/blank-page-society-3/
LOCATION:Wayne County Public Library – Goldsboro\, 1001 E Ash Street\, Goldsboro\, NC\, 27530\, United States
CATEGORIES:Adult,Goldsboro
END:VEVENT
BEGIN:VEVENT
DTSTART;TZID=America/New_York:20251110T160000
DTEND;TZID=America/New_York:20251110T170000
DTSTAMP:20260422T160749
CREATED:20251008T165733Z
LAST-MODIFIED:20251008T165733Z
UID:20551-1762790400-1762794000@wcpl.org
SUMMARY:Fold3 Workshop 
DESCRIPTION:Interested in learning about Fold3? Come explore the database\, and learn how to search for ancestors through military records! Call 919-735-1824 ext 5100 to register. \n 
URL:https://wcpl.org/event/fold3-workshop/
LOCATION:Wayne County Public Library – Goldsboro\, 1001 E Ash Street\, Goldsboro\, NC\, 27530\, United States
CATEGORIES:Adult,Goldsboro,Local History
END:VEVENT
BEGIN:VEVENT
DTSTART;TZID=America/New_York:20251110T180000
DTEND;TZID=America/New_York:20251110T190000
DTSTAMP:20260422T160749
CREATED:20251008T170550Z
LAST-MODIFIED:20251015T162419Z
UID:20555-1762797600-1762801200@wcpl.org
SUMMARY:TV Hour: The Nanny 
DESCRIPTION:Celebrate the best of television with our weekly watch party!  Dress to impress with the woman from Flushing\, Queens.  We’ll nibble on slices of babka and enjoy the best episodes of The Nanny! Registration highly recommended. Call (919)-735-1824 ext. 5110 to register. \n 
URL:https://wcpl.org/event/tv-hour-the-nanny-2/
LOCATION:Wayne County Public Library – Goldsboro\, 1001 E Ash Street\, Goldsboro\, NC\, 27530\, United States
CATEGORIES:Adult,Goldsboro,Teens
END:VEVENT
BEGIN:VEVENT
DTSTART;TZID=America/New_York:20251112T093000
DTEND;TZID=America/New_York:20251112T100000
DTSTAMP:20260422T160749
CREATED:20251023T182528Z
LAST-MODIFIED:20251023T182528Z
UID:20799-1762939800-1762941600@wcpl.org
SUMMARY:Baby and Me  (Goldsboro)
DESCRIPTION:An introduction to books\, reading and language through stories\, songs\, rhymes\, and movement. For ages 0-2 with a parent or caregiver.  No registration required. \n 
URL:https://wcpl.org/event/baby-and-me-goldsboro-22/
LOCATION:Wayne County Public Library – Goldsboro\, 1001 E Ash Street\, Goldsboro\, NC\, 27530\, United States
CATEGORIES:Children,Goldsboro
END:VEVENT
BEGIN:VEVENT
DTSTART;TZID=America/New_York:20251112T103000
DTEND;TZID=America/New_York:20251112T110000
DTSTAMP:20260422T160749
CREATED:20251023T182923Z
LAST-MODIFIED:20251023T182923Z
UID:20805-1762943400-1762945200@wcpl.org
SUMMARY:Storytime  (Goldsboro)
DESCRIPTION:An introduction to books\, reading and language through stories\, songs\, rhymes\, and movement. For ages 3-5 with a parent or caregiver. No registration required. \n 
URL:https://wcpl.org/event/storytime-goldsboro-26/
LOCATION:Wayne County Public Library – Goldsboro\, 1001 E Ash Street\, Goldsboro\, NC\, 27530\, United States
CATEGORIES:Children,Goldsboro
END:VEVENT
BEGIN:VEVENT
DTSTART;TZID=America/New_York:20251112T150000
DTEND;TZID=America/New_York:20251112T160000
DTSTAMP:20260422T160749
CREATED:20251008T172023Z
LAST-MODIFIED:20251008T172023Z
UID:20566-1762959600-1762963200@wcpl.org
SUMMARY:Cardio Drumming (Goldsboro)
DESCRIPTION:Join us for Cardio Drumming. Work up a sweat and get into a groovy rhythm! Call 919-735-1824 ext 5100 to register! \n 
URL:https://wcpl.org/event/cardio-drumming-goldsboro-16/
LOCATION:Wayne County Public Library – Goldsboro\, 1001 E Ash Street\, Goldsboro\, NC\, 27530\, United States
CATEGORIES:Adult,Goldsboro
END:VEVENT
BEGIN:VEVENT
DTSTART;TZID=America/New_York:20251112T180000
DTEND;TZID=America/New_York:20251112T190000
DTSTAMP:20260422T160749
CREATED:20251008T172242Z
LAST-MODIFIED:20251008T172242Z
UID:20570-1762970400-1762974000@wcpl.org
SUMMARY:Wellness Wednesday: Diabetes Awareness 
DESCRIPTION:Join us for our monthly Wellness Wednesday series. This month\, Jennifer Loper\, Diabetes Navigator with UNC Health Wayne will be here to share information and tips on managing and recognizing symptoms of Diabetes.  Call 919-735-1824 ext 5100. \n 
URL:https://wcpl.org/event/wellness-wednesday-diabetes-awareness/
LOCATION:Wayne County Public Library – Goldsboro\, 1001 E Ash Street\, Goldsboro\, NC\, 27530\, United States
CATEGORIES:Adult,Goldsboro
END:VEVENT
BEGIN:VEVENT
DTSTART;TZID=America/New_York:20251113T103000
DTEND;TZID=America/New_York:20251113T110000
DTSTAMP:20260422T160749
CREATED:20251023T183313Z
LAST-MODIFIED:20251023T183313Z
UID:20811-1763029800-1763031600@wcpl.org
SUMMARY:Music and Movement  (Goldsboro)
DESCRIPTION:Let’s boost our brains with music and movement! For ages 0 – 5 with a parent or caregiver.  No registration required. \n 
URL:https://wcpl.org/event/music-and-movement-goldsboro-33/
LOCATION:Wayne County Public Library – Goldsboro\, 1001 E Ash Street\, Goldsboro\, NC\, 27530\, United States
CATEGORIES:Children,Goldsboro
END:VEVENT
BEGIN:VEVENT
DTSTART;TZID=America/New_York:20251113T150000
DTEND;TZID=America/New_York:20251113T160000
DTSTAMP:20260422T160749
CREATED:20251008T172849Z
LAST-MODIFIED:20251008T172849Z
UID:20572-1763046000-1763049600@wcpl.org
SUMMARY:Tech for Older Adults 
DESCRIPTION:Are you an older adult who wants to learn more about technology? We can help! Join us as we help with your basic technological needs. Call 919-735-1824 ext 5100. \n 
URL:https://wcpl.org/event/tech-for-older-adults-8/
LOCATION:Wayne County Public Library – Goldsboro\, 1001 E Ash Street\, Goldsboro\, NC\, 27530\, United States
CATEGORIES:Adult,Goldsboro
END:VEVENT
BEGIN:VEVENT
DTSTART;TZID=America/New_York:20251113T163000
DTEND;TZID=America/New_York:20251113T173000
DTSTAMP:20260422T160749
CREATED:20251027T151810Z
LAST-MODIFIED:20251027T151810Z
UID:20830-1763051400-1763055000@wcpl.org
SUMMARY:Tween Game Night (Goldsboro)
DESCRIPTION:Join us for a screen-free evening featuring board games\, snacks and friendly competition.
URL:https://wcpl.org/event/tween-game-night-goldsboro/
LOCATION:Wayne County Public Library – Goldsboro\, 1001 E Ash Street\, Goldsboro\, NC\, 27530\, United States
CATEGORIES:Goldsboro,Tweens
END:VEVENT
BEGIN:VEVENT
DTSTART;TZID=America/New_York:20251117T143000
DTEND;TZID=America/New_York:20251117T160000
DTSTAMP:20260422T160749
CREATED:20251008T173022Z
LAST-MODIFIED:20251008T173022Z
UID:20574-1763389800-1763395200@wcpl.org
SUMMARY:Why Knot? Knit & Crochet Group 
DESCRIPTION:Do you enjoy knitting and crochet? Bring your own materials and join like-minded enthusiasts once a month to knit or crochet and share tips\, tricks and resources. Call 919-735-1824 ext. 5100 for more information. \n 
URL:https://wcpl.org/event/why-knot-knit-crochet-group/
LOCATION:Wayne County Public Library – Goldsboro\, 1001 E Ash Street\, Goldsboro\, NC\, 27530\, United States
CATEGORIES:Adult,Goldsboro
END:VEVENT
BEGIN:VEVENT
DTSTART;TZID=America/New_York:20251117T190000
DTEND;TZID=America/New_York:20251117T193000
DTSTAMP:20260422T160749
CREATED:20251008T170647Z
LAST-MODIFIED:20251008T170647Z
UID:20557-1763406000-1763407800@wcpl.org
SUMMARY:TV Hour: The Nanny 
DESCRIPTION:Celebrate the best of television with our weekly watch party!  Dress to impress with the woman from Flushing\, Queens.  We’ll nibble on slices of babka and enjoy the best episodes of The Nanny! Registration highly recommended. Call (919)-735-1824 ext. 5110 to register. \n 
URL:https://wcpl.org/event/tv-hour-the-nanny-3/
LOCATION:Wayne County Public Library – Goldsboro\, 1001 E Ash Street\, Goldsboro\, NC\, 27530\, United States
CATEGORIES:Adult,Goldsboro,Teens
END:VEVENT
BEGIN:VEVENT
DTSTART;TZID=America/New_York:20251118T103000
DTEND;TZID=America/New_York:20251118T110000
DTSTAMP:20260422T160749
CREATED:20251023T182234Z
LAST-MODIFIED:20251023T182234Z
UID:20795-1763461800-1763463600@wcpl.org
SUMMARY:Early Explorers
DESCRIPTION:Join us for our kindergarten-readiness program.  For ages 3-5 with a parent or caregiver. Programs will guide children as they learn social skills\, as well as letter\, number\, shape\, and color recognition. No registration required. \n 
URL:https://wcpl.org/event/early-explorers-3/
LOCATION:Wayne County Public Library – Goldsboro\, 1001 E Ash Street\, Goldsboro\, NC\, 27530\, United States
CATEGORIES:Children,Goldsboro
END:VEVENT
BEGIN:VEVENT
DTSTART;TZID=America/New_York:20251118T140000
DTEND;TZID=America/New_York:20251118T150000
DTSTAMP:20260422T160749
CREATED:20251008T173208Z
LAST-MODIFIED:20251008T173208Z
UID:20576-1763474400-1763478000@wcpl.org
SUMMARY:Digital Preservation Workshop 
DESCRIPTION:Most of the records of our lives are digital these days. Join us to learn some tips and tricks for preserving your personal digital records. Call 919-735-1824 ext 5100 to register! \n 
URL:https://wcpl.org/event/digital-preservation-workshop/
LOCATION:Wayne County Public Library – Goldsboro\, 1001 E Ash Street\, Goldsboro\, NC\, 27530\, United States
CATEGORIES:Adult,Goldsboro,Local History
END:VEVENT
BEGIN:VEVENT
DTSTART;TZID=America/New_York:20251118T150000
DTEND;TZID=America/New_York:20251118T160000
DTSTAMP:20260422T160749
CREATED:20251010T152458Z
LAST-MODIFIED:20251010T152458Z
UID:20713-1763478000-1763481600@wcpl.org
SUMMARY:New Dawn Inspirational Book Club  
DESCRIPTION:Join us as we discuss books of Inspirational Fiction. This month we will be discussing the book  A Quilt for Christmas  by Melody Carlson.  Please call 919-735-1824\, ext. 5102 to register. \n 
URL:https://wcpl.org/event/new-dawn-inspirational-book-club-7/
LOCATION:Wayne County Public Library – Goldsboro\, 1001 E Ash Street\, Goldsboro\, NC\, 27530\, United States
CATEGORIES:Adult,Goldsboro,Library Book Club
END:VEVENT
BEGIN:VEVENT
DTSTART;TZID=America/New_York:20251118T163000
DTEND;TZID=America/New_York:20251118T173000
DTSTAMP:20260422T160749
CREATED:20251023T183749Z
LAST-MODIFIED:20251023T183749Z
UID:20817-1763483400-1763487000@wcpl.org
SUMMARY:Lego Club  (Goldsboro)
DESCRIPTION:Join us for an afternoon of Lego building. Complete monthly challenges or design your own creation.  For grades K-5th. No registration required. \n 
URL:https://wcpl.org/event/lego-club-goldsboro-3/
LOCATION:Wayne County Public Library – Goldsboro\, 1001 E Ash Street\, Goldsboro\, NC\, 27530\, United States
CATEGORIES:Children,Goldsboro
END:VEVENT
BEGIN:VEVENT
DTSTART;TZID=America/New_York:20251119T093000
DTEND;TZID=America/New_York:20251119T100000
DTSTAMP:20260422T160749
CREATED:20251023T182642Z
LAST-MODIFIED:20251023T182642Z
UID:20801-1763544600-1763546400@wcpl.org
SUMMARY:Baby and Me  (Goldsboro)
DESCRIPTION:An introduction to books\, reading and language through stories\, songs\, rhymes\, and movement. For ages 0-2 with a parent or caregiver.  No registration required. \n 
URL:https://wcpl.org/event/baby-and-me-goldsboro-23/
LOCATION:Wayne County Public Library – Goldsboro\, 1001 E Ash Street\, Goldsboro\, NC\, 27530\, United States
CATEGORIES:Children,Goldsboro
END:VEVENT
BEGIN:VEVENT
DTSTART;TZID=America/New_York:20251119T103000
DTEND;TZID=America/New_York:20251119T110000
DTSTAMP:20260422T160749
CREATED:20251023T183030Z
LAST-MODIFIED:20251023T183030Z
UID:20807-1763548200-1763550000@wcpl.org
SUMMARY:Storytime  (Goldsboro)
DESCRIPTION:An introduction to books\, reading and language through stories\, songs\, rhymes\, and movement. For ages 3-5 with a parent or caregiver. No registration required. \n 
URL:https://wcpl.org/event/storytime-goldsboro-27/
LOCATION:Wayne County Public Library – Goldsboro\, 1001 E Ash Street\, Goldsboro\, NC\, 27530\, United States
CATEGORIES:Children,Goldsboro
END:VEVENT
END:VCALENDAR