BEGIN:VCALENDAR
VERSION:2.0
PRODID:-//Wayne County Public Library - ECPv6.15.20//NONSGML v1.0//EN
CALSCALE:GREGORIAN
METHOD:PUBLISH
X-WR-CALNAME:Wayne County Public Library
X-ORIGINAL-URL:https://wcpl.org
X-WR-CALDESC:Events for Wayne County Public Library
REFRESH-INTERVAL;VALUE=DURATION:PT1H
X-Robots-Tag:noindex
X-PUBLISHED-TTL:PT1H
BEGIN:VTIMEZONE
TZID:America/New_York
BEGIN:DAYLIGHT
TZOFFSETFROM:-0500
TZOFFSETTO:-0400
TZNAME:EDT
DTSTART:20240310T070000
END:DAYLIGHT
BEGIN:STANDARD
TZOFFSETFROM:-0400
TZOFFSETTO:-0500
TZNAME:EST
DTSTART:20241103T060000
END:STANDARD
BEGIN:DAYLIGHT
TZOFFSETFROM:-0500
TZOFFSETTO:-0400
TZNAME:EDT
DTSTART:20250309T070000
END:DAYLIGHT
BEGIN:STANDARD
TZOFFSETFROM:-0400
TZOFFSETTO:-0500
TZNAME:EST
DTSTART:20251102T060000
END:STANDARD
BEGIN:DAYLIGHT
TZOFFSETFROM:-0500
TZOFFSETTO:-0400
TZNAME:EDT
DTSTART:20260308T070000
END:DAYLIGHT
BEGIN:STANDARD
TZOFFSETFROM:-0400
TZOFFSETTO:-0500
TZNAME:EST
DTSTART:20261101T060000
END:STANDARD
END:VTIMEZONE
BEGIN:VEVENT
DTSTART;TZID=America/New_York:20251001T093000
DTEND;TZID=America/New_York:20251001T100000
DTSTAMP:20260422T174012
CREATED:20250912T122220Z
LAST-MODIFIED:20250912T122220Z
UID:20238-1759311000-1759312800@wcpl.org
SUMMARY:Baby and Me  (Goldsboro)
DESCRIPTION:An introduction to books\, reading and language through stories\, songs\, rhymes\, and movement. For ages 0-2 with a parent or caregiver.  No registration required. \n 
URL:https://wcpl.org/event/baby-and-me-goldsboro-17/
LOCATION:Wayne County Public Library – Goldsboro\, 1001 E Ash Street\, Goldsboro\, NC\, 27530\, United States
CATEGORIES:Children,Goldsboro
END:VEVENT
BEGIN:VEVENT
DTSTART;TZID=America/New_York:20251001T103000
DTEND;TZID=America/New_York:20251001T110000
DTSTAMP:20260422T174012
CREATED:20250912T123239Z
LAST-MODIFIED:20250912T123239Z
UID:20248-1759314600-1759316400@wcpl.org
SUMMARY:Storytime  (Goldsboro) 
DESCRIPTION:An introduction to books\, reading and language through stories\, songs\, rhymes\, and movement. For ages 3-5 with a parent or caregiver. No registration required. \n 
URL:https://wcpl.org/event/storytime-goldsboro-21/
LOCATION:Wayne County Public Library – Goldsboro\, 1001 E Ash Street\, Goldsboro\, NC\, 27530\, United States
CATEGORIES:Children,Goldsboro
END:VEVENT
BEGIN:VEVENT
DTSTART;TZID=America/New_York:20251001T150000
DTEND;TZID=America/New_York:20251001T160000
DTSTAMP:20260422T174012
CREATED:20250908T194311Z
LAST-MODIFIED:20250908T194311Z
UID:20025-1759330800-1759334400@wcpl.org
SUMMARY:1970’s Music BINGO 
DESCRIPTION:Join us for a really groovy time! Grab a card\, boogie down\, and win a totally far out prize! Call 919-735-1824 ext 5100 to register. \n 
URL:https://wcpl.org/event/1970s-music-bingo/
LOCATION:Wayne County Public Library – Goldsboro\, 1001 E Ash Street\, Goldsboro\, NC\, 27530\, United States
CATEGORIES:Adult,Goldsboro
END:VEVENT
BEGIN:VEVENT
DTSTART;TZID=America/New_York:20251002T103000
DTEND;TZID=America/New_York:20251002T110000
DTSTAMP:20260422T174012
CREATED:20250912T123918Z
LAST-MODIFIED:20250912T123918Z
UID:20258-1759401000-1759402800@wcpl.org
SUMMARY:Music and Movement  (Goldsboro)
DESCRIPTION:Let’s boost our brains with music and movement! For ages 0 – 5 with a parent or caregiver.  No registration required. \n 
URL:https://wcpl.org/event/music-and-movement-goldsboro-28/
LOCATION:Wayne County Public Library – Goldsboro\, 1001 E Ash Street\, Goldsboro\, NC\, 27530\, United States
CATEGORIES:Children,Goldsboro
END:VEVENT
BEGIN:VEVENT
DTSTART;TZID=America/New_York:20251002T180000
DTEND;TZID=America/New_York:20251002T190000
DTSTAMP:20260422T174012
CREATED:20250908T194556Z
LAST-MODIFIED:20250908T194556Z
UID:20027-1759428000-1759431600@wcpl.org
SUMMARY:Caregiving During the Holidays 
DESCRIPTION:Join us for an informative session on caring for and adapting holiday celebrations for relatives with Alzheimer’s Disease and other types of dementia. This program is presented in conjunction with the American Alzheimer’s Association. For more information\, call 919-735-1824 ext 5100. \n 
URL:https://wcpl.org/event/caregiving-during-the-holidays/
LOCATION:Wayne County Public Library – Goldsboro\, 1001 E Ash Street\, Goldsboro\, NC\, 27530\, United States
CATEGORIES:Adult,Goldsboro
END:VEVENT
BEGIN:VEVENT
DTSTART;TZID=America/New_York:20251004T100000
DTEND;TZID=America/New_York:20251004T120000
DTSTAMP:20260422T174012
CREATED:20250912T121025Z
LAST-MODIFIED:20250912T121025Z
UID:20228-1759572000-1759579200@wcpl.org
SUMMARY:Reading Tails with Dolly (Goldsboro)
DESCRIPTION:Practice your reading skills with Dolly the therapy dog! She loves to listen to students read. Students will practice their reading skills in a comfortable\, fun setting. Dolly’s owner is a certified teacher that will be glad to share tips along the way to make reading more enjoyable.  By appointment only during the hours of 10:00-12:00pm.  Register here.
URL:https://wcpl.org/event/reading-tails-with-dolly-goldsboro-2/
LOCATION:Wayne County Public Library – Goldsboro\, 1001 E Ash Street\, Goldsboro\, NC\, 27530\, United States
CATEGORIES:Children,Goldsboro
END:VEVENT
BEGIN:VEVENT
DTSTART;TZID=America/New_York:20251004T100000
DTEND;TZID=America/New_York:20251004T233000
DTSTAMP:20260422T174012
CREATED:20250908T194754Z
LAST-MODIFIED:20250908T194754Z
UID:20029-1759572000-1759620600@wcpl.org
SUMMARY:Adult Crafting: Fall Wreaths 
DESCRIPTION:Get into the fall mood! Let’s decorate a small fall wreath using paint\, clothespins\, and a small wreath form. Call 919-735-1824 ext 5100. \n 
URL:https://wcpl.org/event/adult-crafting-fall-wreaths/
LOCATION:Wayne County Public Library – Goldsboro\, 1001 E Ash Street\, Goldsboro\, NC\, 27530\, United States
CATEGORIES:Adult,Goldsboro
END:VEVENT
BEGIN:VEVENT
DTSTART;TZID=America/New_York:20251006T190000
DTEND;TZID=America/New_York:20251006T200000
DTSTAMP:20260422T174012
CREATED:20250908T195110Z
LAST-MODIFIED:20250908T195110Z
UID:20031-1759777200-1759780800@wcpl.org
SUMMARY:Golden Girls: TV Hour 
DESCRIPTION:Celebrate your favorite show with our weekly watch party! Join us every Monday to get cozy and indulge in cheesecake while reliving the laughs\, the tears\, and the friendship. Space is limited. Registration highly recommended! Call 919-735-1824 ext 5100 to register. \n 
URL:https://wcpl.org/event/golden-girls-tv-hour/
LOCATION:Wayne County Public Library – Goldsboro\, 1001 E Ash Street\, Goldsboro\, NC\, 27530\, United States
CATEGORIES:Adult,Goldsboro
END:VEVENT
BEGIN:VEVENT
DTSTART;TZID=America/New_York:20251007T103000
DTEND;TZID=America/New_York:20251007T110000
DTSTAMP:20260422T174012
CREATED:20250912T121509Z
LAST-MODIFIED:20250912T121509Z
UID:20230-1759833000-1759834800@wcpl.org
SUMMARY:Early Explorers
DESCRIPTION:Join us for our kindergarten-readiness program.  For ages 3-5 with a parent or caregiver. Programs will guide children as they learn social skills\, as well as letter\, number\, shape\, and color recognition. No registration required. \n 
URL:https://wcpl.org/event/early-explorers/
LOCATION:Wayne County Public Library – Goldsboro\, 1001 E Ash Street\, Goldsboro\, NC\, 27530\, United States
CATEGORIES:Children,Goldsboro
END:VEVENT
BEGIN:VEVENT
DTSTART;TZID=America/New_York:20251007T150000
DTEND;TZID=America/New_York:20251007T163000
DTSTAMP:20260422T174012
CREATED:20250908T200340Z
LAST-MODIFIED:20250908T200340Z
UID:20039-1759849200-1759854600@wcpl.org
SUMMARY:Exquisite Creatures 
DESCRIPTION:Let’s play the Surrealist “Exquisite Corpse” collaborative art game. Each person will draw a portion of the creature without seeing what the other has done. At the end everyone will end up with their very own weird mystery masterpiece!  Call 919-735-1824 ext 5100 to register. \n 
URL:https://wcpl.org/event/exquisite-creatures/
LOCATION:Wayne County Public Library – Goldsboro\, 1001 E Ash Street\, Goldsboro\, NC\, 27530\, United States
CATEGORIES:Adult,Goldsboro
END:VEVENT
BEGIN:VEVENT
DTSTART;TZID=America/New_York:20251007T163000
DTEND;TZID=America/New_York:20251007T173000
DTSTAMP:20260422T174012
CREATED:20250925T144853Z
LAST-MODIFIED:20250925T144853Z
UID:20312-1759854600-1759858200@wcpl.org
SUMMARY:STEAM Club (Goldsboro)
DESCRIPTION:Join us each month as we complete a new monthly STEAM challenge. For grades K-5th. No registration required. \n 
URL:https://wcpl.org/event/steam-club-goldsboro-2/
LOCATION:Wayne County Public Library – Goldsboro\, 1001 E Ash Street\, Goldsboro\, NC\, 27530\, United States
CATEGORIES:Children,Goldsboro
END:VEVENT
BEGIN:VEVENT
DTSTART;TZID=America/New_York:20251008T093000
DTEND;TZID=America/New_York:20251008T100000
DTSTAMP:20260422T174012
CREATED:20250912T122655Z
LAST-MODIFIED:20250912T122655Z
UID:20240-1759915800-1759917600@wcpl.org
SUMMARY:Baby and Me  (Goldsboro)
DESCRIPTION:An introduction to books\, reading and language through stories\, songs\, rhymes\, and movement. For ages 0-2 with a parent or caregiver.  No registration required. \n 
URL:https://wcpl.org/event/baby-and-me-goldsboro-18/
LOCATION:Wayne County Public Library – Goldsboro\, 1001 E Ash Street\, Goldsboro\, NC\, 27530\, United States
CATEGORIES:Children,Goldsboro
END:VEVENT
BEGIN:VEVENT
DTSTART;TZID=America/New_York:20251008T100000
DTEND;TZID=America/New_York:20251008T110000
DTSTAMP:20260422T174012
CREATED:20250909T134104Z
LAST-MODIFIED:20250909T134104Z
UID:20058-1759917600-1759921200@wcpl.org
SUMMARY:Hearing Health: Presentation & Screenings 
DESCRIPTION:Celebrate Audiology Awareness Month with us! Join Dr. Marissa Land from Coates Hearing Clinic for an informative session on hearing health and complimentary hearing screenings.  Call 919-735-1824 ext 5100 to register. \n 
URL:https://wcpl.org/event/hearing-health-presentation-screenings/
LOCATION:Wayne County Public Library – Goldsboro\, 1001 E Ash Street\, Goldsboro\, NC\, 27530\, United States
CATEGORIES:Adult,Goldsboro
END:VEVENT
BEGIN:VEVENT
DTSTART;TZID=America/New_York:20251008T103000
DTEND;TZID=America/New_York:20251008T110000
DTSTAMP:20260422T174012
CREATED:20250912T123348Z
LAST-MODIFIED:20250912T123348Z
UID:20250-1759919400-1759921200@wcpl.org
SUMMARY:Storytime  (Goldsboro) 
DESCRIPTION:An introduction to books\, reading and language through stories\, songs\, rhymes\, and movement. For ages 3-5 with a parent or caregiver. No registration required. \n 
URL:https://wcpl.org/event/storytime-goldsboro-22/
LOCATION:Wayne County Public Library – Goldsboro\, 1001 E Ash Street\, Goldsboro\, NC\, 27530\, United States
CATEGORIES:Children,Goldsboro
END:VEVENT
BEGIN:VEVENT
DTSTART;TZID=America/New_York:20251008T150000
DTEND;TZID=America/New_York:20251008T160000
DTSTAMP:20260422T174012
CREATED:20250909T134253Z
LAST-MODIFIED:20250909T134253Z
UID:20060-1759935600-1759939200@wcpl.org
SUMMARY:Cardio Drumming (Goldsboro)
DESCRIPTION:Join us for Cardio Drumming. Work up a sweat and get into a groovy rhythm. Call 919-735-1824 ext 5100 to register. \n 
URL:https://wcpl.org/event/cardio-drumming-goldsboro-15/
LOCATION:Wayne County Public Library – Goldsboro\, 1001 E Ash Street\, Goldsboro\, NC\, 27530\, United States
CATEGORIES:Adult,Goldsboro
END:VEVENT
BEGIN:VEVENT
DTSTART;TZID=America/New_York:20251009T103000
DTEND;TZID=America/New_York:20251009T110000
DTSTAMP:20260422T174012
CREATED:20250912T124041Z
LAST-MODIFIED:20250912T124041Z
UID:20260-1760005800-1760007600@wcpl.org
SUMMARY:Music and Movement  (Goldsboro)
DESCRIPTION:Let’s boost our brains with music and movement! For ages 0 – 5 with a parent or caregiver.  No registration required. \n 
URL:https://wcpl.org/event/music-and-movement-goldsboro-29/
LOCATION:Wayne County Public Library – Goldsboro\, 1001 E Ash Street\, Goldsboro\, NC\, 27530\, United States
CATEGORIES:Children,Goldsboro
END:VEVENT
BEGIN:VEVENT
DTSTART;TZID=America/New_York:20251009T160000
DTEND;TZID=America/New_York:20251009T170000
DTSTAMP:20260422T174012
CREATED:20250909T134501Z
LAST-MODIFIED:20250909T134501Z
UID:20062-1760025600-1760029200@wcpl.org
SUMMARY:Tech for Older Adults 
DESCRIPTION:Are you an older adult who wants to learn more about technology? We can help! Join us as we answer your questions and help with your technology needs.
URL:https://wcpl.org/event/tech-for-older-adults-7/
LOCATION:Wayne County Public Library – Goldsboro\, 1001 E Ash Street\, Goldsboro\, NC\, 27530\, United States
CATEGORIES:Adult,Goldsboro
END:VEVENT
BEGIN:VEVENT
DTSTART;TZID=America/New_York:20251009T163000
DTEND;TZID=America/New_York:20251009T173000
DTSTAMP:20260422T174012
CREATED:20250925T145205Z
LAST-MODIFIED:20250925T145205Z
UID:20314-1760027400-1760031000@wcpl.org
SUMMARY:Tween STEAM Club
DESCRIPTION:Join us each month as we complete a new monthly STEAM challenge. For grades 6th-8th. No registration required. \n 
URL:https://wcpl.org/event/tween-steam-club-2/
LOCATION:Wayne County Public Library – Goldsboro\, 1001 E Ash Street\, Goldsboro\, NC\, 27530\, United States
CATEGORIES:Goldsboro,Tweens
END:VEVENT
BEGIN:VEVENT
DTSTART;TZID=America/New_York:20251011T140000
DTEND;TZID=America/New_York:20251011T153000
DTSTAMP:20260422T174012
CREATED:20250909T134854Z
LAST-MODIFIED:20250909T134854Z
UID:20064-1760191200-1760196600@wcpl.org
SUMMARY:Studio Ghibli Fan Club: Spirited Away 
DESCRIPTION:Enjoy an afternoon of crafting\, snacks\, and Ghibli! We’ll be screening “Spirited Away” while painting our own bath tokens. Registration is required.  Call (919)-735-1824 ext. 5110 to register.  Ages 13+ \n 
URL:https://wcpl.org/event/studio-ghibli-fan-club-spirited-away/
LOCATION:Wayne County Public Library – Goldsboro\, 1001 E Ash Street\, Goldsboro\, NC\, 27530\, United States
CATEGORIES:Adult,Goldsboro,Teens
END:VEVENT
BEGIN:VEVENT
DTSTART;TZID=America/New_York:20251013T190000
DTEND;TZID=America/New_York:20251013T200000
DTSTAMP:20260422T174012
CREATED:20250908T195802Z
LAST-MODIFIED:20250908T195802Z
UID:20033-1760382000-1760385600@wcpl.org
SUMMARY:Golden Girls: TV Hour 
DESCRIPTION:Celebrate your favorite show with our weekly watch party! Join us every Monday to get cozy and indulge in cheesecake while reliving the laughs\, the tears\, and the friendship. Space is limited. Registration highly recommended! Call 919-735-1824 ext 5100 to register. \n 
URL:https://wcpl.org/event/golden-girls-tv-hour-2/
LOCATION:Wayne County Public Library – Goldsboro\, 1001 E Ash Street\, Goldsboro\, NC\, 27530\, United States
CATEGORIES:Adult,Goldsboro
END:VEVENT
BEGIN:VEVENT
DTSTART;TZID=America/New_York:20251014T140000
DTEND;TZID=America/New_York:20251014T150000
DTSTAMP:20260422T174012
CREATED:20250909T135127Z
LAST-MODIFIED:20250909T135127Z
UID:20066-1760450400-1760454000@wcpl.org
SUMMARY:Blank Page Society 
DESCRIPTION:Interested in journaling but don’t know where to start? Join the Blank Page Society for uninterrupted writing time\, fun prompts\, and optional sharing. All materials provided\, but feel free to bring your own! Call 919-735-1824 ext 5100 to register. \n 
URL:https://wcpl.org/event/blank-page-society-2/
LOCATION:Wayne County Public Library – Goldsboro\, 1001 E Ash Street\, Goldsboro\, NC\, 27530\, United States
CATEGORIES:Adult,Goldsboro
END:VEVENT
BEGIN:VEVENT
DTSTART;TZID=America/New_York:20251015T160000
DTEND;TZID=America/New_York:20251015T170000
DTSTAMP:20260422T174012
CREATED:20250909T135327Z
LAST-MODIFIED:20250909T135327Z
UID:20068-1760544000-1760547600@wcpl.org
SUMMARY:Cloud Computing 
DESCRIPTION:Not sure about how clouds store information and date from your phones\, tablets\, or computers? Join us to have your questions answered as we explore various cloud platforms and how they work. \n 
URL:https://wcpl.org/event/cloud-computing/
LOCATION:Wayne County Public Library – Goldsboro\, 1001 E Ash Street\, Goldsboro\, NC\, 27530\, United States
CATEGORIES:Adult,Goldsboro
END:VEVENT
BEGIN:VEVENT
DTSTART;TZID=America/New_York:20251015T180000
DTEND;TZID=America/New_York:20251015T190000
DTSTAMP:20260422T174012
CREATED:20250909T135549Z
LAST-MODIFIED:20250909T135549Z
UID:20070-1760551200-1760554800@wcpl.org
SUMMARY:Wellness Wednesday: Health Literacy Resources 
DESCRIPTION:Join us for our monthly Wellness Wednesday series. This month\, Sylvia Judd from UNC Health Wayne will join us to discuss tips and resources to increase health literacy.  Call 919-735-1824 ext 5100 to register. \n 
URL:https://wcpl.org/event/wellness-wednesday-health-literacy-resources/
LOCATION:Wayne County Public Library – Goldsboro\, 1001 E Ash Street\, Goldsboro\, NC\, 27530\, United States
CATEGORIES:Adult,Goldsboro
END:VEVENT
BEGIN:VEVENT
DTSTART;TZID=America/New_York:20251020T143000
DTEND;TZID=America/New_York:20251020T160000
DTSTAMP:20260422T174012
CREATED:20250909T141015Z
LAST-MODIFIED:20250909T141015Z
UID:20074-1760970600-1760976000@wcpl.org
SUMMARY:Why Knot? Knit and Crochet Group 
DESCRIPTION:Do you enjoy knitting and crochet? Join like minded enthusiasts once a month to knit or crochet and share tips\, tricks\, and resources. Bring your own materials! Call 919-735-1824 ext 5100 for more information. \n 
URL:https://wcpl.org/event/why-knot-knit-and-crochet-group-3/
LOCATION:Wayne County Public Library – Goldsboro\, 1001 E Ash Street\, Goldsboro\, NC\, 27530\, United States
CATEGORIES:Adult,Goldsboro
END:VEVENT
BEGIN:VEVENT
DTSTART;TZID=America/New_York:20251020T190000
DTEND;TZID=America/New_York:20251020T200000
DTSTAMP:20260422T174012
CREATED:20250908T195955Z
LAST-MODIFIED:20250908T195955Z
UID:20035-1760986800-1760990400@wcpl.org
SUMMARY:Golden Girls: TV Hour 
DESCRIPTION:Celebrate your favorite show with our weekly watch party! Join us every Monday to get cozy and indulge in cheesecake while reliving the laughs\, the tears\, and the friendship. Space is limited. Registration highly recommended! Call 919-735-1824 ext 5100 to register. \n 
URL:https://wcpl.org/event/golden-girls-tv-hour-3/
LOCATION:Wayne County Public Library – Goldsboro\, 1001 E Ash Street\, Goldsboro\, NC\, 27530\, United States
CATEGORIES:Adult,Goldsboro
END:VEVENT
BEGIN:VEVENT
DTSTART;TZID=America/New_York:20251021T103000
DTEND;TZID=America/New_York:20251021T110000
DTSTAMP:20260422T174012
CREATED:20250912T121859Z
LAST-MODIFIED:20250912T121859Z
UID:20234-1761042600-1761044400@wcpl.org
SUMMARY:Early Explorers
DESCRIPTION:Join us for our kindergarten-readiness program.  For ages 3-5 with a parent or caregiver. Programs will guide children as they learn social skills\, as well as letter\, number\, shape\, and color recognition. No registration required. \n 
URL:https://wcpl.org/event/early-explorers-40/
LOCATION:Wayne County Public Library – Goldsboro\, 1001 E Ash Street\, Goldsboro\, NC\, 27530\, United States
CATEGORIES:Children,Goldsboro
END:VEVENT
BEGIN:VEVENT
DTSTART;TZID=America/New_York:20251021T163000
DTEND;TZID=America/New_York:20251021T173000
DTSTAMP:20260422T174012
CREATED:20250925T145725Z
LAST-MODIFIED:20250925T145725Z
UID:20316-1761064200-1761067800@wcpl.org
SUMMARY:LEGO Club  (Goldsboro)
DESCRIPTION:Join us for an afternoon of LEGO building. Complete monthly challenges or design your own creation.  For grades K-5th. No registration required. \n 
URL:https://wcpl.org/event/lego-club-goldsboro-2/
LOCATION:Wayne County Public Library – Goldsboro\, 1001 E Ash Street\, Goldsboro\, NC\, 27530\, United States
CATEGORIES:Children,Goldsboro
END:VEVENT
BEGIN:VEVENT
DTSTART;TZID=America/New_York:20251022T093000
DTEND;TZID=America/New_York:20251022T100000
DTSTAMP:20260422T174012
CREATED:20250912T122934Z
LAST-MODIFIED:20250912T122934Z
UID:20244-1761125400-1761127200@wcpl.org
SUMMARY:Baby and Me  (Goldsboro)
DESCRIPTION:An introduction to books\, reading and language through stories\, songs\, rhymes\, and movement. For ages 0-2 with a parent or caregiver.  No registration required. \n 
URL:https://wcpl.org/event/baby-and-me-goldsboro-20/
LOCATION:Wayne County Public Library – Goldsboro\, 1001 E Ash Street\, Goldsboro\, NC\, 27530\, United States
CATEGORIES:Children,Goldsboro
END:VEVENT
BEGIN:VEVENT
DTSTART;TZID=America/New_York:20251022T103000
DTEND;TZID=America/New_York:20251022T110000
DTSTAMP:20260422T174012
CREATED:20250912T123610Z
LAST-MODIFIED:20250912T123610Z
UID:20254-1761129000-1761130800@wcpl.org
SUMMARY:Storytime  (Goldsboro) 
DESCRIPTION:An introduction to books\, reading and language through stories\, songs\, rhymes\, and movement. For ages 3-5 with a parent or caregiver. No registration required. \n 
URL:https://wcpl.org/event/storytime-goldsboro-24/
LOCATION:Wayne County Public Library – Goldsboro\, 1001 E Ash Street\, Goldsboro\, NC\, 27530\, United States
CATEGORIES:Children,Goldsboro
END:VEVENT
BEGIN:VEVENT
DTSTART;TZID=America/New_York:20251022T180000
DTEND;TZID=America/New_York:20251022T190000
DTSTAMP:20260422T174012
CREATED:20250909T141246Z
LAST-MODIFIED:20250909T141246Z
UID:20076-1761156000-1761159600@wcpl.org
SUMMARY:UFO Transcribers 
DESCRIPTION:Join us to learn more about UFO sightings in North Carolina by transcribing Project Blue Book documents in the National Archives! Call 919-735-1824 ext 5100 to register.
URL:https://wcpl.org/event/ufo-transcribers/
LOCATION:Wayne County Public Library – Goldsboro\, 1001 E Ash Street\, Goldsboro\, NC\, 27530\, United States
CATEGORIES:Adult,Goldsboro
END:VEVENT
END:VCALENDAR