BEGIN:VCALENDAR
VERSION:2.0
PRODID:-//Wayne County Public Library - ECPv6.15.20//NONSGML v1.0//EN
CALSCALE:GREGORIAN
METHOD:PUBLISH
X-WR-CALNAME:Wayne County Public Library
X-ORIGINAL-URL:https://wcpl.org
X-WR-CALDESC:Events for Wayne County Public Library
REFRESH-INTERVAL;VALUE=DURATION:PT1H
X-Robots-Tag:noindex
X-PUBLISHED-TTL:PT1H
BEGIN:VTIMEZONE
TZID:America/New_York
BEGIN:DAYLIGHT
TZOFFSETFROM:-0500
TZOFFSETTO:-0400
TZNAME:EDT
DTSTART:20240310T070000
END:DAYLIGHT
BEGIN:STANDARD
TZOFFSETFROM:-0400
TZOFFSETTO:-0500
TZNAME:EST
DTSTART:20241103T060000
END:STANDARD
BEGIN:DAYLIGHT
TZOFFSETFROM:-0500
TZOFFSETTO:-0400
TZNAME:EDT
DTSTART:20250309T070000
END:DAYLIGHT
BEGIN:STANDARD
TZOFFSETFROM:-0400
TZOFFSETTO:-0500
TZNAME:EST
DTSTART:20251102T060000
END:STANDARD
BEGIN:DAYLIGHT
TZOFFSETFROM:-0500
TZOFFSETTO:-0400
TZNAME:EDT
DTSTART:20260308T070000
END:DAYLIGHT
BEGIN:STANDARD
TZOFFSETFROM:-0400
TZOFFSETTO:-0500
TZNAME:EST
DTSTART:20261101T060000
END:STANDARD
END:VTIMEZONE
BEGIN:VEVENT
DTSTART;TZID=America/New_York:20250701T170000
DTEND;TZID=America/New_York:20250701T180000
DTSTAMP:20260422T230035
CREATED:20250606T144511Z
LAST-MODIFIED:20250606T144511Z
UID:18547-1751389200-1751392800@wcpl.org
SUMMARY:Postcard Showcase 
DESCRIPTION:Go on vacation without ever leaving the Local History Room! Explore the numerous postcards in our Local History Collection and bring postcards and vacation memories of your own to share. Space is limited\, registration required. Call 919-735-1824 ext 1830. \n 
URL:https://wcpl.org/event/postcard-showcase/
LOCATION:Wayne County Public Library – Goldsboro\, 1001 E Ash Street\, Goldsboro\, NC\, 27530\, United States
CATEGORIES:Adult,Goldsboro,Local History
END:VEVENT
BEGIN:VEVENT
DTSTART;TZID=America/New_York:20250703T170000
DTEND;TZID=America/New_York:20250703T180000
DTSTAMP:20260422T230035
CREATED:20250606T144655Z
LAST-MODIFIED:20250606T144655Z
UID:18549-1751562000-1751565600@wcpl.org
SUMMARY:Our Favorite Reads Book Club 
DESCRIPTION:Join the conversation for a meeting of the Our Favorite Reads book club. Share what you are reading and get recommendations from other members. We will meet in the Baddour Garden outside the library. Registration is suggested. Call 919-735-1824 ext. 5100 for more information. \n 
URL:https://wcpl.org/event/our-favorite-reads-book-club/
LOCATION:Wayne County Public Library – Goldsboro\, 1001 E Ash Street\, Goldsboro\, NC\, 27530\, United States
CATEGORIES:Adult,Goldsboro,Library Book Club
END:VEVENT
BEGIN:VEVENT
DTSTART;TZID=America/New_York:20250707T160000
DTEND;TZID=America/New_York:20250707T170000
DTSTAMP:20260422T230035
CREATED:20250508T171853Z
LAST-MODIFIED:20250606T191658Z
UID:18083-1751904000-1751907600@wcpl.org
SUMMARY:Summer Learning Program (Elementary)
DESCRIPTION:Join us as we learn about a new art medium each week and create our own artwork in the style of the masters.  Ages 5-10.  This week we’ll learn about Crayons. REGISTRATION CLOSED. \n 
URL:https://wcpl.org/event/summer-learning-program-elementary-3/
LOCATION:Wayne County Public Library – Goldsboro\, 1001 E Ash Street\, Goldsboro\, NC\, 27530\, United States
CATEGORIES:Children,Goldsboro,Summer Learning Program
END:VEVENT
BEGIN:VEVENT
DTSTART;TZID=America/New_York:20250707T180000
DTEND;TZID=America/New_York:20250707T190000
DTSTAMP:20260422T230035
CREATED:20250508T171150Z
LAST-MODIFIED:20250508T171150Z
UID:18077-1751911200-1751914800@wcpl.org
SUMMARY:Summer Learning Program (Tweens & Teens)
DESCRIPTION:Join us as we learn about a new art medium each week and create our own artwork in the style of the masters.  Ages 11-15.  This week we’ll learn about Crayons. Registration is required. Spaces are limited. Register here. \n 
URL:https://wcpl.org/event/summer-learning-program-tweens-teens-3/
LOCATION:Wayne County Public Library – Goldsboro\, 1001 E Ash Street\, Goldsboro\, NC\, 27530\, United States
CATEGORIES:Goldsboro,Summer Learning Program,Teens,Tweens
END:VEVENT
BEGIN:VEVENT
DTSTART;TZID=America/New_York:20250708T093000
DTEND;TZID=America/New_York:20250708T103000
DTSTAMP:20260422T230035
CREATED:20250508T161601Z
LAST-MODIFIED:20250606T191012Z
UID:18071-1751967000-1751970600@wcpl.org
SUMMARY:Sprouts Garden Club
DESCRIPTION:Join us for hands-on fun in the garden! Kids will explore nature\, and learn how things grow. Each week brings new activities\, from digging and watering to crafts and garden games!  This week we’ll be learning about beekeeping.  For ages 5-11.  REGISTRATION CLOSED. \n 
URL:https://wcpl.org/event/sprouts-garden-club-3/
LOCATION:Wayne County Public Library – Goldsboro\, 1001 E Ash Street\, Goldsboro\, NC\, 27530\, United States
CATEGORIES:Children,Goldsboro,Summer Learning Program
END:VEVENT
BEGIN:VEVENT
DTSTART;TZID=America/New_York:20250709T093000
DTEND;TZID=America/New_York:20250709T100000
DTSTAMP:20260422T230035
CREATED:20250508T172938Z
LAST-MODIFIED:20250508T172938Z
UID:18091-1752053400-1752055200@wcpl.org
SUMMARY:Baby and Me  (Goldsboro)
DESCRIPTION:An introduction to books\, reading\, and language through stories\, songs\, rhymes\, and movement. For ages 0-2 with a parent or caregiver. No registration required. \n 
URL:https://wcpl.org/event/baby-and-me-goldsboro-13/
LOCATION:Wayne County Public Library – Goldsboro\, 1001 E Ash Street\, Goldsboro\, NC\, 27530\, United States
CATEGORIES:Children,Goldsboro,Summer Learning Program
END:VEVENT
BEGIN:VEVENT
DTSTART;TZID=America/New_York:20250709T103000
DTEND;TZID=America/New_York:20250709T110000
DTSTAMP:20260422T230035
CREATED:20250508T173352Z
LAST-MODIFIED:20250508T173352Z
UID:18097-1752057000-1752058800@wcpl.org
SUMMARY:Storytime (Goldsboro)
DESCRIPTION:An introduction to books\, reading\, and language through stories\, songs\, rhymes\, and movement. For ages 3-5 with a parent or caregiver. No registration required. \n 
URL:https://wcpl.org/event/storytime-goldsboro-17/
LOCATION:Wayne County Public Library – Goldsboro\, 1001 E Ash Street\, Goldsboro\, NC\, 27530\, United States
CATEGORIES:Children,Goldsboro,Summer Learning Program
END:VEVENT
BEGIN:VEVENT
DTSTART;TZID=America/New_York:20250709T150000
DTEND;TZID=America/New_York:20250709T160000
DTSTAMP:20260422T230035
CREATED:20250606T144939Z
LAST-MODIFIED:20250606T144939Z
UID:18551-1752073200-1752076800@wcpl.org
SUMMARY:Cardio Drumming (Goldsboro)
DESCRIPTION:Join us for Cardio Drumming! Get into a groovy rhythm and get your heart pumping! Call 919-735-1824 Ext. 5100 to register. \n 
URL:https://wcpl.org/event/cardio-drumming-goldsboro-9/
LOCATION:Wayne County Public Library – Goldsboro\, 1001 E Ash Street\, Goldsboro\, NC\, 27530\, United States
CATEGORIES:Adult,Goldsboro
END:VEVENT
BEGIN:VEVENT
DTSTART;TZID=America/New_York:20250709T180000
DTEND;TZID=America/New_York:20250709T190000
DTSTAMP:20260422T230035
CREATED:20250606T145545Z
LAST-MODIFIED:20250606T145545Z
UID:18555-1752084000-1752087600@wcpl.org
SUMMARY:Wellness Wednesday: UV/Sun Protection Awareness 
DESCRIPTION:Join us for our monthly Wellness Wednesday series!  This month\, Sylvia Judd from UNC Wayne Health will join us to discuss tips and resources focusing on UV/sun protection as we enjoy summer. Registration is recommended\, call 919-735-1824 x5100 to register or for more information.  We’ll meet in the Yellow Study Room at the Goldsboro Library. \n 
URL:https://wcpl.org/event/wellness-wednesday-uv-sun-protection-awareness/
LOCATION:Wayne County Public Library – Goldsboro\, 1001 E Ash Street\, Goldsboro\, NC\, 27530\, United States
CATEGORIES:Adult,Goldsboro
END:VEVENT
BEGIN:VEVENT
DTSTART;TZID=America/New_York:20250710T103000
DTEND;TZID=America/New_York:20250710T110000
DTSTAMP:20260422T230035
CREATED:20250508T173745Z
LAST-MODIFIED:20250618T182320Z
UID:18103-1752143400-1752145200@wcpl.org
SUMMARY:Music and Movement (Goldsboro)
DESCRIPTION:Let’s boost our brains with music and movement! For ages 0 – 5 with a parent or caregiver.  No registration required. \n 
URL:https://wcpl.org/event/music-and-movement-goldsboro-24/
LOCATION:Wayne County Public Library – Goldsboro\, 1001 E Ash Street\, Goldsboro\, NC\, 27530\, United States
CATEGORIES:Children,Goldsboro,Summer Learning Program
END:VEVENT
BEGIN:VEVENT
DTSTART;TZID=America/New_York:20250710T150000
DTEND;TZID=America/New_York:20250710T160000
DTSTAMP:20260422T230035
CREATED:20250606T145759Z
LAST-MODIFIED:20250606T145759Z
UID:18557-1752159600-1752163200@wcpl.org
SUMMARY:Tech for Older Adults 
DESCRIPTION:Are you an older adult who has questions about technology? Whether you want to learn how to create Word documents or recover a password\, we can help! Join our staff and Mary Shands\, a retired office administrator\, to learn some basics and get your questions answered. To register\, call 919-735-1824 ext. 5100. \n 
URL:https://wcpl.org/event/tech-for-older-adults-5/
LOCATION:Wayne County Public Library – Goldsboro\, 1001 E Ash Street\, Goldsboro\, NC\, 27530\, United States
CATEGORIES:Adult,Goldsboro
END:VEVENT
BEGIN:VEVENT
DTSTART;TZID=America/New_York:20250712T150000
DTEND;TZID=America/New_York:20250712T170000
DTSTAMP:20260422T230035
CREATED:20250606T150219Z
LAST-MODIFIED:20250606T150219Z
UID:18559-1752332400-1752339600@wcpl.org
SUMMARY:TTRPG Miniature Painting 
DESCRIPTION:Bring your TTRPG character to life with us in the auditorium for a miniature figures painting session. Paints and miniatures are provided\, but feel free to bring your own!  Call 919-735-1824 ext 5100 to register.   Ages 14+ \n 
URL:https://wcpl.org/event/ttrpg-miniature-painting-3/
LOCATION:Wayne County Public Library – Goldsboro\, 1001 E Ash Street\, Goldsboro\, NC\, 27530\, United States
CATEGORIES:Adult,Goldsboro,Teens
END:VEVENT
BEGIN:VEVENT
DTSTART;TZID=America/New_York:20250714T160000
DTEND;TZID=America/New_York:20250714T170000
DTSTAMP:20260422T230035
CREATED:20250508T172023Z
LAST-MODIFIED:20250606T191745Z
UID:18085-1752508800-1752512400@wcpl.org
SUMMARY:Summer Learning Program (Elementary)
DESCRIPTION:Join us as we learn about a new art medium each week and create our own artwork in the style of the masters.  Ages 5-10.  This week we’ll learn about Chalk.  REGISTRATION CLOSED.
URL:https://wcpl.org/event/summer-learning-program-elementary-4/
LOCATION:Wayne County Public Library – Goldsboro\, 1001 E Ash Street\, Goldsboro\, NC\, 27530\, United States
CATEGORIES:Children,Goldsboro,Summer Learning Program
END:VEVENT
BEGIN:VEVENT
DTSTART;TZID=America/New_York:20250714T180000
DTEND;TZID=America/New_York:20250714T190000
DTSTAMP:20260422T230035
CREATED:20250508T171348Z
LAST-MODIFIED:20250508T171348Z
UID:18079-1752516000-1752519600@wcpl.org
SUMMARY:Summer Learning Program (Tweens & Teens)
DESCRIPTION:Join us as we learn about a new art medium each week and create our own artwork in the style of the masters.  Ages 11-15.  This week we’ll learn about Chalk.  Registration is required. Spaces are limited. Register here. \n 
URL:https://wcpl.org/event/summer-learning-program-tweens-teens-4/
LOCATION:Wayne County Public Library – Goldsboro\, 1001 E Ash Street\, Goldsboro\, NC\, 27530\, United States
CATEGORIES:Goldsboro,Summer Learning Program,Teens,Tweens
END:VEVENT
BEGIN:VEVENT
DTSTART;TZID=America/New_York:20250715T173000
DTEND;TZID=America/New_York:20250715T183000
DTSTAMP:20260422T230035
CREATED:20250606T150406Z
LAST-MODIFIED:20250606T150406Z
UID:18561-1752600600-1752604200@wcpl.org
SUMMARY:Goldsboro Cross Stitchers 
DESCRIPTION:Join the Goldsboro Cross Stitchers! Connect with other people who enjoy cross stitch and learn new tips and tricks! Call 919-735-1824 ext 5100 to register or for more information. \n 
URL:https://wcpl.org/event/goldsboro-cross-stitchers-6/
LOCATION:Wayne County Public Library – Goldsboro\, 1001 E Ash Street\, Goldsboro\, NC\, 27530\, United States
CATEGORIES:Adult,Goldsboro
END:VEVENT
BEGIN:VEVENT
DTSTART;TZID=America/New_York:20250716T093000
DTEND;TZID=America/New_York:20250716T100000
DTSTAMP:20260422T230035
CREATED:20250508T173114Z
LAST-MODIFIED:20250508T173114Z
UID:18093-1752658200-1752660000@wcpl.org
SUMMARY:Baby and Me  (Goldsboro)
DESCRIPTION:An introduction to books\, reading\, and language through stories\, songs\, rhymes\, and movement. For ages 0-2 with a parent or caregiver. No registration required. \n 
URL:https://wcpl.org/event/baby-and-me-goldsboro-14/
LOCATION:Wayne County Public Library – Goldsboro\, 1001 E Ash Street\, Goldsboro\, NC\, 27530\, United States
CATEGORIES:Children,Goldsboro,Summer Learning Program
END:VEVENT
BEGIN:VEVENT
DTSTART;TZID=America/New_York:20250716T103000
DTEND;TZID=America/New_York:20250716T110000
DTSTAMP:20260422T230035
CREATED:20250508T173507Z
LAST-MODIFIED:20250508T173507Z
UID:18099-1752661800-1752663600@wcpl.org
SUMMARY:Storytime (Goldsboro)
DESCRIPTION:An introduction to books\, reading\, and language through stories\, songs\, rhymes\, and movement. For ages 3-5 with a parent or caregiver. No registration required. \n 
URL:https://wcpl.org/event/storytime-goldsboro-18/
LOCATION:Wayne County Public Library – Goldsboro\, 1001 E Ash Street\, Goldsboro\, NC\, 27530\, United States
CATEGORIES:Children,Goldsboro,Summer Learning Program
END:VEVENT
BEGIN:VEVENT
DTSTART;TZID=America/New_York:20250716T133000
DTEND;TZID=America/New_York:20250716T150000
DTSTAMP:20260422T230035
CREATED:20250606T150634Z
LAST-MODIFIED:20250606T150634Z
UID:18563-1752672600-1752678000@wcpl.org
SUMMARY:Cyanotope Printmaking 
DESCRIPTION:Let’s make a photograph without using a camera! Cyanotypes\, or sun prints\, are photographs made using treated paper\, fun objects\, and the sun. Join us in the auditorium to create your own cyanotype and learn about their history. All materials will be provided\, but feel free to bring your own! Please call 919-735-1824 ext. 5100 to register.  Ages 13+  (Rain date: Tuesday\, July 29) \n 
URL:https://wcpl.org/event/cyanotope-printmaking/
LOCATION:Wayne County Public Library – Goldsboro\, 1001 E Ash Street\, Goldsboro\, NC\, 27530\, United States
CATEGORIES:Adult,Goldsboro,Teens
END:VEVENT
BEGIN:VEVENT
DTSTART;TZID=America/New_York:20250717T103000
DTEND;TZID=America/New_York:20250717T110000
DTSTAMP:20260422T230035
CREATED:20250508T174118Z
LAST-MODIFIED:20250618T182230Z
UID:18105-1752748200-1752750000@wcpl.org
SUMMARY:Music and Movement (Goldsboro)
DESCRIPTION:Let’s boost our brains with music and movement! For ages 0 – 5 with a parent or caregiver.  No registration required. \n 
URL:https://wcpl.org/event/music-and-movement-goldsboro-25/
LOCATION:Wayne County Public Library – Goldsboro\, 1001 E Ash Street\, Goldsboro\, NC\, 27530\, United States
CATEGORIES:Children,Goldsboro,Summer Learning Program
END:VEVENT
BEGIN:VEVENT
DTSTART;TZID=America/New_York:20250717T150000
DTEND;TZID=America/New_York:20250717T160000
DTSTAMP:20260422T230035
CREATED:20250604T155526Z
LAST-MODIFIED:20250604T155526Z
UID:18494-1752764400-1752768000@wcpl.org
SUMMARY:Big Bang Boom! (Goldsboro)
DESCRIPTION:Rock out with Big Bang Boom! For children of all ages with a caregiver. Registration not required. \n 
URL:https://wcpl.org/event/big-bang-boom-goldsboro/
LOCATION:Wayne County Public Library – Goldsboro\, 1001 E Ash Street\, Goldsboro\, NC\, 27530\, United States
CATEGORIES:Children,Goldsboro,Summer Learning Program
END:VEVENT
BEGIN:VEVENT
DTSTART;TZID=America/New_York:20250717T160000
DTEND;TZID=America/New_York:20250717T170000
DTSTAMP:20260422T230035
CREATED:20250606T150805Z
LAST-MODIFIED:20250606T150805Z
UID:18565-1752768000-1752771600@wcpl.org
SUMMARY:Preservation Tips and Tricks 
DESCRIPTION:Join us to discuss some basic techniques and practices you can implement to keep your family treasures safe! Registration encouraged. Call 919-735-1824 ext 1830. \n 
URL:https://wcpl.org/event/preservation-tips-and-tricks/
LOCATION:Wayne County Public Library – Goldsboro\, 1001 E Ash Street\, Goldsboro\, NC\, 27530\, United States
CATEGORIES:Adult,Goldsboro,Local History
END:VEVENT
BEGIN:VEVENT
DTSTART;TZID=America/New_York:20250721T160000
DTEND;TZID=America/New_York:20250721T170000
DTSTAMP:20260422T230035
CREATED:20250508T172144Z
LAST-MODIFIED:20250606T191820Z
UID:18087-1753113600-1753117200@wcpl.org
SUMMARY:Summer Learning Program (Elementary)
DESCRIPTION:Join us as we learn about a new art medium each week and create our own artwork in the style of the masters.  Ages 5-10.  This week we’ll learn about Sculpture. REGISTRATION CLOSED. \n 
URL:https://wcpl.org/event/summer-learning-program-elementary-5/
LOCATION:Wayne County Public Library – Goldsboro\, 1001 E Ash Street\, Goldsboro\, NC\, 27530\, United States
CATEGORIES:Children,Goldsboro,Summer Learning Program
END:VEVENT
BEGIN:VEVENT
DTSTART;TZID=America/New_York:20250721T180000
DTEND;TZID=America/New_York:20250721T190000
DTSTAMP:20260422T230035
CREATED:20250508T171513Z
LAST-MODIFIED:20250508T171513Z
UID:18081-1753120800-1753124400@wcpl.org
SUMMARY:Summer Learning Program (Tweens & Teens)
DESCRIPTION:Join us as we learn about a new art medium each week and create our own artwork in the style of the masters.  Ages 11-15.  This week we’ll learn about Sculpture. Registration is required. Spaces are limited. Register here. \n 
URL:https://wcpl.org/event/summer-learning-program-tweens-teens-5/
LOCATION:Wayne County Public Library – Goldsboro\, 1001 E Ash Street\, Goldsboro\, NC\, 27530\, United States
CATEGORIES:Goldsboro,Summer Learning Program,Teens,Tweens
END:VEVENT
BEGIN:VEVENT
DTSTART;TZID=America/New_York:20250722T150000
DTEND;TZID=America/New_York:20250722T160000
DTSTAMP:20260422T230035
CREATED:20250606T154202Z
LAST-MODIFIED:20250606T154202Z
UID:18583-1753196400-1753200000@wcpl.org
SUMMARY:New Dawn Inspirational Book Club  
DESCRIPTION:Join us as we discuss books of Inspirational Fiction. This month we will be discussing the book The Secret’s in the Sauce by Linda Evans Shepherd and Eva Marie Everson.  Please call 919-735-1824\, ext. 5102 to register. \n 
URL:https://wcpl.org/event/new-dawn-inspirational-book-club-3/
LOCATION:Wayne County Public Library – Goldsboro\, 1001 E Ash Street\, Goldsboro\, NC\, 27530\, United States
CATEGORIES:Adult,Goldsboro,Library Book Club
END:VEVENT
BEGIN:VEVENT
DTSTART;TZID=America/New_York:20250722T180000
DTEND;TZID=America/New_York:20250722T190000
DTSTAMP:20260422T230035
CREATED:20250606T151040Z
LAST-MODIFIED:20250606T151040Z
UID:18567-1753207200-1753210800@wcpl.org
SUMMARY:Basic Business Etiquette 
DESCRIPTION:Come join us to learn and update your business and basic etiquette skills!  Call 919-735-1824 ext 5100 for more information.  Ages 16+ \n 
URL:https://wcpl.org/event/basic-business-etiquette/
LOCATION:Wayne County Public Library – Goldsboro\, 1001 E Ash Street\, Goldsboro\, NC\, 27530\, United States
CATEGORIES:Adult,Goldsboro,Teens
END:VEVENT
BEGIN:VEVENT
DTSTART;TZID=America/New_York:20250723T093000
DTEND;TZID=America/New_York:20250723T100000
DTSTAMP:20260422T230035
CREATED:20250508T173214Z
LAST-MODIFIED:20250508T173214Z
UID:18095-1753263000-1753264800@wcpl.org
SUMMARY:Baby and Me  (Goldsboro)
DESCRIPTION:An introduction to books\, reading\, and language through stories\, songs\, rhymes\, and movement. For ages 0-2 with a parent or caregiver. No registration required. \n 
URL:https://wcpl.org/event/baby-and-me-goldsboro-15/
LOCATION:Wayne County Public Library – Goldsboro\, 1001 E Ash Street\, Goldsboro\, NC\, 27530\, United States
CATEGORIES:Children,Goldsboro,Summer Learning Program
END:VEVENT
BEGIN:VEVENT
DTSTART;TZID=America/New_York:20250723T103000
DTEND;TZID=America/New_York:20250723T110000
DTSTAMP:20260422T230035
CREATED:20250508T173601Z
LAST-MODIFIED:20250508T173601Z
UID:18101-1753266600-1753268400@wcpl.org
SUMMARY:Storytime (Goldsboro)
DESCRIPTION:An introduction to books\, reading\, and language through stories\, songs\, rhymes\, and movement. For ages 3-5 with a parent or caregiver. No registration required. \n 
URL:https://wcpl.org/event/storytime-goldsboro-19/
LOCATION:Wayne County Public Library – Goldsboro\, 1001 E Ash Street\, Goldsboro\, NC\, 27530\, United States
CATEGORIES:Children,Goldsboro,Summer Learning Program
END:VEVENT
BEGIN:VEVENT
DTSTART;TZID=America/New_York:20250723T150000
DTEND;TZID=America/New_York:20250723T160000
DTSTAMP:20260422T230035
CREATED:20250606T145111Z
LAST-MODIFIED:20250606T145111Z
UID:18553-1753282800-1753286400@wcpl.org
SUMMARY:Cardio Drumming (Goldsboro)
DESCRIPTION:Join us for Cardio Drumming! Get into a groovy rhythm and get your heart pumping! Call 919-735-1824 Ext. 5100 to register. \n 
URL:https://wcpl.org/event/cardio-drumming-goldsboro-10/
LOCATION:Wayne County Public Library – Goldsboro\, 1001 E Ash Street\, Goldsboro\, NC\, 27530\, United States
CATEGORIES:Adult,Goldsboro
END:VEVENT
BEGIN:VEVENT
DTSTART;TZID=America/New_York:20250723T180000
DTEND;TZID=America/New_York:20250723T190000
DTSTAMP:20260422T230035
CREATED:20250606T151206Z
LAST-MODIFIED:20250721T151315Z
UID:18569-1753293600-1753297200@wcpl.org
SUMMARY:Black Genealogy - Postponed
DESCRIPTION:Are you interested in your ancestry or creating a family tree? Join us in the Local History Room to learn more about genealogy work for black and African American families and what resources Local History can offer you!  Call 919-735-1824 ext 1830 to register. \nThis program will be offered at a later date. \n 
URL:https://wcpl.org/event/black-genealogy/
LOCATION:Wayne County Public Library – Goldsboro\, 1001 E Ash Street\, Goldsboro\, NC\, 27530\, United States
CATEGORIES:Adult,Goldsboro,Local History
END:VEVENT
BEGIN:VEVENT
DTSTART;TZID=America/New_York:20250724T103000
DTEND;TZID=America/New_York:20250724T110000
DTSTAMP:20260422T230035
CREATED:20250508T174216Z
LAST-MODIFIED:20250618T182136Z
UID:18107-1753353000-1753354800@wcpl.org
SUMMARY:Music and Movement (Goldsboro)
DESCRIPTION:Let’s boost our brains with music and movement! For ages 0 – 5 with a parent or caregiver.  No registration required. \n 
URL:https://wcpl.org/event/music-and-movement-goldsboro-26/
LOCATION:Wayne County Public Library – Goldsboro\, 1001 E Ash Street\, Goldsboro\, NC\, 27530\, United States
CATEGORIES:Children,Goldsboro,Summer Learning Program
END:VEVENT
END:VCALENDAR