BEGIN:VCALENDAR
VERSION:2.0
PRODID:-//Wayne County Public Library - ECPv6.15.20//NONSGML v1.0//EN
CALSCALE:GREGORIAN
METHOD:PUBLISH
X-WR-CALNAME:Wayne County Public Library
X-ORIGINAL-URL:https://wcpl.org
X-WR-CALDESC:Events for Wayne County Public Library
REFRESH-INTERVAL;VALUE=DURATION:PT1H
X-Robots-Tag:noindex
X-PUBLISHED-TTL:PT1H
BEGIN:VTIMEZONE
TZID:America/New_York
BEGIN:DAYLIGHT
TZOFFSETFROM:-0500
TZOFFSETTO:-0400
TZNAME:EDT
DTSTART:20240310T070000
END:DAYLIGHT
BEGIN:STANDARD
TZOFFSETFROM:-0400
TZOFFSETTO:-0500
TZNAME:EST
DTSTART:20241103T060000
END:STANDARD
BEGIN:DAYLIGHT
TZOFFSETFROM:-0500
TZOFFSETTO:-0400
TZNAME:EDT
DTSTART:20250309T070000
END:DAYLIGHT
BEGIN:STANDARD
TZOFFSETFROM:-0400
TZOFFSETTO:-0500
TZNAME:EST
DTSTART:20251102T060000
END:STANDARD
BEGIN:DAYLIGHT
TZOFFSETFROM:-0500
TZOFFSETTO:-0400
TZNAME:EDT
DTSTART:20260308T070000
END:DAYLIGHT
BEGIN:STANDARD
TZOFFSETFROM:-0400
TZOFFSETTO:-0500
TZNAME:EST
DTSTART:20261101T060000
END:STANDARD
END:VTIMEZONE
BEGIN:VEVENT
DTSTART;TZID=America/New_York:20250501T103000
DTEND;TZID=America/New_York:20250501T110000
DTSTAMP:20260423T025740
CREATED:20250408T154655Z
LAST-MODIFIED:20250408T154655Z
UID:17527-1746095400-1746097200@wcpl.org
SUMMARY:Music and Movement (Goldsboro)
DESCRIPTION:Let’s boost our brains with music and movement! For ages 0 – 5 with a parent or caregiver. \n 
URL:https://wcpl.org/event/music-and-movement-goldsboro-16/
LOCATION:Wayne County Public Library – Goldsboro\, 1001 E Ash Street\, Goldsboro\, NC\, 27530\, United States
CATEGORIES:Children,Goldsboro
END:VEVENT
BEGIN:VEVENT
DTSTART;TZID=America/New_York:20250501T170000
DTEND;TZID=America/New_York:20250501T180000
DTSTAMP:20260423T025740
CREATED:20250408T115333Z
LAST-MODIFIED:20250408T115333Z
UID:17433-1746118800-1746122400@wcpl.org
SUMMARY:Our Favorite Reads Book Club 
DESCRIPTION:Join the conversation for a meeting of the Our Favorite Reads book club. Share what you are reading and get recommendations from other members. We will meet in the Baddour Garden outside the library if the weather is nice! Registration is suggested. Call 919-735-1824 ext. 5100 for more information. \n 
URL:https://wcpl.org/event/our-favorite-reads-book-club-17/
LOCATION:Wayne County Public Library – Goldsboro\, 1001 E Ash Street\, Goldsboro\, NC\, 27530\, United States
CATEGORIES:Adult,Goldsboro,Library Book Club
END:VEVENT
BEGIN:VEVENT
DTSTART;TZID=America/New_York:20250503T100000
DTEND;TZID=America/New_York:20250503T113000
DTSTAMP:20260423T025740
CREATED:20250408T115845Z
LAST-MODIFIED:20250408T115845Z
UID:17435-1746266400-1746271800@wcpl.org
SUMMARY:Crafting with Karen
DESCRIPTION:Cutting board? Check.  Modpodge? Check.  Variety of Napkins? Check.  Come join us as we create the ultimate cutting board! Registration required\, call 919-735-1824 ext. 5100. \n 
URL:https://wcpl.org/event/crafting-with-karen-19/
LOCATION:Wayne County Public Library – Goldsboro\, 1001 E Ash Street\, Goldsboro\, NC\, 27530\, United States
CATEGORIES:Adult,Goldsboro
END:VEVENT
BEGIN:VEVENT
DTSTART;TZID=America/New_York:20250506T103000
DTEND;TZID=America/New_York:20250506T110000
DTSTAMP:20260423T025740
CREATED:20250408T152451Z
LAST-MODIFIED:20250408T152451Z
UID:17503-1746527400-1746529200@wcpl.org
SUMMARY:Early Explorers
DESCRIPTION:Join us for our kindergarten readiness program. For ages 3-5 with a parent or caregiver.  Programs will guide children as they learn social skills\, as well as letter\, number\, shape\, and color recognition. \n 
URL:https://wcpl.org/event/early-explorers-32/
LOCATION:Wayne County Public Library – Goldsboro\, 1001 E Ash Street\, Goldsboro\, NC\, 27530\, United States
CATEGORIES:Children,Goldsboro
END:VEVENT
BEGIN:VEVENT
DTSTART;TZID=America/New_York:20250506T150000
DTEND;TZID=America/New_York:20250506T160000
DTSTAMP:20260423T025740
CREATED:20250408T120106Z
LAST-MODIFIED:20250408T120106Z
UID:17437-1746543600-1746547200@wcpl.org
SUMMARY:Music Bingo: 1960s! 
DESCRIPTION:Remember the music of times gone by with 1960’s Music Bingo! Grab a card\, listen to some classic tunes\, and win a prize! This program is designed for adults. Join us! Registration is recommended\, call 919-735-1824 ext. 1830 to register. \n 
URL:https://wcpl.org/event/music-bingo-1960s/
LOCATION:Wayne County Public Library – Goldsboro\, 1001 E Ash Street\, Goldsboro\, NC\, 27530\, United States
CATEGORIES:Adult,Goldsboro
END:VEVENT
BEGIN:VEVENT
DTSTART;TZID=America/New_York:20250506T160000
DTEND;TZID=America/New_York:20250506T170000
DTSTAMP:20260423T025740
CREATED:20250408T160159Z
LAST-MODIFIED:20250414T153305Z
UID:17537-1746547200-1746550800@wcpl.org
SUMMARY:Young Artist Program (Elementary)
DESCRIPTION:Join us each month as we learn about some of the greatest artists in the world and then create a masterpiece inspired by their art!  Ages 5-8.  This month we’ll learn about\, Alma Woodsey Thomas\, a teacher and artist who developed a powerful form of abstract painting late in life. \n 
URL:https://wcpl.org/event/young-artist-program-elementary-12/
LOCATION:Wayne County Public Library – Goldsboro\, 1001 E Ash Street\, Goldsboro\, NC\, 27530\, United States
CATEGORIES:Children,Goldsboro
END:VEVENT
BEGIN:VEVENT
DTSTART;TZID=America/New_York:20250507T093000
DTEND;TZID=America/New_York:20250507T100000
DTSTAMP:20260423T025740
CREATED:20250408T153259Z
LAST-MODIFIED:20250408T153259Z
UID:17511-1746610200-1746612000@wcpl.org
SUMMARY:Baby and Me (Goldsboro)
DESCRIPTION:An introduction to books\, reading\, and language through stories\, songs\, rhymes\, and movement. For ages 0-2 with a parent or caregiver. \n 
URL:https://wcpl.org/event/baby-and-me-goldsboro-4/
LOCATION:Wayne County Public Library – Goldsboro\, 1001 E Ash Street\, Goldsboro\, NC\, 27530\, United States
CATEGORIES:Children,Goldsboro
END:VEVENT
BEGIN:VEVENT
DTSTART;TZID=America/New_York:20250507T103000
DTEND;TZID=America/New_York:20250507T110000
DTSTAMP:20260423T025740
CREATED:20250408T153919Z
LAST-MODIFIED:20250408T153919Z
UID:17519-1746613800-1746615600@wcpl.org
SUMMARY:Storytime  (Goldsboro)
DESCRIPTION:An introduction to books\, reading\, and language through stories\, songs\, rhymes\, and movement. For ages 3-5 with a parent or caregiver. \n 
URL:https://wcpl.org/event/storytime-goldsboro-10/
LOCATION:Wayne County Public Library – Goldsboro\, 1001 E Ash Street\, Goldsboro\, NC\, 27530\, United States
CATEGORIES:Children,Goldsboro
END:VEVENT
BEGIN:VEVENT
DTSTART;TZID=America/New_York:20250507T163000
DTEND;TZID=America/New_York:20250507T173000
DTSTAMP:20260423T025740
CREATED:20250408T120349Z
LAST-MODIFIED:20250408T120349Z
UID:17439-1746635400-1746639000@wcpl.org
SUMMARY:Lo-fi Study Hour 
DESCRIPTION:Need a space to unwind and focus on your schoolwork? Set up in our auditorium and enjoy peaceful lo-fi beats as you study. Grab a few snacks and knock out that assignment! \n 
URL:https://wcpl.org/event/lo-fi-study-hour-5/
LOCATION:Wayne County Public Library – Goldsboro\, 1001 E Ash Street\, Goldsboro\, NC\, 27530\, United States
CATEGORIES:Adult,Goldsboro,Teens
END:VEVENT
BEGIN:VEVENT
DTSTART;TZID=America/New_York:20250508T103000
DTEND;TZID=America/New_York:20250508T110000
DTSTAMP:20260423T025740
CREATED:20250408T154832Z
LAST-MODIFIED:20250408T154832Z
UID:17529-1746700200-1746702000@wcpl.org
SUMMARY:Music and Movement (Goldsboro)
DESCRIPTION:Let’s boost our brains with music and movement! For ages 0 – 5 with a parent or caregiver. \n 
URL:https://wcpl.org/event/music-and-movement-goldsboro-17/
LOCATION:Wayne County Public Library – Goldsboro\, 1001 E Ash Street\, Goldsboro\, NC\, 27530\, United States
CATEGORIES:Children,Goldsboro
END:VEVENT
BEGIN:VEVENT
DTSTART;TZID=America/New_York:20250508T150000
DTEND;TZID=America/New_York:20250508T160000
DTSTAMP:20260423T025740
CREATED:20250408T120546Z
LAST-MODIFIED:20250408T120546Z
UID:17441-1746716400-1746720000@wcpl.org
SUMMARY:Tech for Older Adults 
DESCRIPTION:Are you an older adult who has questions about technology? Whether you want to learn how to create Word documents or recover a password\, we can help! Join our staff and Mary Shands\, a retired office administrator\, to learn some basics and get your questions answered. To register\, call 919-735-1824 ext. 5100. \n 
URL:https://wcpl.org/event/tech-for-older-adults-3/
LOCATION:Wayne County Public Library – Goldsboro\, 1001 E Ash Street\, Goldsboro\, NC\, 27530\, United States
CATEGORIES:Adult,Goldsboro
END:VEVENT
BEGIN:VEVENT
DTSTART;TZID=America/New_York:20250508T160000
DTEND;TZID=America/New_York:20250508T170000
DTSTAMP:20260423T025740
CREATED:20250408T161338Z
LAST-MODIFIED:20250414T153039Z
UID:17547-1746720000-1746723600@wcpl.org
SUMMARY:Young Artist Program (Tweens)
DESCRIPTION:Join us each month as we learn about some of the greatest artists in the world and then create a masterpiece inspired by their art! This month we’ll learn about This month we’ll learn about\, Alma Woodsey Thomas\, a teacher and artist who developed a powerful form of abstract painting late in life.  Ages 9-12. \n 
URL:https://wcpl.org/event/young-artist-program-tweens-7/
LOCATION:Wayne County Public Library – Goldsboro\, 1001 E Ash Street\, Goldsboro\, NC\, 27530\, United States
CATEGORIES:Goldsboro,Tweens
END:VEVENT
BEGIN:VEVENT
DTSTART;TZID=America/New_York:20250513T103000
DTEND;TZID=America/New_York:20250513T110000
DTSTAMP:20260423T025740
CREATED:20250408T152628Z
LAST-MODIFIED:20250408T152628Z
UID:17505-1747132200-1747134000@wcpl.org
SUMMARY:Early Explorers
DESCRIPTION:Join us for our kindergarten readiness program. For ages 3-5 with a parent or caregiver.  Programs will guide children as they learn social skills\, as well as letter\, number\, shape\, and color recognition. \n 
URL:https://wcpl.org/event/early-explorers-33/
LOCATION:Wayne County Public Library – Goldsboro\, 1001 E Ash Street\, Goldsboro\, NC\, 27530\, United States
CATEGORIES:Children,Goldsboro
END:VEVENT
BEGIN:VEVENT
DTSTART;TZID=America/New_York:20250513T160000
DTEND;TZID=America/New_York:20250513T170000
DTSTAMP:20260423T025740
CREATED:20250408T160536Z
LAST-MODIFIED:20250414T153802Z
UID:17541-1747152000-1747155600@wcpl.org
SUMMARY:Sprouts Garden Club  (Elementary)
DESCRIPTION:Join us for hands-on fun in the garden! Kids will explore nature and learn how things grow. \n 
URL:https://wcpl.org/event/green-guardians-elementary-6/
LOCATION:Wayne County Public Library – Goldsboro\, 1001 E Ash Street\, Goldsboro\, NC\, 27530\, United States
CATEGORIES:Children,Goldsboro
END:VEVENT
BEGIN:VEVENT
DTSTART;TZID=America/New_York:20250513T173000
DTEND;TZID=America/New_York:20250513T183000
DTSTAMP:20260423T025740
CREATED:20250408T120856Z
LAST-MODIFIED:20250408T120856Z
UID:17443-1747157400-1747161000@wcpl.org
SUMMARY:Resume Building 
DESCRIPTION:Join us in the Local History Room for some helpful tips for building a good resume. Come prepared with your resume or get ready to start one! Call 919-735-1824 ext. 5100 to register. \n 
URL:https://wcpl.org/event/resume-building/
LOCATION:Wayne County Public Library – Goldsboro\, 1001 E Ash Street\, Goldsboro\, NC\, 27530\, United States
CATEGORIES:Adult,Goldsboro
END:VEVENT
BEGIN:VEVENT
DTSTART;TZID=America/New_York:20250514T093000
DTEND;TZID=America/New_York:20250514T100000
DTSTAMP:20260423T025740
CREATED:20250408T153443Z
LAST-MODIFIED:20250408T153443Z
UID:17513-1747215000-1747216800@wcpl.org
SUMMARY:Baby and Me (Goldsboro)
DESCRIPTION:An introduction to books\, reading\, and language through stories\, songs\, rhymes\, and movement. For ages 0-2 with a parent or caregiver. \n 
URL:https://wcpl.org/event/baby-and-me-goldsboro-7/
LOCATION:Wayne County Public Library – Goldsboro\, 1001 E Ash Street\, Goldsboro\, NC\, 27530\, United States
CATEGORIES:Children,Goldsboro
END:VEVENT
BEGIN:VEVENT
DTSTART;TZID=America/New_York:20250514T103000
DTEND;TZID=America/New_York:20250514T110000
DTSTAMP:20260423T025740
CREATED:20250408T154100Z
LAST-MODIFIED:20250408T154100Z
UID:17521-1747218600-1747220400@wcpl.org
SUMMARY:Storytime  (Goldsboro)
DESCRIPTION:An introduction to books\, reading\, and language through stories\, songs\, rhymes\, and movement. For ages 3-5 with a parent or caregiver. \n 
URL:https://wcpl.org/event/storytime-goldsboro-11/
LOCATION:Wayne County Public Library – Goldsboro\, 1001 E Ash Street\, Goldsboro\, NC\, 27530\, United States
CATEGORIES:Children,Goldsboro
END:VEVENT
BEGIN:VEVENT
DTSTART;TZID=America/New_York:20250514T160000
DTEND;TZID=America/New_York:20250514T170000
DTSTAMP:20260423T025740
CREATED:20250408T121129Z
LAST-MODIFIED:20250408T121129Z
UID:17445-1747238400-1747242000@wcpl.org
SUMMARY:Getting Started with Local History  
DESCRIPTION:Have you always been curious about the Local History Room? Join us for this informational session about our local history resources and how to use them! Space is limited—registration required. Call 919-735-1824 ext 1830 to sign up. \n 
URL:https://wcpl.org/event/getting-started-with-local-history-3/
LOCATION:Wayne County Public Library – Goldsboro\, 1001 E Ash Street\, Goldsboro\, NC\, 27530\, United States
CATEGORIES:Adult,Goldsboro,Local History
END:VEVENT
BEGIN:VEVENT
DTSTART;TZID=America/New_York:20250514T180000
DTEND;TZID=America/New_York:20250514T190000
DTSTAMP:20260423T025740
CREATED:20250408T121528Z
LAST-MODIFIED:20250408T121528Z
UID:17447-1747245600-1747249200@wcpl.org
SUMMARY:Asthma and Allergy Management 
DESCRIPTION:Join us for our monthly Wellness Wednesday series! This month\, Sylvia Judd from UNC Health Wayne will join us to discuss tips and resources for managing asthma and allergies. Call 919-735-1824 Ext 5100 to register or for more information.  We’ll be meeting in the Yellow Study Room at the Goldsboro Library. \n 
URL:https://wcpl.org/event/asthma-and-allergy-management/
LOCATION:Wayne County Public Library – Goldsboro\, 1001 E Ash Street\, Goldsboro\, NC\, 27530\, United States
CATEGORIES:Adult,Goldsboro
END:VEVENT
BEGIN:VEVENT
DTSTART;TZID=America/New_York:20250515T103000
DTEND;TZID=America/New_York:20250515T110000
DTSTAMP:20260423T025740
CREATED:20250408T154959Z
LAST-MODIFIED:20250408T154959Z
UID:17531-1747305000-1747306800@wcpl.org
SUMMARY:Music and Movement (Goldsboro)
DESCRIPTION:Let’s boost our brains with music and movement! For ages 0 – 5 with a parent or caregiver. \n 
URL:https://wcpl.org/event/music-and-movement-goldsboro-18/
LOCATION:Wayne County Public Library – Goldsboro\, 1001 E Ash Street\, Goldsboro\, NC\, 27530\, United States
CATEGORIES:Children,Goldsboro
END:VEVENT
BEGIN:VEVENT
DTSTART;TZID=America/New_York:20250515T160000
DTEND;TZID=America/New_York:20250515T170000
DTSTAMP:20260423T025740
CREATED:20250408T160914Z
LAST-MODIFIED:20250414T153651Z
UID:17543-1747324800-1747328400@wcpl.org
SUMMARY:Sprouts Garden Club (Tweens)
DESCRIPTION:Join us for hands-on fun in the garden! Kids will explore nature and learn how things grow. \n 
URL:https://wcpl.org/event/green-guardians-tweens-6/
LOCATION:Wayne County Public Library – Goldsboro\, 1001 E Ash Street\, Goldsboro\, NC\, 27530\, United States
CATEGORIES:Goldsboro,Tweens
END:VEVENT
BEGIN:VEVENT
DTSTART;TZID=America/New_York:20250515T160000
DTEND;TZID=America/New_York:20250515T170000
DTSTAMP:20260423T025740
CREATED:20250408T161116Z
LAST-MODIFIED:20250408T161116Z
UID:17545-1747324800-1747328400@wcpl.org
SUMMARY:Time Travelers Club (Tweens)
DESCRIPTION:Join us as we travel through time learning about local and world history events and how they have shaped our world today. Ages 9-12. \n 
URL:https://wcpl.org/event/time-travelers-club-tweens-9/
LOCATION:Wayne County Public Library – Goldsboro\, 1001 E Ash Street\, Goldsboro\, NC\, 27530\, United States
CATEGORIES:Goldsboro,Tweens
END:VEVENT
BEGIN:VEVENT
DTSTART;TZID=America/New_York:20250515T180000
DTEND;TZID=America/New_York:20250515T193000
DTSTAMP:20260423T025740
CREATED:20250408T121811Z
LAST-MODIFIED:20250408T121811Z
UID:17449-1747332000-1747337400@wcpl.org
SUMMARY:Local History Trivia 
DESCRIPTION:Test your knowledge of our local history with an evening of Local History Trivia! Form a team and earn prizes. For more information\, call 919-735-1824 ext 1830. \n 
URL:https://wcpl.org/event/local-history-trivia-2/
LOCATION:Wayne County Public Library – Goldsboro\, 1001 E Ash Street\, Goldsboro\, NC\, 27530\, United States
CATEGORIES:Adult,Goldsboro,Local History
END:VEVENT
BEGIN:VEVENT
DTSTART;TZID=America/New_York:20250517T130000
DTEND;TZID=America/New_York:20250517T150000
DTSTAMP:20260423T025740
CREATED:20250414T140850Z
LAST-MODIFIED:20250414T140850Z
UID:17594-1747486800-1747494000@wcpl.org
SUMMARY:Reading Tails with Dolly
DESCRIPTION:Practice your reading skills with Dolly the therapy dog! She loves to listen to students read. Students will practice their reading skills in a comfortable\, fun setting. Dolly’s owner is a certified teacher that will be glad to share tips along the way to make reading more enjoyable.  By appointment only during the hours of 1:00-3:00pm.  Register here or call the Children’s Desk @ 919.735.1824 ext 5105. \n 
URL:https://wcpl.org/event/reading-tails-with-dolly-12/
LOCATION:Wayne County Public Library – Goldsboro\, 1001 E Ash Street\, Goldsboro\, NC\, 27530\, United States
CATEGORIES:Children,Goldsboro
END:VEVENT
BEGIN:VEVENT
DTSTART;TZID=America/New_York:20250520T103000
DTEND;TZID=America/New_York:20250520T110000
DTSTAMP:20260423T025740
CREATED:20250408T152750Z
LAST-MODIFIED:20250408T152750Z
UID:17507-1747737000-1747738800@wcpl.org
SUMMARY:Early Explorers
DESCRIPTION:Join us for our kindergarten readiness program. For ages 3-5 with a parent or caregiver.  Programs will guide children as they learn social skills\, as well as letter\, number\, shape\, and color recognition. \n 
URL:https://wcpl.org/event/early-explorers-34/
LOCATION:Wayne County Public Library – Goldsboro\, 1001 E Ash Street\, Goldsboro\, NC\, 27530\, United States
CATEGORIES:Children,Goldsboro
END:VEVENT
BEGIN:VEVENT
DTSTART;TZID=America/New_York:20250520T173000
DTEND;TZID=America/New_York:20250520T190000
DTSTAMP:20260423T025740
CREATED:20250408T122055Z
LAST-MODIFIED:20250408T122055Z
UID:17451-1747762200-1747767600@wcpl.org
SUMMARY:Goldsboro Cross Stitchers 
DESCRIPTION:Join the Goldsboro Cross Stitchers! Connect with other people who enjoy cross stitch and learn new tips and tricks! Call 919-735-1824 Ext 5100 to register or for more information. \n 
URL:https://wcpl.org/event/goldsboro-cross-stitchers-4/
LOCATION:Wayne County Public Library – Goldsboro\, 1001 E Ash Street\, Goldsboro\, NC\, 27530\, United States
CATEGORIES:Adult,Goldsboro
END:VEVENT
BEGIN:VEVENT
DTSTART;TZID=America/New_York:20250521T093000
DTEND;TZID=America/New_York:20250521T100000
DTSTAMP:20260423T025740
CREATED:20250408T153632Z
LAST-MODIFIED:20250408T153632Z
UID:17515-1747819800-1747821600@wcpl.org
SUMMARY:Baby and Me (Goldsboro)
DESCRIPTION:An introduction to books\, reading\, and language through stories\, songs\, rhymes\, and movement. For ages 0-2 with a parent or caregiver. \n 
URL:https://wcpl.org/event/baby-and-me-goldsboro-8/
LOCATION:Wayne County Public Library – Goldsboro\, 1001 E Ash Street\, Goldsboro\, NC\, 27530\, United States
CATEGORIES:Children,Goldsboro
END:VEVENT
BEGIN:VEVENT
DTSTART;TZID=America/New_York:20250521T103000
DTEND;TZID=America/New_York:20250521T110000
DTSTAMP:20260423T025740
CREATED:20250408T154230Z
LAST-MODIFIED:20250408T154230Z
UID:17523-1747823400-1747825200@wcpl.org
SUMMARY:Storytime  (Goldsboro)
DESCRIPTION:An introduction to books\, reading\, and language through stories\, songs\, rhymes\, and movement. For ages 3-5 with a parent or caregiver. \n 
URL:https://wcpl.org/event/storytime-goldsboro-12/
LOCATION:Wayne County Public Library – Goldsboro\, 1001 E Ash Street\, Goldsboro\, NC\, 27530\, United States
CATEGORIES:Children,Goldsboro
END:VEVENT
BEGIN:VEVENT
DTSTART;TZID=America/New_York:20250521T150000
DTEND;TZID=America/New_York:20250521T160000
DTSTAMP:20260423T025740
CREATED:20250408T122431Z
LAST-MODIFIED:20250408T122431Z
UID:17453-1747839600-1747843200@wcpl.org
SUMMARY:Cardio Drumming  (Goldsboro)
DESCRIPTION:Get into a groovy rhythm! Join us for Cardio Drumming! Registration required\, spots limited – call 919-735-1824 x5100. \n 
URL:https://wcpl.org/event/cardio-drumming-goldsboro-5/
LOCATION:Wayne County Public Library – Goldsboro\, 1001 E Ash Street\, Goldsboro\, NC\, 27530\, United States
CATEGORIES:Adult,Goldsboro
END:VEVENT
BEGIN:VEVENT
DTSTART;TZID=America/New_York:20250521T170000
DTEND;TZID=America/New_York:20250521T180000
DTSTAMP:20260423T025740
CREATED:20250408T122917Z
LAST-MODIFIED:20250408T122917Z
UID:17457-1747846800-1747850400@wcpl.org
SUMMARY:Blackout Poetry 
DESCRIPTION:Do you enjoy poetry\, but find the words don’t always come easily to you? Join us in making blackout poetry using the historical writings found in the Local History Special Collections. Call 919-735-1824 ext 1830 to register. \n 
URL:https://wcpl.org/event/blackout-poetry/
LOCATION:Wayne County Public Library – Goldsboro\, 1001 E Ash Street\, Goldsboro\, NC\, 27530\, United States
CATEGORIES:Adult,Goldsboro,Local History
END:VEVENT
END:VCALENDAR