BEGIN:VCALENDAR
VERSION:2.0
PRODID:-//Wayne County Public Library - ECPv6.15.20//NONSGML v1.0//EN
CALSCALE:GREGORIAN
METHOD:PUBLISH
X-ORIGINAL-URL:https://wcpl.org
X-WR-CALDESC:Events for Wayne County Public Library
REFRESH-INTERVAL;VALUE=DURATION:PT1H
X-Robots-Tag:noindex
X-PUBLISHED-TTL:PT1H
BEGIN:VTIMEZONE
TZID:America/New_York
BEGIN:DAYLIGHT
TZOFFSETFROM:-0500
TZOFFSETTO:-0400
TZNAME:EDT
DTSTART:20240310T070000
END:DAYLIGHT
BEGIN:STANDARD
TZOFFSETFROM:-0400
TZOFFSETTO:-0500
TZNAME:EST
DTSTART:20241103T060000
END:STANDARD
BEGIN:DAYLIGHT
TZOFFSETFROM:-0500
TZOFFSETTO:-0400
TZNAME:EDT
DTSTART:20250309T070000
END:DAYLIGHT
BEGIN:STANDARD
TZOFFSETFROM:-0400
TZOFFSETTO:-0500
TZNAME:EST
DTSTART:20251102T060000
END:STANDARD
BEGIN:DAYLIGHT
TZOFFSETFROM:-0500
TZOFFSETTO:-0400
TZNAME:EDT
DTSTART:20260308T070000
END:DAYLIGHT
BEGIN:STANDARD
TZOFFSETFROM:-0400
TZOFFSETTO:-0500
TZNAME:EST
DTSTART:20261101T060000
END:STANDARD
END:VTIMEZONE
BEGIN:VEVENT
DTSTART;TZID=America/New_York:20250206T180000
DTEND;TZID=America/New_York:20250206T193000
DTSTAMP:20260423T075740
CREATED:20250108T214008Z
LAST-MODIFIED:20250108T214008Z
UID:15974-1738864800-1738870200@wcpl.org
SUMMARY:Memory Night: Love Through the Ages 
DESCRIPTION:We are searching for memories and stories of those who have lived and loved in Wayne County! Do you have wedding photos from your great grandparents or a love story based in our community? We would love to hear from you. Drop in and share your memories with us in the Local History Room! We will collect your stories and help digitize photos for an upcoming digital project about the love stories of Wayne County. Call 919-705-1830 for more information. \n 
URL:https://wcpl.org/event/memory-night-love-through-the-ages/
LOCATION:Wayne County Public Library – Goldsboro\, 1001 E Ash Street\, Goldsboro\, NC\, 27530\, United States
CATEGORIES:Adult,Goldsboro,Local History
END:VEVENT
BEGIN:VEVENT
DTSTART;TZID=America/New_York:20250211T103000
DTEND;TZID=America/New_York:20250211T110000
DTSTAMP:20260423T075740
CREATED:20250124T124656Z
LAST-MODIFIED:20250124T124656Z
UID:16249-1739269800-1739271600@wcpl.org
SUMMARY:Early Explorers
DESCRIPTION:Join us for our new kindergarten readiness program. For ages 3-5 with a parent or caregiver.  Programs will guide children as they learn social skills\, as well as letter\, number\, shape\, and color recognition. \n 
URL:https://wcpl.org/event/early-explorers-20/
LOCATION:Wayne County Public Library – Goldsboro\, 1001 E Ash Street\, Goldsboro\, NC\, 27530\, United States
CATEGORIES:Children,Goldsboro
END:VEVENT
BEGIN:VEVENT
DTSTART;TZID=America/New_York:20250211T160000
DTEND;TZID=America/New_York:20250211T170000
DTSTAMP:20260423T075740
CREATED:20250124T184830Z
LAST-MODIFIED:20250124T184830Z
UID:16289-1739289600-1739293200@wcpl.org
SUMMARY:Time Travelers Club (Elementary)
DESCRIPTION:Join us as we travel through time learning about local and world history events and how they have shaped our world today. Ages 5-8. \n 
URL:https://wcpl.org/event/time-travelers-club-elementary-6/
LOCATION:Wayne County Public Library – Goldsboro\, 1001 E Ash Street\, Goldsboro\, NC\, 27530\, United States
CATEGORIES:Children,Goldsboro
END:VEVENT
BEGIN:VEVENT
DTSTART;TZID=America/New_York:20250212T093000
DTEND;TZID=America/New_York:20250212T100000
DTSTAMP:20260423T075740
CREATED:20250124T125217Z
LAST-MODIFIED:20250124T125217Z
UID:16257-1739352600-1739354400@wcpl.org
SUMMARY:Baby and Me
DESCRIPTION:An introduction to books\, reading\, and language through stories\, songs\, rhymes\, and movement. For ages 0-2 with a parent or caregiver. \n 
URL:https://wcpl.org/event/baby-and-me-90/
LOCATION:Wayne County Public Library – Goldsboro\, 1001 E Ash Street\, Goldsboro\, NC\, 27530\, United States
CATEGORIES:Children,Goldsboro
END:VEVENT
BEGIN:VEVENT
DTSTART;TZID=America/New_York:20250212T103000
DTEND;TZID=America/New_York:20250212T110000
DTSTAMP:20260423T075740
CREATED:20250124T130014Z
LAST-MODIFIED:20250124T130014Z
UID:16265-1739356200-1739358000@wcpl.org
SUMMARY:Storytime  (Goldsboro)
DESCRIPTION:An introduction to books\, reading\, and language through stories\, songs\, rhymes\, and movement. For ages 3-5 with a parent or caregiver. \n 
URL:https://wcpl.org/event/storytime-goldsboro-2/
LOCATION:Wayne County Public Library – Goldsboro\, 1001 E Ash Street\, Goldsboro\, NC\, 27530\, United States
CATEGORIES:Children,Goldsboro
END:VEVENT
BEGIN:VEVENT
DTSTART;TZID=America/New_York:20250213T093000
DTEND;TZID=America/New_York:20250213T100000
DTSTAMP:20260423T075740
CREATED:20250124T130512Z
LAST-MODIFIED:20250124T130512Z
UID:16273-1739439000-1739440800@wcpl.org
SUMMARY:Bilingual Storytime
DESCRIPTION:Únase a nosotros para una mañana de cuentos\, canciones y manualidades en español e inglés. Para edades de 3 a 5 años con un padre o cuidador. \nJoin us for a morning of stories\, songs\, and crafts in Spanish and English. For ages 3-5 with a parent or caregiver. \n 
URL:https://wcpl.org/event/bilingual-storytime-13/
LOCATION:Wayne County Public Library – Goldsboro\, 1001 E Ash Street\, Goldsboro\, NC\, 27530\, United States
CATEGORIES:Children,Goldsboro
END:VEVENT
BEGIN:VEVENT
DTSTART;TZID=America/New_York:20250213T103000
DTEND;TZID=America/New_York:20250213T110000
DTSTAMP:20260423T075740
CREATED:20250124T131320Z
LAST-MODIFIED:20250124T131320Z
UID:16281-1739442600-1739444400@wcpl.org
SUMMARY:Music and Movement (Goldsboro)
DESCRIPTION:Let’s boost our brains with music and movement! For ages 0 – 5 with a parent or caregiver. \n 
URL:https://wcpl.org/event/music-and-movement-goldsboro-6/
LOCATION:Wayne County Public Library – Goldsboro\, 1001 E Ash Street\, Goldsboro\, NC\, 27530\, United States
CATEGORIES:Children,Goldsboro
END:VEVENT
BEGIN:VEVENT
DTSTART;TZID=America/New_York:20250213T160000
DTEND;TZID=America/New_York:20250213T170000
DTSTAMP:20260423T075740
CREATED:20250124T185341Z
LAST-MODIFIED:20250124T185341Z
UID:16295-1739462400-1739466000@wcpl.org
SUMMARY:Time Travelers Club (Tweens)
DESCRIPTION:Join us as we travel through time learning about local and world history events and how they have shaped our world today. Ages 9-12 \n 
URL:https://wcpl.org/event/time-travelers-club-tweens-6/
LOCATION:Wayne County Public Library – Goldsboro\, 1001 E Ash Street\, Goldsboro\, NC\, 27530\, United States
CATEGORIES:Goldsboro,Tweens
END:VEVENT
BEGIN:VEVENT
DTSTART;TZID=America/New_York:20250215T130000
DTEND;TZID=America/New_York:20250215T150000
DTSTAMP:20260423T075740
CREATED:20250113T183525Z
LAST-MODIFIED:20250113T183525Z
UID:16092-1739624400-1739631600@wcpl.org
SUMMARY:Reading Tails with Dolly
DESCRIPTION:Practice your reading skills with Dolly the therapy dog! She loves to listen to students read. Students will practice their reading skills in a comfortable\, fun setting. Dolly’s owner is a certified teacher that will be glad to share tips along the way to make reading more enjoyable.  By appointment only during the hours of 1:00-3:00pm.  Register here. \n 
URL:https://wcpl.org/event/reading-tails-with-dolly-9/
LOCATION:Wayne County Public Library – Goldsboro\, 1001 E Ash Street\, Goldsboro\, NC\, 27530\, United States
CATEGORIES:Children,Goldsboro
END:VEVENT
BEGIN:VEVENT
DTSTART;TZID=America/New_York:20250217T143000
DTEND;TZID=America/New_York:20250217T160000
DTSTAMP:20260423T075740
CREATED:20250113T184105Z
LAST-MODIFIED:20250113T184105Z
UID:16098-1739802600-1739808000@wcpl.org
SUMMARY:Why Knot?  
DESCRIPTION:Join a group of knitters and crocheters for an hour of fun and friendship! All experience levels welcome. This program is not led by an instructor\, but we will learn from each other as we work on our projects. \nBeginners should bring size 7 or 8 knitting needles or a size J or K crochet hook and a ball of worsted weight yarn to begin their crafty journey. \n 
URL:https://wcpl.org/event/why-knot-15/
LOCATION:Wayne County Public Library – Goldsboro\, 1001 E Ash Street\, Goldsboro\, NC\, 27530\, United States
CATEGORIES:Adult,Goldsboro
END:VEVENT
BEGIN:VEVENT
DTSTART;TZID=America/New_York:20250218T103000
DTEND;TZID=America/New_York:20250218T110000
DTSTAMP:20260423T075740
CREATED:20250124T124806Z
LAST-MODIFIED:20250124T124806Z
UID:16251-1739874600-1739876400@wcpl.org
SUMMARY:Early Explorers
DESCRIPTION:Join us for our new kindergarten readiness program. For ages 3-5 with a parent or caregiver.  Programs will guide children as they learn social skills\, as well as letter\, number\, shape\, and color recognition. \n 
URL:https://wcpl.org/event/early-explorers-21/
LOCATION:Wayne County Public Library – Goldsboro\, 1001 E Ash Street\, Goldsboro\, NC\, 27530\, United States
CATEGORIES:Children,Goldsboro
END:VEVENT
BEGIN:VEVENT
DTSTART;TZID=America/New_York:20250218T160000
DTEND;TZID=America/New_York:20250218T170000
DTSTAMP:20260423T075740
CREATED:20250124T184640Z
LAST-MODIFIED:20250124T184640Z
UID:16287-1739894400-1739898000@wcpl.org
SUMMARY:Green Guardians  (Elementary)
DESCRIPTION:A hands-on environmental STEM program that challenges participants to design solutions to real-world environmental issues. Ages 5-8. \n 
URL:https://wcpl.org/event/green-guardians-elementary-5/
LOCATION:Wayne County Public Library – Goldsboro\, 1001 E Ash Street\, Goldsboro\, NC\, 27530\, United States
CATEGORIES:Children,Goldsboro
END:VEVENT
BEGIN:VEVENT
DTSTART;TZID=America/New_York:20250218T173000
DTEND;TZID=America/New_York:20250218T193000
DTSTAMP:20260423T075740
CREATED:20250108T214222Z
LAST-MODIFIED:20250108T214222Z
UID:15976-1739899800-1739907000@wcpl.org
SUMMARY:Goldsboro Cross Stitchers 
DESCRIPTION:Join the Goldsboro Cross Stitchers! Connect with other people who enjoy cross stitch and learn new tips and tricks. Call 919-735-1824 ext 5100 to register or for more information. \n 
URL:https://wcpl.org/event/goldsboro-cross-stitchers/
LOCATION:Wayne County Public Library – Goldsboro\, 1001 E Ash Street\, Goldsboro\, NC\, 27530\, United States
CATEGORIES:Adult,Goldsboro
END:VEVENT
BEGIN:VEVENT
DTSTART;TZID=America/New_York:20250219T093000
DTEND;TZID=America/New_York:20250219T100000
DTSTAMP:20260423T075740
CREATED:20250124T125332Z
LAST-MODIFIED:20250124T125332Z
UID:16259-1739957400-1739959200@wcpl.org
SUMMARY:Baby and Me
DESCRIPTION:An introduction to books\, reading\, and language through stories\, songs\, rhymes\, and movement. For ages 0-2 with a parent or caregiver. \n 
URL:https://wcpl.org/event/baby-and-me-91/
LOCATION:Wayne County Public Library – Goldsboro\, 1001 E Ash Street\, Goldsboro\, NC\, 27530\, United States
CATEGORIES:Children,Goldsboro
END:VEVENT
BEGIN:VEVENT
DTSTART;TZID=America/New_York:20250219T103000
DTEND;TZID=America/New_York:20250219T110000
DTSTAMP:20260423T075740
CREATED:20250124T130121Z
LAST-MODIFIED:20250124T130121Z
UID:16267-1739961000-1739962800@wcpl.org
SUMMARY:Storytime  (Goldsboro)
DESCRIPTION:An introduction to books\, reading\, and language through stories\, songs\, rhymes\, and movement. For ages 3-5 with a parent or caregiver. \n 
URL:https://wcpl.org/event/storytime-goldsboro-3/
LOCATION:Wayne County Public Library – Goldsboro\, 1001 E Ash Street\, Goldsboro\, NC\, 27530\, United States
CATEGORIES:Children,Goldsboro
END:VEVENT
BEGIN:VEVENT
DTSTART;TZID=America/New_York:20250219T163000
DTEND;TZID=America/New_York:20250219T173000
DTSTAMP:20260423T075740
CREATED:20250110T125931Z
LAST-MODIFIED:20250110T125931Z
UID:15980-1739982600-1739986200@wcpl.org
SUMMARY:Lo-fi Study Hour 
DESCRIPTION:Need a space to unwind and focus on your schoolwork? Set up in our auditorium and enjoy peaceful lo-fi beats as you study. Grab a few snacks and knock out that assignment! \n 
URL:https://wcpl.org/event/lo-fi-study-hour-2/
LOCATION:Wayne County Public Library – Goldsboro\, 1001 E Ash Street\, Goldsboro\, NC\, 27530\, United States
CATEGORIES:Adult,Goldsboro,Teens
END:VEVENT
BEGIN:VEVENT
DTSTART;TZID=America/New_York:20250219T180000
DTEND;TZID=America/New_York:20250219T190000
DTSTAMP:20260423T075740
CREATED:20250110T125516Z
LAST-MODIFIED:20250110T125516Z
UID:15978-1739988000-1739991600@wcpl.org
SUMMARY:Wellness Wednesday: Heart Health 
DESCRIPTION:Join us for our monthly Wellness Wednesday series! This month\, Sylvia Judd from UNC Health Wayne will join us to discuss heart health. Call 919-735-1824 Ext 5100 to register or for more information.  Meet in the Yellow Study Room at the Goldsboro Library. \n 
URL:https://wcpl.org/event/wellness-wednesday-heart-health/
LOCATION:Wayne County Public Library – Goldsboro\, 1001 E Ash Street\, Goldsboro\, NC\, 27530\, United States
CATEGORIES:Adult,Goldsboro
END:VEVENT
BEGIN:VEVENT
DTSTART;TZID=America/New_York:20250220T093000
DTEND;TZID=America/New_York:20250220T100000
DTSTAMP:20260423T075740
CREATED:20250124T130634Z
LAST-MODIFIED:20250124T130634Z
UID:16275-1740043800-1740045600@wcpl.org
SUMMARY:Bilingual Storytime
DESCRIPTION:Únase a nosotros para una mañana de cuentos\, canciones y manualidades en español e inglés. Para edades de 3 a 5 años con un padre o cuidador. \nJoin us for a morning of stories\, songs\, and crafts in Spanish and English. For ages 3-5 with a parent or caregiver. \n 
URL:https://wcpl.org/event/bilingual-storytime-14/
LOCATION:Wayne County Public Library – Goldsboro\, 1001 E Ash Street\, Goldsboro\, NC\, 27530\, United States
CATEGORIES:Children,Goldsboro
END:VEVENT
BEGIN:VEVENT
DTSTART;TZID=America/New_York:20250220T103000
DTEND;TZID=America/New_York:20250220T110000
DTSTAMP:20260423T075740
CREATED:20250124T131435Z
LAST-MODIFIED:20250124T131435Z
UID:16283-1740047400-1740049200@wcpl.org
SUMMARY:Music and Movement (Goldsboro)
DESCRIPTION:Let’s boost our brains with music and movement! For ages 0 – 5 with a parent or caregiver. \n 
URL:https://wcpl.org/event/music-and-movement-goldsboro-7/
LOCATION:Wayne County Public Library – Goldsboro\, 1001 E Ash Street\, Goldsboro\, NC\, 27530\, United States
CATEGORIES:Children,Goldsboro
END:VEVENT
BEGIN:VEVENT
DTSTART;TZID=America/New_York:20250220T160000
DTEND;TZID=America/New_York:20250220T170000
DTSTAMP:20260423T075740
CREATED:20250110T130112Z
LAST-MODIFIED:20250110T130112Z
UID:15982-1740067200-1740070800@wcpl.org
SUMMARY:Getting Started with Local History 
DESCRIPTION:Join us for an opportunity to get started with researching your family history. We will offer an overview of tips and tricks for getting started with the genealogy resources offered by our library. Space is limited. Registration required. Call 919-705-1830. \n 
URL:https://wcpl.org/event/getting-started-with-local-history-2/
LOCATION:Wayne County Public Library – Goldsboro\, 1001 E Ash Street\, Goldsboro\, NC\, 27530\, United States
CATEGORIES:Adult,Goldsboro,Local History
END:VEVENT
BEGIN:VEVENT
DTSTART;TZID=America/New_York:20250220T160000
DTEND;TZID=America/New_York:20250220T170000
DTSTAMP:20260423T075740
CREATED:20250124T185211Z
LAST-MODIFIED:20250124T185211Z
UID:16293-1740067200-1740070800@wcpl.org
SUMMARY:Green Guardians (Tweens)
DESCRIPTION:A hands-on environmental STEM program that challenges participants to design solutions to real-world environmental issues. Ages 9-12 \n 
URL:https://wcpl.org/event/green-guardians-tweens-5/
LOCATION:Wayne County Public Library – Goldsboro\, 1001 E Ash Street\, Goldsboro\, NC\, 27530\, United States
CATEGORIES:Goldsboro,Tweens
END:VEVENT
BEGIN:VEVENT
DTSTART;TZID=America/New_York:20250222T140000
DTEND;TZID=America/New_York:20250222T163000
DTSTAMP:20260423T075740
CREATED:20250110T130532Z
LAST-MODIFIED:20250110T130648Z
UID:15984-1740232800-1740241800@wcpl.org
SUMMARY:Studio Ghibli Fan Club: Whisper of the Heart 
DESCRIPTION:Immerse yourself in the world of Studio Ghibli! Join us as we snack\, braid kumihimo bracelets\, and enjoy “Whisper of the Heart.” Ages 13+.  Registration is required\, call 919-735-124 ext 5110. \n 
URL:https://wcpl.org/event/studio-ghibli-fan-club-whisper-of-the-heart/
LOCATION:Wayne County Public Library – Goldsboro\, 1001 E Ash Street\, Goldsboro\, NC\, 27530\, United States
CATEGORIES:Goldsboro,Teens
END:VEVENT
BEGIN:VEVENT
DTSTART;TZID=America/New_York:20250225T103000
DTEND;TZID=America/New_York:20250225T110000
DTSTAMP:20260423T075740
CREATED:20250124T124919Z
LAST-MODIFIED:20250124T124919Z
UID:16253-1740479400-1740481200@wcpl.org
SUMMARY:Early Explorers
DESCRIPTION:Join us for our new kindergarten readiness program. For ages 3-5 with a parent or caregiver.  Programs will guide children as they learn social skills\, as well as letter\, number\, shape\, and color recognition. \n 
URL:https://wcpl.org/event/early-explorers-22/
LOCATION:Wayne County Public Library – Goldsboro\, 1001 E Ash Street\, Goldsboro\, NC\, 27530\, United States
CATEGORIES:Children,Goldsboro
END:VEVENT
BEGIN:VEVENT
DTSTART;TZID=America/New_York:20250225T150000
DTEND;TZID=America/New_York:20250225T160000
DTSTAMP:20260423T075740
CREATED:20250113T183948Z
LAST-MODIFIED:20250113T183948Z
UID:16096-1740495600-1740499200@wcpl.org
SUMMARY:New Dawn Inspirational Book Club 
DESCRIPTION:Join us as we discuss books of Inspirational Fiction. This month we will be discussing the book Letters of Trust by Wanda E. Brunstetter.  Please call 919-735-1824\, ext. 5102 to register. \n 
URL:https://wcpl.org/event/new-dawn-inspirational-book-club-34/
LOCATION:Wayne County Public Library – Goldsboro\, 1001 E Ash Street\, Goldsboro\, NC\, 27530\, United States
CATEGORIES:Adult,Goldsboro,Library Book Club
END:VEVENT
BEGIN:VEVENT
DTSTART;TZID=America/New_York:20250226T093000
DTEND;TZID=America/New_York:20250226T100000
DTSTAMP:20260423T075740
CREATED:20250124T125434Z
LAST-MODIFIED:20250124T125434Z
UID:16261-1740562200-1740564000@wcpl.org
SUMMARY:Baby and Me
DESCRIPTION:An introduction to books\, reading\, and language through stories\, songs\, rhymes\, and movement. For ages 0-2 with a parent or caregiver. \n 
URL:https://wcpl.org/event/baby-and-me-92/
LOCATION:Wayne County Public Library – Goldsboro\, 1001 E Ash Street\, Goldsboro\, NC\, 27530\, United States
CATEGORIES:Children,Goldsboro
END:VEVENT
BEGIN:VEVENT
DTSTART;TZID=America/New_York:20250226T103000
DTEND;TZID=America/New_York:20250226T110000
DTSTAMP:20260423T075740
CREATED:20250124T130218Z
LAST-MODIFIED:20250124T130218Z
UID:16269-1740565800-1740567600@wcpl.org
SUMMARY:Storytime  (Goldsboro)
DESCRIPTION:An introduction to books\, reading\, and language through stories\, songs\, rhymes\, and movement. For ages 3-5 with a parent or caregiver. \n 
URL:https://wcpl.org/event/storytime-goldsboro-4/
LOCATION:Wayne County Public Library – Goldsboro\, 1001 E Ash Street\, Goldsboro\, NC\, 27530\, United States
CATEGORIES:Children,Goldsboro
END:VEVENT
BEGIN:VEVENT
DTSTART;TZID=America/New_York:20250226T183000
DTEND;TZID=America/New_York:20250226T193000
DTSTAMP:20260423T075740
CREATED:20250113T184256Z
LAST-MODIFIED:20250113T184256Z
UID:16100-1740594600-1740598200@wcpl.org
SUMMARY:Paint & Sip Coffee
DESCRIPTION:Paint a picture with us – all skill levels welcomed and encouraged! Registration required. Call (919) 735-1824 ext 5102 or email jamie.tyler@waynegov.com to register. \n 
URL:https://wcpl.org/event/paint-sip-coffee-13/
LOCATION:Wayne County Public Library – Goldsboro\, 1001 E Ash Street\, Goldsboro\, NC\, 27530\, United States
CATEGORIES:Adult,Goldsboro
END:VEVENT
BEGIN:VEVENT
DTSTART;TZID=America/New_York:20250227T103000
DTEND;TZID=America/New_York:20250227T110000
DTSTAMP:20260423T075740
CREATED:20250124T131540Z
LAST-MODIFIED:20250124T131540Z
UID:16285-1740652200-1740654000@wcpl.org
SUMMARY:Music and Movement (Goldsboro)
DESCRIPTION:Let’s boost our brains with music and movement! For ages 0 – 5 with a parent or caregiver. \n 
URL:https://wcpl.org/event/music-and-movement-goldsboro-8/
LOCATION:Wayne County Public Library – Goldsboro\, 1001 E Ash Street\, Goldsboro\, NC\, 27530\, United States
CATEGORIES:Children,Goldsboro
END:VEVENT
BEGIN:VEVENT
DTSTART;TZID=America/New_York:20250227T150000
DTEND;TZID=America/New_York:20250227T163000
DTSTAMP:20260423T075740
CREATED:20250110T131123Z
LAST-MODIFIED:20250110T131123Z
UID:15988-1740668400-1740673800@wcpl.org
SUMMARY:Cardio Drumming  (Goldsboro)
DESCRIPTION:Start something new this year and get into a groovy Rhythm!  Space is limited so call 919-735-1824 ext. 5100 for more information or to sign up! \n 
URL:https://wcpl.org/event/cardio-drumming-goldsboro-2/
LOCATION:Wayne County Public Library – Goldsboro\, 1001 E Ash Street\, Goldsboro\, NC\, 27530\, United States
CATEGORIES:Adult,Goldsboro
END:VEVENT
BEGIN:VEVENT
DTSTART;TZID=America/New_York:20250227T180000
DTEND;TZID=America/New_York:20250227T190000
DTSTAMP:20260423T075740
CREATED:20250110T131356Z
LAST-MODIFIED:20250110T131356Z
UID:15990-1740679200-1740682800@wcpl.org
SUMMARY:From the Archive: the Conway Rose Collection 
DESCRIPTION:Join us for our first ever From the Archive program! We will discuss the process of acquiring and managing our local history collection\, and attendees will have an opportunity to dig deeper into one of our many special collections – the Conway Rose Collection.  Space is limited. Registration required! Call 919-705-1830. \n 
URL:https://wcpl.org/event/from-the-archive-the-conway-rose-collection/
LOCATION:Wayne County Public Library – Goldsboro\, 1001 E Ash Street\, Goldsboro\, NC\, 27530\, United States
CATEGORIES:Adult,Goldsboro,Local History
END:VEVENT
END:VCALENDAR