BEGIN:VCALENDAR
VERSION:2.0
PRODID:-//Wayne County Public Library - ECPv6.15.20//NONSGML v1.0//EN
CALSCALE:GREGORIAN
METHOD:PUBLISH
X-ORIGINAL-URL:https://wcpl.org
X-WR-CALDESC:Events for Wayne County Public Library
REFRESH-INTERVAL;VALUE=DURATION:PT1H
X-Robots-Tag:noindex
X-PUBLISHED-TTL:PT1H
BEGIN:VTIMEZONE
TZID:America/New_York
BEGIN:DAYLIGHT
TZOFFSETFROM:-0500
TZOFFSETTO:-0400
TZNAME:EDT
DTSTART:20240310T070000
END:DAYLIGHT
BEGIN:STANDARD
TZOFFSETFROM:-0400
TZOFFSETTO:-0500
TZNAME:EST
DTSTART:20241103T060000
END:STANDARD
BEGIN:DAYLIGHT
TZOFFSETFROM:-0500
TZOFFSETTO:-0400
TZNAME:EDT
DTSTART:20250309T070000
END:DAYLIGHT
BEGIN:STANDARD
TZOFFSETFROM:-0400
TZOFFSETTO:-0500
TZNAME:EST
DTSTART:20251102T060000
END:STANDARD
BEGIN:DAYLIGHT
TZOFFSETFROM:-0500
TZOFFSETTO:-0400
TZNAME:EDT
DTSTART:20260308T070000
END:DAYLIGHT
BEGIN:STANDARD
TZOFFSETFROM:-0400
TZOFFSETTO:-0500
TZNAME:EST
DTSTART:20261101T060000
END:STANDARD
END:VTIMEZONE
BEGIN:VEVENT
DTSTART;TZID=America/New_York:20250410T150000
DTEND;TZID=America/New_York:20250410T160000
DTSTAMP:20260423T161503
CREATED:20250317T151550Z
LAST-MODIFIED:20250317T151550Z
UID:17012-1744297200-1744300800@wcpl.org
SUMMARY:Tech for Older Adults  
DESCRIPTION:Are you an older adult who has questions about technology? Whether you want to learn how to create Word documents or recover a password\, we can help! Join our staff and Mary Shands\, a retired office administrator\, to learn some basics and get your questions answered. To register\, call 919-735-1824 ext. 5100. \n 
URL:https://wcpl.org/event/tech-for-older-adults-2/
LOCATION:Wayne County Public Library – Goldsboro\, 1001 E Ash Street\, Goldsboro\, NC\, 27530\, United States
CATEGORIES:Adult,Goldsboro
END:VEVENT
BEGIN:VEVENT
DTSTART;TZID=America/New_York:20250411T130000
DTEND;TZID=America/New_York:20250411T160000
DTSTAMP:20260423T161503
CREATED:20250307T154140Z
LAST-MODIFIED:20250307T154140Z
UID:16906-1744376400-1744387200@wcpl.org
SUMMARY:Open Makerspace Hours (Steele Mem.)
DESCRIPTION:Bring your own supplies and use our makerspace tools – Cricut\, sewing\, knitting\, crochet – on our big craft tables. \n 
URL:https://wcpl.org/event/open-makerspace-hours-steele-mem-117/
LOCATION:Steele Memorial Library\, 119 W Main St.\, Mt. Olive\, NC\, 28365\, United States
CATEGORIES:Adult,Steele Memorial
END:VEVENT
BEGIN:VEVENT
DTSTART;TZID=America/New_York:20250411T150000
DTEND;TZID=America/New_York:20250411T160000
DTSTAMP:20260423T161503
CREATED:20250317T151748Z
LAST-MODIFIED:20250327T195000Z
UID:17014-1744383600-1744387200@wcpl.org
SUMMARY:Garden Yoga   
DESCRIPTION:Join us in the teaching garden for a yoga session! Sharon Mervin will be here to introduce us to some basic yoga to add to a healthy routine. Call 919-735-1824 x5100 to register.  We’ll meet in the Community Garden at the Goldsboro Library. \n 
URL:https://wcpl.org/event/garden-yoga-3/
LOCATION:Wayne County Public Library – Goldsboro\, 1001 E Ash Street\, Goldsboro\, NC\, 27530\, United States
CATEGORIES:Adult,Goldsboro
END:VEVENT
BEGIN:VEVENT
DTSTART;TZID=America/New_York:20250412T100000
DTEND;TZID=America/New_York:20250412T113000
DTSTAMP:20260423T161503
CREATED:20250317T152236Z
LAST-MODIFIED:20250317T152236Z
UID:17016-1744452000-1744457400@wcpl.org
SUMMARY:Crafting with Karen
DESCRIPTION:Come join us as we create “Faux” Stained glass. Registration required\, call 919-735-1824 ext. 5100. \n 
URL:https://wcpl.org/event/crafting-with-karen-18/
LOCATION:Wayne County Public Library – Goldsboro\, 1001 E Ash Street\, Goldsboro\, NC\, 27530\, United States
CATEGORIES:Adult,Goldsboro
END:VEVENT
BEGIN:VEVENT
DTSTART;TZID=America/New_York:20250414T100000
DTEND;TZID=America/New_York:20250414T110000
DTSTAMP:20260423T161503
CREATED:20250306T214758Z
LAST-MODIFIED:20250306T214758Z
UID:16888-1744624800-1744628400@wcpl.org
SUMMARY:Morning Meditations (Steele Mem.)
DESCRIPTION:We will be stretching for 20-30 minutes for flexibility and then doing some Zen tangles for relaxation.  Please call 919 299-8105 ext. 5351 to register. \n 
URL:https://wcpl.org/event/morning-meditations-steele-mem-3/
LOCATION:Steele Memorial Library\, 119 W Main St.\, Mt. Olive\, NC\, 28365\, United States
CATEGORIES:Adult,Steele Memorial
END:VEVENT
BEGIN:VEVENT
DTSTART;TZID=America/New_York:20250415T100000
DTEND;TZID=America/New_York:20250415T110000
DTSTAMP:20260423T161503
CREATED:20250317T155242Z
LAST-MODIFIED:20250317T155242Z
UID:17038-1744711200-1744714800@wcpl.org
SUMMARY:Northern Wayne Stitchers
DESCRIPTION:The program is designed to create a relaxed\, welcoming environment where participants can focus on honing their craft while receiving the support they need to challenge themselves creatively. It’s an ideal opportunity for experienced stitchers to elevate their work\, troubleshoot projects\, and continue growing as artisans. Registration is required. Please call 919-705-1892 to register. \n 
URL:https://wcpl.org/event/northern-wayne-stitchers-18/
LOCATION:Northern Wayne Library\, 609 S. Wilson St.\, Fremont\, NC\, 27830\, United States
CATEGORIES:Adult,Goldsboro
END:VEVENT
BEGIN:VEVENT
DTSTART;TZID=America/New_York:20250415T130000
DTEND;TZID=America/New_York:20250415T143000
DTSTAMP:20260423T161503
CREATED:20250317T152523Z
LAST-MODIFIED:20250317T152523Z
UID:17018-1744722000-1744727400@wcpl.org
SUMMARY:DIY Mini Zen Garden  
DESCRIPTION:Need a creative way to relax? Join us in the Auditorium to design your own mini Zen garden. Registration Required: call 919-735-1824 ext. 5100 for registration and information. \n 
URL:https://wcpl.org/event/diy-mini-zen-garden/
LOCATION:Wayne County Public Library – Goldsboro\, 1001 E Ash Street\, Goldsboro\, NC\, 27530\, United States
CATEGORIES:Adult,Goldsboro
END:VEVENT
BEGIN:VEVENT
DTSTART;TZID=America/New_York:20250415T173000
DTEND;TZID=America/New_York:20250415T183000
DTSTAMP:20260423T161503
CREATED:20250317T152727Z
LAST-MODIFIED:20250317T152727Z
UID:17020-1744738200-1744741800@wcpl.org
SUMMARY:Goldsboro Cross Stitchers  
DESCRIPTION:Join the Goldsboro Cross Stitchers! Connect with other people who enjoy cross stitch and learn new tips and tricks! Call 919-735-1824 Ext 5100 to register or for more information. \n 
URL:https://wcpl.org/event/goldsboro-cross-stitchers-3/
LOCATION:Wayne County Public Library – Goldsboro\, 1001 E Ash Street\, Goldsboro\, NC\, 27530\, United States
CATEGORIES:Adult,Goldsboro
END:VEVENT
BEGIN:VEVENT
DTSTART;TZID=America/New_York:20250416T100000
DTEND;TZID=America/New_York:20250416T110000
DTSTAMP:20260423T161503
CREATED:20250317T160414Z
LAST-MODIFIED:20250317T160414Z
UID:17048-1744797600-1744801200@wcpl.org
SUMMARY:Story Time  (Northern Wayne)
DESCRIPTION:Join us as we read\, talk\, and craft our way through themed story times. For children ages 4 years and up and their caregivers. Registration is required.  Please call 919-705-1892 to register. \n 
URL:https://wcpl.org/event/story-time-northern-wayne-26/
LOCATION:Northern Wayne Library\, 609 S. Wilson St.\, Fremont\, NC\, 27830\, United States
CATEGORIES:Adult,Children,Northern Wayne Library
END:VEVENT
BEGIN:VEVENT
DTSTART;TZID=America/New_York:20250416T100000
DTEND;TZID=America/New_York:20250416T130000
DTSTAMP:20260423T161503
CREATED:20250306T220057Z
LAST-MODIFIED:20250306T220057Z
UID:16898-1744797600-1744808400@wcpl.org
SUMMARY:Open Makerspace Hours (Steele Mem.)
DESCRIPTION:Bring your own supplies and use our makerspace tools – Cricut\, sewing\, knitting\, crochet – on our big craft tables. \n 
URL:https://wcpl.org/event/open-makerspace-hours-steele-mem-113/
LOCATION:Steele Memorial Library\, 119 W Main St.\, Mt. Olive\, NC\, 28365\, United States
CATEGORIES:Adult,Steele Memorial
END:VEVENT
BEGIN:VEVENT
DTSTART;TZID=America/New_York:20250416T150000
DTEND;TZID=America/New_York:20250416T160000
DTSTAMP:20260423T161503
CREATED:20250306T215018Z
LAST-MODIFIED:20250306T215018Z
UID:16890-1744815600-1744819200@wcpl.org
SUMMARY:What’s That Say? (Steele Mem.)
DESCRIPTION:Join us for a session filled with tips for reading tricky cursive handwriting on historical documents.  Please call 919-299-8105 ext. 5351 to register. \n 
URL:https://wcpl.org/event/whats-that-say-steele-mem-2/
LOCATION:Steele Memorial Library\, 119 W Main St.\, Mt. Olive\, NC\, 28365\, United States
CATEGORIES:Adult,Steele Memorial
END:VEVENT
BEGIN:VEVENT
DTSTART;TZID=America/New_York:20250416T160000
DTEND;TZID=America/New_York:20250416T170000
DTSTAMP:20260423T161503
CREATED:20250317T153252Z
LAST-MODIFIED:20250317T153252Z
UID:17022-1744819200-1744822800@wcpl.org
SUMMARY:Know Your Family History  
DESCRIPTION:Join us for an informational session about how to find documentation from your family history and how genealogy works in finding what you want to know! Call 919-735-1824 ext 1830 to register. \n 
URL:https://wcpl.org/event/know-your-family-history/
LOCATION:Wayne County Public Library – Goldsboro\, 1001 E Ash Street\, Goldsboro\, NC\, 27530\, United States
CATEGORIES:Adult,Goldsboro,Local History
END:VEVENT
BEGIN:VEVENT
DTSTART;TZID=America/New_York:20250417T150000
DTEND;TZID=America/New_York:20250417T160000
DTSTAMP:20260423T161503
CREATED:20250306T214304Z
LAST-MODIFIED:20250306T214304Z
UID:16882-1744902000-1744905600@wcpl.org
SUMMARY:Cardio Drumming (Steele Mem.)
DESCRIPTION:Cardio drumming is an adult class that brings together drumsticks\, an exercise ball\, and stand to create one of the most fun workouts you’ll ever do.  Please call 919-299-8105 ext. 5351 to register. \n 
URL:https://wcpl.org/event/cardio-drumming-steele-mem-50/
LOCATION:Steele Memorial Library\, 119 W Main St.\, Mt. Olive\, NC\, 28365\, United States
CATEGORIES:Adult,Steele Memorial
END:VEVENT
BEGIN:VEVENT
DTSTART;TZID=America/New_York:20250421T173000
DTEND;TZID=America/New_York:20250421T183000
DTSTAMP:20260423T161503
CREATED:20250317T153830Z
LAST-MODIFIED:20250317T153830Z
UID:17026-1745256600-1745260200@wcpl.org
SUMMARY:Preservation Week: Digital Materials  
DESCRIPTION:Join us to learn about the best practices for preserving digital materials for accessibility in the future. Call 919-735-1824 ext. 1830 to register. \n 
URL:https://wcpl.org/event/preservation-week-digital-materials/
LOCATION:Wayne County Public Library – Goldsboro\, 1001 E Ash Street\, Goldsboro\, NC\, 27530\, United States
CATEGORIES:Adult,Goldsboro,Local History
END:VEVENT
BEGIN:VEVENT
DTSTART;TZID=America/New_York:20250422T150000
DTEND;TZID=America/New_York:20250422T160000
DTSTAMP:20260423T161503
CREATED:20250317T172158Z
LAST-MODIFIED:20250317T172158Z
UID:17070-1745334000-1745337600@wcpl.org
SUMMARY:New Dawn Inspirational Book Club 
DESCRIPTION:Join us as we discuss books of Inspirational Fiction. This month we will be discussing the book While the City Sleeps by Elizabeth Camden.  Please call 919-735-1824\, ext. 5102 to register. \n 
URL:https://wcpl.org/event/new-dawn-inspirational-book-club-36/
LOCATION:Wayne County Public Library – Goldsboro\, 1001 E Ash Street\, Goldsboro\, NC\, 27530\, United States
CATEGORIES:Adult,Goldsboro,Library Book Club
END:VEVENT
BEGIN:VEVENT
DTSTART;TZID=America/New_York:20250423T100000
DTEND;TZID=America/New_York:20250423T130000
DTSTAMP:20260423T161503
CREATED:20250306T220212Z
LAST-MODIFIED:20250306T220212Z
UID:16900-1745402400-1745413200@wcpl.org
SUMMARY:Open Makerspace Hours (Steele Mem.)
DESCRIPTION:Bring your own supplies and use our makerspace tools – Cricut\, sewing\, knitting\, crochet – on our big craft tables. \n 
URL:https://wcpl.org/event/open-makerspace-hours-steele-mem-114/
LOCATION:Steele Memorial Library\, 119 W Main St.\, Mt. Olive\, NC\, 28365\, United States
CATEGORIES:Adult,Steele Memorial
END:VEVENT
BEGIN:VEVENT
DTSTART;TZID=America/New_York:20250423T150000
DTEND;TZID=America/New_York:20250423T160000
DTSTAMP:20260423T161503
CREATED:20250306T215303Z
LAST-MODIFIED:20250306T215303Z
UID:16892-1745420400-1745424000@wcpl.org
SUMMARY:Stained Glass Craft (Steele Mem.)
DESCRIPTION:We will be painting mandala suncatchers.  Please call 919-299-8105 ext. 5351 to register. \n 
URL:https://wcpl.org/event/stained-glass-craft-steele-mem/
LOCATION:Steele Memorial Library\, 119 W Main St.\, Mt. Olive\, NC\, 28365\, United States
CATEGORIES:Adult,Steele Memorial
END:VEVENT
BEGIN:VEVENT
DTSTART;TZID=America/New_York:20250423T180000
DTEND;TZID=America/New_York:20250423T190000
DTSTAMP:20260423T161503
CREATED:20250317T154003Z
LAST-MODIFIED:20250317T154003Z
UID:17028-1745431200-1745434800@wcpl.org
SUMMARY:Preservation Week: Oral Histories  
DESCRIPTION:Join  us to learn the importance of oral histories in preserving our local history and be trained on best practices for conducting an interview. Call 919-735-1824 ext. 1830 to register. \n 
URL:https://wcpl.org/event/preservation-week-oral-histories/
LOCATION:Wayne County Public Library – Goldsboro\, 1001 E Ash Street\, Goldsboro\, NC\, 27530\, United States
CATEGORIES:Adult,Goldsboro,Local History
END:VEVENT
BEGIN:VEVENT
DTSTART;TZID=America/New_York:20250423T183000
DTEND;TZID=America/New_York:20250423T193000
DTSTAMP:20260423T161503
CREATED:20250317T171650Z
LAST-MODIFIED:20250317T171650Z
UID:17066-1745433000-1745436600@wcpl.org
SUMMARY:Paint & Sip Coffee
DESCRIPTION:Paint a picture with us – all skill levels welcomed and encouraged! Registration required. Call (919) 735-1824 ext 5102 or email jamie.tyler@waynegov.com to register. \n 
URL:https://wcpl.org/event/paint-sip-coffee-15/
LOCATION:Wayne County Public Library – Goldsboro\, 1001 E Ash Street\, Goldsboro\, NC\, 27530\, United States
CATEGORIES:Adult,Goldsboro
END:VEVENT
BEGIN:VEVENT
DTSTART;TZID=America/New_York:20250424T150000
DTEND;TZID=America/New_York:20250424T160000
DTSTAMP:20260423T161503
CREATED:20250306T214418Z
LAST-MODIFIED:20250306T214418Z
UID:16884-1745506800-1745510400@wcpl.org
SUMMARY:Cardio Drumming (Steele Mem.)
DESCRIPTION:Cardio drumming is an adult class that brings together drumsticks\, an exercise ball\, and stand to create one of the most fun workouts you’ll ever do.  Please call 919-299-8105 ext. 5351 to register. \n 
URL:https://wcpl.org/event/cardio-drumming-steele-mem-51/
LOCATION:Steele Memorial Library\, 119 W Main St.\, Mt. Olive\, NC\, 28365\, United States
CATEGORIES:Adult,Steele Memorial
END:VEVENT
BEGIN:VEVENT
DTSTART;TZID=America/New_York:20250424T150000
DTEND;TZID=America/New_York:20250424T160000
DTSTAMP:20260423T161503
CREATED:20250317T154228Z
LAST-MODIFIED:20250317T154228Z
UID:17030-1745506800-1745510400@wcpl.org
SUMMARY:Cardio Drumming  (Goldsboro)
DESCRIPTION:Get into a groovy rhythm! Join us for Cardio Drumming! Registration required\, spots limited – call 919-735-1824 x5100. \n 
URL:https://wcpl.org/event/cardio-drumming-goldsboro-4/
LOCATION:Wayne County Public Library – Goldsboro\, 1001 E Ash Street\, Goldsboro\, NC\, 27530\, United States
CATEGORIES:Adult,Goldsboro
END:VEVENT
BEGIN:VEVENT
DTSTART;TZID=America/New_York:20250424T180000
DTEND;TZID=America/New_York:20250424T190000
DTSTAMP:20260423T161503
CREATED:20250317T172352Z
LAST-MODIFIED:20250317T172352Z
UID:17072-1745517600-1745521200@wcpl.org
SUMMARY:Silent Read N’ Sip
DESCRIPTION:Instead of setting time constraints on yourself to read a certain type of book\, visit a newer type of book club where you can read whatever you want. We’ll begin by talking about what books we are currently reading. Later\, you will silently read the book you brought to our club. Feel free to read print or electronic books. This is meant to be a quiet\, cozy\, and relaxing time for everyone. \n 
URL:https://wcpl.org/event/silent-read-n-sip-15/
LOCATION:Wayne County Public Library – Goldsboro\, 1001 E Ash Street\, Goldsboro\, NC\, 27530\, United States
CATEGORIES:Adult,Goldsboro,Library Book Club
END:VEVENT
BEGIN:VEVENT
DTSTART;TZID=America/New_York:20250425T130000
DTEND;TZID=America/New_York:20250425T160000
DTSTAMP:20260423T161503
CREATED:20250307T154343Z
LAST-MODIFIED:20250307T154343Z
UID:16910-1745586000-1745596800@wcpl.org
SUMMARY:Open Makerspace Hours (Steele Mem.)
DESCRIPTION:Bring your own supplies and use our makerspace tools – Cricut\, sewing\, knitting\, crochet – on our big craft tables. \n 
URL:https://wcpl.org/event/open-makerspace-hours-steele-mem-119/
LOCATION:Steele Memorial Library\, 119 W Main St.\, Mt. Olive\, NC\, 28365\, United States
CATEGORIES:Adult,Steele Memorial
END:VEVENT
BEGIN:VEVENT
DTSTART;TZID=America/New_York:20250425T150000
DTEND;TZID=America/New_York:20250425T160000
DTSTAMP:20260423T161503
CREATED:20250317T154418Z
LAST-MODIFIED:20250317T154418Z
UID:17032-1745593200-1745596800@wcpl.org
SUMMARY:Preservation Week: Scrapbooks that Last  
DESCRIPTION:Join us to learn about the role scrapbooks play in documenting history and the best practices for creating a scrapbook to last for years to come. Call 919-735-1824 ext. 1830 to register. \n 
URL:https://wcpl.org/event/preservation-week-scrapbooks-that-last/
LOCATION:Wayne County Public Library – Goldsboro\, 1001 E Ash Street\, Goldsboro\, NC\, 27530\, United States
CATEGORIES:Adult,Goldsboro
END:VEVENT
BEGIN:VEVENT
DTSTART;TZID=America/New_York:20250428T143000
DTEND;TZID=America/New_York:20250428T160000
DTSTAMP:20260423T161503
CREATED:20250317T171929Z
LAST-MODIFIED:20250317T171929Z
UID:17068-1745850600-1745856000@wcpl.org
SUMMARY:Why Knot?
DESCRIPTION:Join a group of knitters and crocheters for an hour of fun and friendship! All experience levels welcome. This program is not led by an instructor\, but we will learn from each other as we work on our projects. \nBeginners should bring size 7 or 8 knitting needles or a size J or K crochet hook and a ball of worsted weight yarn to begin their crafty journey. \n 
URL:https://wcpl.org/event/why-knot-17/
LOCATION:Wayne County Public Library – Goldsboro\, 1001 E Ash Street\, Goldsboro\, NC\, 27530\, United States
CATEGORIES:Adult,Goldsboro
END:VEVENT
BEGIN:VEVENT
DTSTART;TZID=America/New_York:20250429T180000
DTEND;TZID=America/New_York:20250429T193000
DTSTAMP:20260423T161503
CREATED:20250317T154816Z
LAST-MODIFIED:20250317T154816Z
UID:17034-1745949600-1745955000@wcpl.org
SUMMARY:Improving Your Relationship with Time  
DESCRIPTION:Join Kate Behrenshausen\, Executive Function Coach and owner of Sage EF Coaching\, for the next session in our series on executive function. In this session\, we’ll work to improve your relationship with time. We’ll cover executive function\, time management\, and procrastination. We’ll talk about how our brains work\, how we struggle with time management\, and what strategies can help. Call 919-735-1824 ext. 5106 for more information or to register. \n 
URL:https://wcpl.org/event/improving-your-relationship-with-time/
LOCATION:Wayne County Public Library – Goldsboro\, 1001 E Ash Street\, Goldsboro\, NC\, 27530\, United States
CATEGORIES:Adult,Goldsboro
END:VEVENT
BEGIN:VEVENT
DTSTART;TZID=America/New_York:20250430T100000
DTEND;TZID=America/New_York:20250430T130000
DTSTAMP:20260423T161503
CREATED:20250306T220312Z
LAST-MODIFIED:20250306T220312Z
UID:16902-1746007200-1746018000@wcpl.org
SUMMARY:Open Makerspace Hours (Steele Mem.)
DESCRIPTION:Bring your own supplies and use our makerspace tools – Cricut\, sewing\, knitting\, crochet – on our big craft tables. \n 
URL:https://wcpl.org/event/open-makerspace-hours-steele-mem-115/
LOCATION:Steele Memorial Library\, 119 W Main St.\, Mt. Olive\, NC\, 28365\, United States
CATEGORIES:Adult,Steele Memorial
END:VEVENT
BEGIN:VEVENT
DTSTART;TZID=America/New_York:20250501T150000
DTEND;TZID=America/New_York:20250501T160000
DTSTAMP:20260423T161503
CREATED:20250403T210137Z
LAST-MODIFIED:20250403T210137Z
UID:17371-1746111600-1746115200@wcpl.org
SUMMARY:Cardio Drumming  (Steele Mem.)
DESCRIPTION:Cardio drumming is an adult class that brings together drumsticks\, an exercise ball\, and stand to create one of the most fun workouts you’ll ever do.  Please call 919-299-8105 ext. 5351 to register. \n 
URL:https://wcpl.org/event/cardio-drumming-steele-mem-52/
LOCATION:Steele Memorial Library\, 119 W Main St.\, Mt. Olive\, NC\, 28365\, United States
CATEGORIES:Adult,Steele Memorial
END:VEVENT
BEGIN:VEVENT
DTSTART;TZID=America/New_York:20250501T170000
DTEND;TZID=America/New_York:20250501T180000
DTSTAMP:20260423T161503
CREATED:20250408T115333Z
LAST-MODIFIED:20250408T115333Z
UID:17433-1746118800-1746122400@wcpl.org
SUMMARY:Our Favorite Reads Book Club 
DESCRIPTION:Join the conversation for a meeting of the Our Favorite Reads book club. Share what you are reading and get recommendations from other members. We will meet in the Baddour Garden outside the library if the weather is nice! Registration is suggested. Call 919-735-1824 ext. 5100 for more information. \n 
URL:https://wcpl.org/event/our-favorite-reads-book-club-17/
LOCATION:Wayne County Public Library – Goldsboro\, 1001 E Ash Street\, Goldsboro\, NC\, 27530\, United States
CATEGORIES:Adult,Goldsboro,Library Book Club
END:VEVENT
BEGIN:VEVENT
DTSTART;TZID=America/New_York:20250502T123000
DTEND;TZID=America/New_York:20250502T133000
DTSTAMP:20260423T161503
CREATED:20250403T210942Z
LAST-MODIFIED:20250403T210942Z
UID:17379-1746189000-1746192600@wcpl.org
SUMMARY:Chat & Chew with Sam Jones
DESCRIPTION:Leora “Sam” Jones\, Mount Olive native and three-time Olympian\, will be sharing her experiences.  Please bring your lunch.  Please call 919-299-8105 ext. 5351 to register. \n 
URL:https://wcpl.org/event/chat-chew-with-sam-jones/
LOCATION:Steele Memorial Library\, 119 W Main St.\, Mt. Olive\, NC\, 28365\, United States
CATEGORIES:Adult,Steele Memorial
END:VEVENT
END:VCALENDAR