BEGIN:VCALENDAR
VERSION:2.0
PRODID:-//Wayne County Public Library - ECPv6.15.20//NONSGML v1.0//EN
CALSCALE:GREGORIAN
METHOD:PUBLISH
X-ORIGINAL-URL:https://wcpl.org
X-WR-CALDESC:Events for Wayne County Public Library
REFRESH-INTERVAL;VALUE=DURATION:PT1H
X-Robots-Tag:noindex
X-PUBLISHED-TTL:PT1H
BEGIN:VTIMEZONE
TZID:America/New_York
BEGIN:DAYLIGHT
TZOFFSETFROM:-0500
TZOFFSETTO:-0400
TZNAME:EDT
DTSTART:20250309T070000
END:DAYLIGHT
BEGIN:STANDARD
TZOFFSETFROM:-0400
TZOFFSETTO:-0500
TZNAME:EST
DTSTART:20251102T060000
END:STANDARD
BEGIN:DAYLIGHT
TZOFFSETFROM:-0500
TZOFFSETTO:-0400
TZNAME:EDT
DTSTART:20260308T070000
END:DAYLIGHT
BEGIN:STANDARD
TZOFFSETFROM:-0400
TZOFFSETTO:-0500
TZNAME:EST
DTSTART:20261101T060000
END:STANDARD
BEGIN:DAYLIGHT
TZOFFSETFROM:-0500
TZOFFSETTO:-0400
TZNAME:EDT
DTSTART:20270314T070000
END:DAYLIGHT
BEGIN:STANDARD
TZOFFSETFROM:-0400
TZOFFSETTO:-0500
TZNAME:EST
DTSTART:20271107T060000
END:STANDARD
END:VTIMEZONE
BEGIN:VEVENT
DTSTART;TZID=America/New_York:20260422T180000
DTEND;TZID=America/New_York:20260422T190000
DTSTAMP:20260422T184517
CREATED:20260309T145841Z
LAST-MODIFIED:20260309T182653Z
UID:22563-1776880800-1776884400@wcpl.org
SUMMARY:Mini Macrame Plant Holders 
DESCRIPTION:Celebrate Earth Day by making a groovy mini macrame plant holder!  Space is limited. Registration required. To register\, call 919.735.1824 ext 5100. \n 
URL:https://wcpl.org/event/mini-macrame-plant-holders/
LOCATION:Wayne County Public Library – Goldsboro\, 1001 E Ash Street\, Goldsboro\, NC\, 27530\, United States
CATEGORIES:Adult,Goldsboro
END:VEVENT
BEGIN:VEVENT
DTSTART;TZID=America/New_York:20260423T150000
DTEND;TZID=America/New_York:20260423T160000
DTSTAMP:20260422T184517
CREATED:20260309T160201Z
LAST-MODIFIED:20260309T182830Z
UID:22578-1776956400-1776960000@wcpl.org
SUMMARY:Cardio Drumming (Steele Mem.)
DESCRIPTION:Cardio drumming is an adult class that brings together drumsticks\, an exercise ball\, and stand to create one of the most fun workouts you’ll ever do.  Please call 919-299-8105 ext. 5351 to register. \n 
URL:https://wcpl.org/event/cardio-drumming-steele-mem-29/
LOCATION:Steele Memorial Library\, 119 W Main St.\, Mt. Olive\, NC\, 28365\, United States
CATEGORIES:Adult,Steele Memorial
END:VEVENT
BEGIN:VEVENT
DTSTART;TZID=America/New_York:20260423T180000
DTEND;TZID=America/New_York:20260423T190000
DTSTAMP:20260422T184517
CREATED:20260311T123342Z
LAST-MODIFIED:20260311T123425Z
UID:22610-1776967200-1776970800@wcpl.org
SUMMARY:Silent Read N’ Sip
DESCRIPTION:Instead of setting time constraints on yourself to read a certain type of book\, visit a newer type of book club where you can read whatever you want. We’ll begin by talking about what books we are currently reading. Later\, you will silently read the book you brought to our club. Feel free to read print or electronic books. This is meant to be a quiet\, cozy\, and relaxing time for everyone. \n 
URL:https://wcpl.org/event/silent-read-n-sip-8/
LOCATION:Wayne County Public Library – Goldsboro\, 1001 E Ash Street\, Goldsboro\, NC\, 27530\, United States
CATEGORIES:Adult,Goldsboro,Library Book Club
END:VEVENT
BEGIN:VEVENT
DTSTART;TZID=America/New_York:20260424T100000
DTEND;TZID=America/New_York:20260424T110000
DTSTAMP:20260422T184517
CREATED:20260309T160344Z
LAST-MODIFIED:20260309T182855Z
UID:22580-1777024800-1777028400@wcpl.org
SUMMARY:Morning Meditations (Steele Mem.)
DESCRIPTION:We will be stretching for 20-30 minutes for flexibility and then doing some Zen tangles for relaxation.  Please call 919-299-8105 ext. 5351 to register. \n 
URL:https://wcpl.org/event/morning-meditations-steele-mem-18/
LOCATION:Steele Memorial Library\, 119 W Main St.\, Mt. Olive\, NC\, 28365\, United States
CATEGORIES:Adult,Steele Memorial
END:VEVENT
BEGIN:VEVENT
DTSTART;TZID=America/New_York:20260424T130000
DTEND;TZID=America/New_York:20260424T160000
DTSTAMP:20260422T184517
CREATED:20260309T160521Z
LAST-MODIFIED:20260309T182918Z
UID:22582-1777035600-1777046400@wcpl.org
SUMMARY:Open Makerspace Hours (Steele Mem.)
DESCRIPTION:Bring your own supplies and use our makerspace tools – Cricut\, sewing\, knitting\, crochet – on our big craft tables. \n 
URL:https://wcpl.org/event/open-makerspace-hours-steele-mem-64/
LOCATION:Steele Memorial Library\, 119 W Main St.\, Mt. Olive\, NC\, 28365\, United States
CATEGORIES:Adult,Needlework,Steele Memorial
END:VEVENT
BEGIN:VEVENT
DTSTART;TZID=America/New_York:20260428T150000
DTEND;TZID=America/New_York:20260428T160000
DTSTAMP:20260422T184517
CREATED:20260309T161213Z
LAST-MODIFIED:20260309T183035Z
UID:22588-1777388400-1777392000@wcpl.org
SUMMARY:New Dawn Inspirational Book Club 
DESCRIPTION:Join us as we discuss books of Inspirational Fiction.  Please call 919-735-1824\, ext. 5102 to register. \nThis month we will be discussing the book On Hummingbird Wings by Lauraine Snelling \n 
URL:https://wcpl.org/event/new-dawn-inspirational-book-club-10/
LOCATION:Wayne County Public Library – Goldsboro\, 1001 E Ash Street\, Goldsboro\, NC\, 27530\, United States
CATEGORIES:Adult,Goldsboro,Library Book Club
END:VEVENT
BEGIN:VEVENT
DTSTART;TZID=America/New_York:20260428T180000
DTEND;TZID=America/New_York:20260428T190000
DTSTAMP:20260422T184517
CREATED:20260309T161554Z
LAST-MODIFIED:20260309T183121Z
UID:22592-1777399200-1777402800@wcpl.org
SUMMARY:Origami Hour 
DESCRIPTION:Practice the ancient art of origami! Follow along step-by-step and bring home your own tiny critter. Registration required. Call 919-735-1824 ext 5100 to register. \n 
URL:https://wcpl.org/event/origami-hour-4/
LOCATION:Wayne County Public Library – Goldsboro\, 1001 E Ash Street\, Goldsboro\, NC\, 27530\, United States
CATEGORIES:Adult,Goldsboro
END:VEVENT
BEGIN:VEVENT
DTSTART;TZID=America/New_York:20260429T100000
DTEND;TZID=America/New_York:20260429T130000
DTSTAMP:20260422T184517
CREATED:20260309T161902Z
LAST-MODIFIED:20260309T180546Z
UID:22596-1777456800-1777467600@wcpl.org
SUMMARY:Open Makerspace Hours (Steele Mem.)
DESCRIPTION:Bring your own supplies and use our makerspace tools – Cricut\, sewing\, knitting\, crochet – on our big craft tables. \n 
URL:https://wcpl.org/event/open-makerspace-hours-steele-mem-65/
LOCATION:Steele Memorial Library\, 119 W Main St.\, Mt. Olive\, NC\, 28365\, United States
CATEGORIES:Adult,Needlework,Steele Memorial
END:VEVENT
BEGIN:VEVENT
DTSTART;TZID=America/New_York:20260429T173000
DTEND;TZID=America/New_York:20260429T183000
DTSTAMP:20260422T184517
CREATED:20260309T162209Z
LAST-MODIFIED:20260309T183244Z
UID:22600-1777483800-1777487400@wcpl.org
SUMMARY:The Lost Art of Letters 
DESCRIPTION:Write a historical style wax sealed letter and view some local letters from centuries passed.  Call 919.735.1824 ext 5100. \n 
URL:https://wcpl.org/event/the-lost-art-of-letters/
LOCATION:Wayne County Public Library – Goldsboro\, 1001 E Ash Street\, Goldsboro\, NC\, 27530\, United States
CATEGORIES:Adult,Goldsboro,Local History
END:VEVENT
BEGIN:VEVENT
DTSTART;TZID=America/New_York:20260501T130000
DTEND;TZID=America/New_York:20260501T160000
DTSTAMP:20260422T184517
CREATED:20260409T162404Z
LAST-MODIFIED:20260409T175004Z
UID:22945-1777640400-1777651200@wcpl.org
SUMMARY:Open Makerspace Hours  (Steele Mem.)
DESCRIPTION:Bring your own supplies and use our makerspace tools – Cricut\, sewing\, knitting\, crochet – on our big craft tables. \n 
URL:https://wcpl.org/event/open-makerspace-hours-steele-mem-66/
LOCATION:Steele Memorial Library\, 119 W Main St.\, Mt. Olive\, NC\, 28365\, United States
CATEGORIES:Adult,Needlework,Steele Memorial
END:VEVENT
BEGIN:VEVENT
DTSTART;TZID=America/New_York:20260502T100000
DTEND;TZID=America/New_York:20260502T120000
DTSTAMP:20260422T184517
CREATED:20260409T162707Z
LAST-MODIFIED:20260409T174909Z
UID:22947-1777716000-1777723200@wcpl.org
SUMMARY:Historical Wagon Tour  (Steele Mem.)
DESCRIPTION:Come join us for an exciting historic wagon tour of downtown Mount Olive.  The tour will begin in front of the Town Hall (114 E. James St.).  Tickets for the ride are free and will be available at the library on April 27th.  Space is limited; you must come in person to get tickets. \n 
URL:https://wcpl.org/event/historical-wagon-tour-steele-mem/
LOCATION:Steele Memorial Library\, 119 W Main St.\, Mt. Olive\, NC\, 28365\, United States
CATEGORIES:Adult,Steele Memorial
END:VEVENT
BEGIN:VEVENT
DTSTART;TZID=America/New_York:20260502T110000
DTEND;TZID=America/New_York:20260502T120000
DTSTAMP:20260422T184517
CREATED:20260409T162934Z
LAST-MODIFIED:20260409T174842Z
UID:22949-1777719600-1777723200@wcpl.org
SUMMARY:Books & Banter Book Club (NWL)
DESCRIPTION:Books & Banter – a space for Twentysomethings to explore literature\, express opinions\, and find a supportive network in an open and inclusive environment. It serves as a fun and relaxed social opportunity to connect with peers\, make new friends\, and create a sense of community.  Our discussions extend beyond just the plot\, we explore themes that resonate with life experiences\, such as career struggles\, relationships\, self-discovery\, and personal growth. Registration is required. Please call 919-705-1892 to register. \nThis month\, we’ll be discussing The Measure by Nicki Erlick.
URL:https://wcpl.org/event/books-banter-book-club-nwl-4/
LOCATION:Northern Wayne Library\, 609 S. Wilson St.\, Fremont\, NC\, 27830\, United States
CATEGORIES:Adult,Library Book Club,Northern Wayne Library
END:VEVENT
BEGIN:VEVENT
DTSTART;TZID=America/New_York:20260504T100000
DTEND;TZID=America/New_York:20260504T110000
DTSTAMP:20260422T184517
CREATED:20260409T163142Z
LAST-MODIFIED:20260409T174811Z
UID:22951-1777888800-1777892400@wcpl.org
SUMMARY:Northern Wayne Inspirational Book Club 
DESCRIPTION:Each month we dive into stories of perseverance\, growth and transformation. Our book club offers a warm and welcoming space where readers can connect\, share thoughts and enjoy meaningful conversation. You’ll discover new authors\, explore uplifting themes and leave each meeting feeling inspired and encouraged. Registration is required. Please call 919-705-1892 to register. \nThis month we will be discussing Star of Persia: Esther’s Story by Jill Eileen Smith \n 
URL:https://wcpl.org/event/northern-wayne-inspirational-book-club-16/
LOCATION:Northern Wayne Library\, 609 S. Wilson St.\, Fremont\, NC\, 27830\, United States
CATEGORIES:Adult,Library Book Club,Northern Wayne Library
END:VEVENT
BEGIN:VEVENT
DTSTART;TZID=America/New_York:20260505T100000
DTEND;TZID=America/New_York:20260505T120000
DTSTAMP:20260422T184517
CREATED:20260409T163603Z
LAST-MODIFIED:20260409T174636Z
UID:22955-1777975200-1777982400@wcpl.org
SUMMARY:Northern Wayne Stitchers 
DESCRIPTION:The program is designed to create a relaxed\, welcoming environment where participants can focus on honing their craft while receiving the support they need to challenge themselves creatively. It’s an ideal opportunity for experienced stitchers to elevate their work\, troubleshoot projects\, and continue growing as artisans. Registration is required.  Please call 919-705-1892 to register. \n 
URL:https://wcpl.org/event/northern-wayne-stitchers-29/
LOCATION:Northern Wayne Library\, 609 S. Wilson St.\, Fremont\, NC\, 27830\, United States
CATEGORIES:Adult,Needlework,Northern Wayne Library
END:VEVENT
BEGIN:VEVENT
DTSTART;TZID=America/New_York:20260505T140000
DTEND;TZID=America/New_York:20260505T150000
DTSTAMP:20260422T184517
CREATED:20260409T163811Z
LAST-MODIFIED:20260409T174607Z
UID:22957-1777989600-1777993200@wcpl.org
SUMMARY:Art Journaling 
DESCRIPTION:Get creative with art prompts at this month’s Blank Page Society meeting! Registration required. Call 919-735-1824 to register. \n 
URL:https://wcpl.org/event/art-journaling/
LOCATION:Wayne County Public Library – Goldsboro\, 1001 E Ash Street\, Goldsboro\, NC\, 27530\, United States
CATEGORIES:Adult,Goldsboro
END:VEVENT
BEGIN:VEVENT
DTSTART;TZID=America/New_York:20260505T150000
DTEND;TZID=America/New_York:20260505T190000
DTSTAMP:20260422T184517
CREATED:20260409T164009Z
LAST-MODIFIED:20260409T174538Z
UID:22959-1777993200-1778007600@wcpl.org
SUMMARY:Steele Stitchers
DESCRIPTION:Come join our cross-stitching group!  All levels of skill are welcome.  Drop in for a bit or stay for awhile.  Please call 919-299-8105 ext. 5351 to register. \n 
URL:https://wcpl.org/event/steele-stitchers-9/
LOCATION:Steele Memorial Library\, 119 W Main St.\, Mt. Olive\, NC\, 28365\, United States
CATEGORIES:Adult,Needlework,Steele Memorial
END:VEVENT
BEGIN:VEVENT
DTSTART;TZID=America/New_York:20260506T100000
DTEND;TZID=America/New_York:20260506T130000
DTSTAMP:20260422T184517
CREATED:20260409T164137Z
LAST-MODIFIED:20260409T174332Z
UID:22961-1778061600-1778072400@wcpl.org
SUMMARY:Open Makerspace Hours (Steele Mem.)
DESCRIPTION:Bring your own supplies and use our makerspace tools – Cricut\, sewing\, knitting\, crochet – on our big craft tables. \n 
URL:https://wcpl.org/event/open-makerspace-hours-steele-mem-67/
LOCATION:Steele Memorial Library\, 119 W Main St.\, Mt. Olive\, NC\, 28365\, United States
CATEGORIES:Adult,Needlework,Steele Memorial
END:VEVENT
BEGIN:VEVENT
DTSTART;TZID=America/New_York:20260506T150000
DTEND;TZID=America/New_York:20260506T160000
DTSTAMP:20260422T184517
CREATED:20260409T164721Z
LAST-MODIFIED:20260409T174259Z
UID:22967-1778079600-1778083200@wcpl.org
SUMMARY:Canvas Painting (Steele Mem.)
DESCRIPTION:We will be dot painting flowers on a small canvas.  Please call 919-299-8105 ext. 5351 to register. \n 
URL:https://wcpl.org/event/canvas-painting-steele-mem/
LOCATION:Steele Memorial Library\, 119 W Main St.\, Mt. Olive\, NC\, 28365\, United States
CATEGORIES:Adult,Steele Memorial
END:VEVENT
BEGIN:VEVENT
DTSTART;TZID=America/New_York:20260506T150000
DTEND;TZID=America/New_York:20260506T160000
DTSTAMP:20260422T184517
CREATED:20260409T164928Z
LAST-MODIFIED:20260409T174229Z
UID:22969-1778079600-1778083200@wcpl.org
SUMMARY:Cardio Drumming  (Goldsboro)
DESCRIPTION:Get into a groovy rhythm and work up a sweat with cardio drumming! Space is limited. Call 919-735-1824 ext 5100 to register. \n 
URL:https://wcpl.org/event/cardio-drumming-goldsboro-29/
LOCATION:Wayne County Public Library – Goldsboro\, 1001 E Ash Street\, Goldsboro\, NC\, 27530\, United States
CATEGORIES:Adult,Goldsboro
END:VEVENT
BEGIN:VEVENT
DTSTART;TZID=America/New_York:20260507T150000
DTEND;TZID=America/New_York:20260507T160000
DTSTAMP:20260422T184517
CREATED:20260409T165440Z
LAST-MODIFIED:20260409T174046Z
UID:22975-1778166000-1778169600@wcpl.org
SUMMARY:Tech for Older Adults 
DESCRIPTION:Are you an older adult who wants to learn more about technology? We’re here to help! Join us as we answer your questions and help with your basic tech needs! Registration required. Call 919-735-1824 ext 5100 to register. \n 
URL:https://wcpl.org/event/tech-for-older-adults-12/
LOCATION:Wayne County Public Library – Goldsboro\, 1001 E Ash Street\, Goldsboro\, NC\, 27530\, United States
CATEGORIES:Adult,Goldsboro
END:VEVENT
BEGIN:VEVENT
DTSTART;TZID=America/New_York:20260507T150000
DTEND;TZID=America/New_York:20260507T160000
DTSTAMP:20260422T184517
CREATED:20260409T165727Z
LAST-MODIFIED:20260409T174017Z
UID:22977-1778166000-1778169600@wcpl.org
SUMMARY:The Page Turners Book Club (Steele Mem.)
DESCRIPTION:We will be discussing Persuasion by Jane Austen.  Registration for this program is closed. \n 
URL:https://wcpl.org/event/the-page-turners-book-club-steele-mem-8/
LOCATION:Steele Memorial Library\, 119 W Main St.\, Mt. Olive\, NC\, 28365\, United States
CATEGORIES:Adult,Library Book Club,Steele Memorial
END:VEVENT
BEGIN:VEVENT
DTSTART;TZID=America/New_York:20260508T100000
DTEND;TZID=America/New_York:20260508T110000
DTSTAMP:20260422T184517
CREATED:20260409T165858Z
LAST-MODIFIED:20260409T173948Z
UID:22979-1778234400-1778238000@wcpl.org
SUMMARY:Morning Meditations (Steele Mem.)
DESCRIPTION:We will be stretching for 20-30 minutes for flexibility and then doing some Zen tangles for relaxation.  Please call 919-299-8105 ext. 5351 to register. \n 
URL:https://wcpl.org/event/morning-meditations-steele-mem-19/
LOCATION:Steele Memorial Library\, 119 W Main St.\, Mt. Olive\, NC\, 28365\, United States
CATEGORIES:Adult,Steele Memorial
END:VEVENT
BEGIN:VEVENT
DTSTART;TZID=America/New_York:20260508T130000
DTEND;TZID=America/New_York:20260508T160000
DTSTAMP:20260422T184517
CREATED:20260409T170035Z
LAST-MODIFIED:20260409T173859Z
UID:22981-1778245200-1778256000@wcpl.org
SUMMARY:Open Makerspace Hours (Steele Mem.)
DESCRIPTION:Bring your own supplies and use our makerspace tools – Cricut\, sewing\, knitting\, crochet – on our big craft tables. \n 
URL:https://wcpl.org/event/open-makerspace-hours-steele-mem-68/
LOCATION:Steele Memorial Library\, 119 W Main St.\, Mt. Olive\, NC\, 28365\, United States
CATEGORIES:Adult,Needlework,Steele Memorial
END:VEVENT
BEGIN:VEVENT
DTSTART;TZID=America/New_York:20260511T150000
DTEND;TZID=America/New_York:20260511T160000
DTSTAMP:20260422T184517
CREATED:20260410T164842Z
LAST-MODIFIED:20260410T181036Z
UID:22986-1778511600-1778515200@wcpl.org
SUMMARY:The Empowered Caregiver: Foundations of Caregiving 
DESCRIPTION:Join us for a session focusing on resources and information for care givers and family members of people living with Alzheimer’s Disease. This program is presented with the Alzheimer’s Association.   Call 919-735-1824 ext 5100 to register. \n 
URL:https://wcpl.org/event/the-empowered-caregiver-foundations-of-caregiving/
LOCATION:Wayne County Public Library – Goldsboro\, 1001 E Ash Street\, Goldsboro\, NC\, 27530\, United States
CATEGORIES:Adult,Goldsboro
END:VEVENT
BEGIN:VEVENT
DTSTART;TZID=America/New_York:20260511T173000
DTEND;TZID=America/New_York:20260511T190000
DTSTAMP:20260422T184517
CREATED:20260410T165012Z
LAST-MODIFIED:20260410T181131Z
UID:22988-1778520600-1778526000@wcpl.org
SUMMARY:Adult Crafting 
DESCRIPTION:Using paint sticks\, craft sticks\, flowers\, and a little imagination\, let’s create a unique picture! Call 919-735-1824 ext 5100 to register. \n 
URL:https://wcpl.org/event/adult-crafting/
LOCATION:Wayne County Public Library – Goldsboro\, 1001 E Ash Street\, Goldsboro\, NC\, 27530\, United States
CATEGORIES:Adult,Goldsboro
END:VEVENT
BEGIN:VEVENT
DTSTART;TZID=America/New_York:20260512T150000
DTEND;TZID=America/New_York:20260512T160000
DTSTAMP:20260422T184517
CREATED:20260410T165343Z
LAST-MODIFIED:20260410T181314Z
UID:22992-1778598000-1778601600@wcpl.org
SUMMARY:You’ve Got Mail: How To Set Up Your Email 
DESCRIPTION:Learn tips and tricks for setting up your email! Registration required. Call 919-735-1824 ext 5100 for more information. \n 
URL:https://wcpl.org/event/youve-got-mail-how-to-set-up-your-email/
LOCATION:Wayne County Public Library – Goldsboro\, 1001 E Ash Street\, Goldsboro\, NC\, 27530\, United States
CATEGORIES:Adult,Goldsboro
END:VEVENT
BEGIN:VEVENT
DTSTART;TZID=America/New_York:20260512T173000
DTEND;TZID=America/New_York:20260512T190000
DTSTAMP:20260422T184517
CREATED:20260410T165747Z
LAST-MODIFIED:20260410T181449Z
UID:22996-1778607000-1778612400@wcpl.org
SUMMARY:Writing Workshop: Stories that Stay 
DESCRIPTION:Attend a monthly memoir writing workshop in partnership with the North Carolina Writer’s Network. All writers are welcome to join and grown their voice in a supportive setting. Registration required. Call 919-735-1824 ext 5100 to register. \n 
URL:https://wcpl.org/event/writing-workshop-stories-that-stay-5/
LOCATION:Wayne County Public Library – Goldsboro\, 1001 E Ash Street\, Goldsboro\, NC\, 27530\, United States
CATEGORIES:Adult,Goldsboro
END:VEVENT
BEGIN:VEVENT
DTSTART;TZID=America/New_York:20260512T183000
DTEND;TZID=America/New_York:20260512T193000
DTSTAMP:20260422T184517
CREATED:20260410T170003Z
LAST-MODIFIED:20260410T181550Z
UID:22998-1778610600-1778614200@wcpl.org
SUMMARY:Origami Hour 
DESCRIPTION:Practice the ancient art of origami! Follow along step-by-step and bring home your own tiny critter. Registration recommended.  Call 919-735-1824 ext 5100 for more information.  Ages 16+. \n 
URL:https://wcpl.org/event/origami-hour-5/
LOCATION:Wayne County Public Library – Goldsboro\, 1001 E Ash Street\, Goldsboro\, NC\, 27530\, United States
CATEGORIES:Adult,Goldsboro,Teens
END:VEVENT
BEGIN:VEVENT
DTSTART;TZID=America/New_York:20260513T100000
DTEND;TZID=America/New_York:20260513T130000
DTSTAMP:20260422T184517
CREATED:20260410T170322Z
LAST-MODIFIED:20260410T181830Z
UID:23002-1778666400-1778677200@wcpl.org
SUMMARY:Open Makerspace Hours (Steele Mem.)
DESCRIPTION:Bring your own supplies and use our makerspace tools – Cricut\, sewing\, knitting\, crochet – on our big craft tables. \n 
URL:https://wcpl.org/event/open-makerspace-hours-steele-mem-69/
LOCATION:Steele Memorial Library\, 119 W Main St.\, Mt. Olive\, NC\, 28365\, United States
CATEGORIES:Adult,Needlework,Steele Memorial
END:VEVENT
BEGIN:VEVENT
DTSTART;TZID=America/New_York:20260513T150000
DTEND;TZID=America/New_York:20260513T160000
DTSTAMP:20260422T184517
CREATED:20260410T170659Z
LAST-MODIFIED:20260410T181918Z
UID:23006-1778684400-1778688000@wcpl.org
SUMMARY:Cardio Drumming  (Goldsboro)
DESCRIPTION:Get into a groovy rhythm and work up a sweat with cardio drumming! Space is limited. Call 919-735-1824 ext 5100 to register. \n 
URL:https://wcpl.org/event/cardio-drumming-goldsboro-30/
LOCATION:Wayne County Public Library – Goldsboro\, 1001 E Ash Street\, Goldsboro\, NC\, 27530\, United States
CATEGORIES:Adult,Goldsboro
END:VEVENT
END:VCALENDAR