BEGIN:VCALENDAR
VERSION:2.0
PRODID:-//Wayne County Public Library - ECPv6.15.20//NONSGML v1.0//EN
CALSCALE:GREGORIAN
METHOD:PUBLISH
X-WR-CALNAME:Wayne County Public Library
X-ORIGINAL-URL:https://wcpl.org
X-WR-CALDESC:Events for Wayne County Public Library
REFRESH-INTERVAL;VALUE=DURATION:PT1H
X-Robots-Tag:noindex
X-PUBLISHED-TTL:PT1H
BEGIN:VTIMEZONE
TZID:America/New_York
BEGIN:DAYLIGHT
TZOFFSETFROM:-0500
TZOFFSETTO:-0400
TZNAME:EDT
DTSTART:20240310T070000
END:DAYLIGHT
BEGIN:STANDARD
TZOFFSETFROM:-0400
TZOFFSETTO:-0500
TZNAME:EST
DTSTART:20241103T060000
END:STANDARD
BEGIN:DAYLIGHT
TZOFFSETFROM:-0500
TZOFFSETTO:-0400
TZNAME:EDT
DTSTART:20250309T070000
END:DAYLIGHT
BEGIN:STANDARD
TZOFFSETFROM:-0400
TZOFFSETTO:-0500
TZNAME:EST
DTSTART:20251102T060000
END:STANDARD
BEGIN:DAYLIGHT
TZOFFSETFROM:-0500
TZOFFSETTO:-0400
TZNAME:EDT
DTSTART:20260308T070000
END:DAYLIGHT
BEGIN:STANDARD
TZOFFSETFROM:-0400
TZOFFSETTO:-0500
TZNAME:EST
DTSTART:20261101T060000
END:STANDARD
END:VTIMEZONE
BEGIN:VEVENT
DTSTART;TZID=America/New_York:20250319T160000
DTEND;TZID=America/New_York:20250319T170000
DTSTAMP:20260423T143733
CREATED:20250206T214433Z
LAST-MODIFIED:20250206T214433Z
UID:16515-1742400000-1742403600@wcpl.org
SUMMARY:Parchment to Pixels 
DESCRIPTION:Join us in the Local History room to transcribe historical documents from our collection. Bring your own laptop or use one of ours! Call 919-735-1824 ext 5100 to register. \n 
URL:https://wcpl.org/event/parchment-to-pixels/
LOCATION:Wayne County Public Library – Goldsboro\, 1001 E Ash Street\, Goldsboro\, NC\, 27530\, United States
CATEGORIES:Adult,Goldsboro,Local History
END:VEVENT
BEGIN:VEVENT
DTSTART;TZID=America/New_York:20250319T180000
DTEND;TZID=America/New_York:20250319T190000
DTSTAMP:20260423T143733
CREATED:20250206T214951Z
LAST-MODIFIED:20250206T214951Z
UID:16517-1742407200-1742410800@wcpl.org
SUMMARY:Wellness Wednesday: Hearing Health 
DESCRIPTION:Join us for our monthly Wellness Wednesday series! This month\, Sylvia Judd from UNC Health Wayne will join us to discuss hearing health. Call 919-735-1824 Ext 5100 to register or for more information.  We’ll meet in the Yellow Study Room at the Goldsboro Library. \n 
URL:https://wcpl.org/event/wellness-wednesday-hearing-health/
LOCATION:Wayne County Public Library – Goldsboro\, 1001 E Ash Street\, Goldsboro\, NC\, 27530\, United States
CATEGORIES:Adult,Goldsboro
END:VEVENT
BEGIN:VEVENT
DTSTART;TZID=America/New_York:20250320T150000
DTEND;TZID=America/New_York:20250320T160000
DTSTAMP:20260423T143733
CREATED:20250204T205545Z
LAST-MODIFIED:20250204T205545Z
UID:16453-1742482800-1742486400@wcpl.org
SUMMARY:Cardio Drumming (Steele Mem.)
DESCRIPTION:Cardio drumming is an adult class that brings together drumsticks\, an exercise ball\, and stand to create one of the most fun workouts you’ll ever do.  Please call 919-299-8105 ext. 5351 to register. \n 
URL:https://wcpl.org/event/cardio-drumming-steele-mem-47/
LOCATION:Steele Memorial Library\, 119 W Main St.\, Mt. Olive\, NC\, 28365\, United States
CATEGORIES:Adult,Steele Memorial
END:VEVENT
BEGIN:VEVENT
DTSTART;TZID=America/New_York:20250321T130000
DTEND;TZID=America/New_York:20250321T160000
DTSTAMP:20260423T143733
CREATED:20250204T221752Z
LAST-MODIFIED:20250204T221752Z
UID:16479-1742562000-1742572800@wcpl.org
SUMMARY:Open Makerspace Hours (Steele Mem.)
DESCRIPTION:Bring your own supplies and use our makerspace tools – Cricut\, sewing\, knitting\, crochet – on our big craft tables. \n 
URL:https://wcpl.org/event/open-makerspace-hours-steele-mem-109/
LOCATION:Steele Memorial Library\, 119 W Main St.\, Mt. Olive\, NC\, 28365\, United States
CATEGORIES:Adult,Steele Memorial
END:VEVENT
BEGIN:VEVENT
DTSTART;TZID=America/New_York:20250322T130000
DTEND;TZID=America/New_York:20250322T143000
DTSTAMP:20260423T143733
CREATED:20250206T215444Z
LAST-MODIFIED:20250206T215444Z
UID:16519-1742648400-1742653800@wcpl.org
SUMMARY:An Afternoon with Donna Everhart 
DESCRIPTION:Join us for a discussion of award-winning North Carolina author Donna Everhart’s newest novel\, When the Jessamine Grows. This is a story of the enduring spirit of a woman keeping her family united during a divisive period in American history.  Copies of the book will be available for purchase and signing by the author. Call 919-735-1824 ext. 5106 for more information. \n 
URL:https://wcpl.org/event/an-afternoon-with-donna-everhart/
LOCATION:Wayne County Public Library – Goldsboro\, 1001 E Ash Street\, Goldsboro\, NC\, 27530\, United States
CATEGORIES:Adult,Goldsboro
END:VEVENT
BEGIN:VEVENT
DTSTART;TZID=America/New_York:20250324T143000
DTEND;TZID=America/New_York:20250324T160000
DTSTAMP:20260423T143733
CREATED:20250206T221620Z
LAST-MODIFIED:20250206T221620Z
UID:16531-1742826600-1742832000@wcpl.org
SUMMARY:Why Knot?  
DESCRIPTION:Join a group of knitters and crocheters for an hour of fun and friendship! All experience levels welcome. This program is not led by an instructor\, but we will learn from each other as we work on our projects. \nBeginners should bring size 7 or 8 knitting needles or a size J or K crochet hook and a ball of worsted weight yarn to begin their crafty journey. \n 
URL:https://wcpl.org/event/why-knot-16/
LOCATION:Wayne County Public Library – Goldsboro\, 1001 E Ash Street\, Goldsboro\, NC\, 27530\, United States
CATEGORIES:Adult,Goldsboro
END:VEVENT
BEGIN:VEVENT
DTSTART;TZID=America/New_York:20250325T150000
DTEND;TZID=America/New_York:20250325T160000
DTSTAMP:20260423T143733
CREATED:20250206T221128Z
LAST-MODIFIED:20250206T221128Z
UID:16527-1742914800-1742918400@wcpl.org
SUMMARY:New Dawn Inspirational Book Club
DESCRIPTION:Join us as we discuss books of Inspirational Fiction. This month we will be discussing the book  It Happens Every Spring by Catherine Palmer & Gary Chapman.  Please call 919-735-1824\, ext. 5102 to register. \n 
URL:https://wcpl.org/event/new-dawn-inspirational-book-club-35/
LOCATION:Wayne County Public Library – Goldsboro\, 1001 E Ash Street\, Goldsboro\, NC\, 27530\, United States
CATEGORIES:Adult,Goldsboro,Library Book Club
END:VEVENT
BEGIN:VEVENT
DTSTART;TZID=America/New_York:20250326T100000
DTEND;TZID=America/New_York:20250326T130000
DTSTAMP:20260423T143733
CREATED:20250204T221305Z
LAST-MODIFIED:20250204T221305Z
UID:16473-1742983200-1742994000@wcpl.org
SUMMARY:Open Makerspace Hours (Steele Mem.)
DESCRIPTION:Bring your own supplies and use our makerspace tools – Cricut\, sewing\, knitting\, crochet – on our big craft tables. \n 
URL:https://wcpl.org/event/open-makerspace-hours-steele-mem-106/
LOCATION:Steele Memorial Library\, 119 W Main St.\, Mt. Olive\, NC\, 28365\, United States
CATEGORIES:Adult,Steele Memorial
END:VEVENT
BEGIN:VEVENT
DTSTART;TZID=America/New_York:20250326T183000
DTEND;TZID=America/New_York:20250326T193000
DTSTAMP:20260423T143733
CREATED:20250206T221935Z
LAST-MODIFIED:20250206T221935Z
UID:16533-1743013800-1743017400@wcpl.org
SUMMARY:Paint & Sip Coffee
DESCRIPTION:Paint a picture with us – all skill levels welcomed and encouraged! Registration required. Call (919) 735-1824 ext 5102 or email jamie.tyler@waynegov.com to register. \n 
URL:https://wcpl.org/event/paint-sip-coffee-14/
LOCATION:Wayne County Public Library – Goldsboro\, 1001 E Ash Street\, Goldsboro\, NC\, 27530\, United States
CATEGORIES:Adult,Goldsboro
END:VEVENT
BEGIN:VEVENT
DTSTART;TZID=America/New_York:20250327T150000
DTEND;TZID=America/New_York:20250327T160000
DTSTAMP:20260423T143733
CREATED:20250204T205647Z
LAST-MODIFIED:20250204T205647Z
UID:16455-1743087600-1743091200@wcpl.org
SUMMARY:Cardio Drumming (Steele Mem.)
DESCRIPTION:Cardio drumming is an adult class that brings together drumsticks\, an exercise ball\, and stand to create one of the most fun workouts you’ll ever do.  Please call 919-299-8105 ext. 5351 to register. \n 
URL:https://wcpl.org/event/cardio-drumming-steele-mem-48/
LOCATION:Steele Memorial Library\, 119 W Main St.\, Mt. Olive\, NC\, 28365\, United States
CATEGORIES:Adult,Steele Memorial
END:VEVENT
BEGIN:VEVENT
DTSTART;TZID=America/New_York:20250327T150000
DTEND;TZID=America/New_York:20250327T160000
DTSTAMP:20260423T143733
CREATED:20250206T215846Z
LAST-MODIFIED:20250206T215846Z
UID:16523-1743087600-1743091200@wcpl.org
SUMMARY:Cardio Drumming (Goldsboro)
DESCRIPTION:Get into a groovy rhythm! Join us for Cardio Drumming! Registration required\, spots limited – call 919-735-1824 x5100. \n 
URL:https://wcpl.org/event/cardio-drumming-goldsboro-3/
LOCATION:Wayne County Public Library – Goldsboro\, 1001 E Ash Street\, Goldsboro\, NC\, 27530\, United States
CATEGORIES:Adult,Goldsboro
END:VEVENT
BEGIN:VEVENT
DTSTART;TZID=America/New_York:20250327T180000
DTEND;TZID=America/New_York:20250327T190000
DTSTAMP:20260423T143733
CREATED:20250206T221310Z
LAST-MODIFIED:20250206T221310Z
UID:16529-1743098400-1743102000@wcpl.org
SUMMARY:Silent Read N’ Sip 
DESCRIPTION:Instead of setting time constraints on yourself to read a certain type of book\, visit a newer type of book club where you can read whatever you want. We’ll begin by talking about what books we are currently reading. Later\, you will silently read the book you brought to our club. Feel free to read print or electronic books. This is meant to be a quiet\, cozy\, and relaxing time for everyone. \n 
URL:https://wcpl.org/event/silent-read-n-sip-14/
LOCATION:Wayne County Public Library – Goldsboro\, 1001 E Ash Street\, Goldsboro\, NC\, 27530\, United States
CATEGORIES:Adult,Goldsboro,Library Book Club
END:VEVENT
BEGIN:VEVENT
DTSTART;TZID=America/New_York:20250328T130000
DTEND;TZID=America/New_York:20250328T160000
DTSTAMP:20260423T143733
CREATED:20250204T221932Z
LAST-MODIFIED:20250204T221932Z
UID:16481-1743166800-1743177600@wcpl.org
SUMMARY:Open Makerspace Hours (Steele Mem.)
DESCRIPTION:Bring your own supplies and use our makerspace tools – Cricut\, sewing\, knitting\, crochet – on our big craft tables. \n 
URL:https://wcpl.org/event/open-makerspace-hours-steele-mem-110/
LOCATION:Steele Memorial Library\, 119 W Main St.\, Mt. Olive\, NC\, 28365\, United States
CATEGORIES:Adult,Steele Memorial
END:VEVENT
BEGIN:VEVENT
DTSTART;TZID=America/New_York:20250401T100000
DTEND;TZID=America/New_York:20250401T110000
DTSTAMP:20260423T143733
CREATED:20250317T155105Z
LAST-MODIFIED:20250317T155105Z
UID:17036-1743501600-1743505200@wcpl.org
SUMMARY:Northern Wayne Stitchers
DESCRIPTION:The program is designed to create a relaxed\, welcoming environment where participants can focus on honing their craft while receiving the support they need to challenge themselves creatively. It’s an ideal opportunity for experienced stitchers to elevate their work\, troubleshoot projects\, and continue growing as artisans. Registration is required. Please call 919-705-1892 to register. \n 
URL:https://wcpl.org/event/northern-wayne-stitchers-17/
LOCATION:Northern Wayne Library\, 609 S. Wilson St.\, Fremont\, NC\, 27830\, United States
CATEGORIES:Adult,Northern Wayne Library
END:VEVENT
BEGIN:VEVENT
DTSTART;TZID=America/New_York:20250402T100000
DTEND;TZID=America/New_York:20250402T130000
DTSTAMP:20260423T143733
CREATED:20250306T215448Z
LAST-MODIFIED:20250306T215448Z
UID:16894-1743588000-1743598800@wcpl.org
SUMMARY:Open Makerspace Hours (Steele Mem.)
DESCRIPTION:Bring your own supplies and use our makerspace tools – Cricut\, sewing\, knitting\, crochet – on our big craft tables. \n 
URL:https://wcpl.org/event/open-makerspace-hours-steele-mem-111/
LOCATION:Steele Memorial Library\, 119 W Main St.\, Mt. Olive\, NC\, 28365\, United States
CATEGORIES:Adult,Steele Memorial
END:VEVENT
BEGIN:VEVENT
DTSTART;TZID=America/New_York:20250402T150000
DTEND;TZID=America/New_York:20250402T163000
DTSTAMP:20260423T143733
CREATED:20250204T220549Z
LAST-MODIFIED:20250207T184647Z
UID:16465-1743606000-1743611400@wcpl.org
SUMMARY:Growing Herbs (Steele Mem.)
DESCRIPTION:Jessica Strickland\, with the Cooperative Extension\, will be leading a class on everything herb garden!  Please call 919-299-8105 ext. 5351 to register. \n 
URL:https://wcpl.org/event/growing-herbs-steele-mem/
LOCATION:Steele Memorial Library\, 119 W Main St.\, Mt. Olive\, NC\, 28365\, United States
CATEGORIES:Adult,Steele Memorial
END:VEVENT
BEGIN:VEVENT
DTSTART;TZID=America/New_York:20250403T140000
DTEND;TZID=America/New_York:20250403T150000
DTSTAMP:20260423T143733
CREATED:20250317T150511Z
LAST-MODIFIED:20250317T150511Z
UID:17004-1743688800-1743692400@wcpl.org
SUMMARY:From the Archive: The Conway Rose Collection  
DESCRIPTION:Join us for our From the Archive program! We will discuss the process of acquiring and managing our local history collection\, and attendees will have an opportunity to dig deeper into one of our many special collections – the Conway Rose Collection.  Space is limited. Registration required! Call 919-705-1830. \n 
URL:https://wcpl.org/event/from-the-archive-the-conway-rose-collection-2/
LOCATION:Wayne County Public Library – Goldsboro\, 1001 E Ash Street\, Goldsboro\, NC\, 27530\, United States
CATEGORIES:Adult,Goldsboro,Local History
END:VEVENT
BEGIN:VEVENT
DTSTART;TZID=America/New_York:20250403T150000
DTEND;TZID=America/New_York:20250403T160000
DTSTAMP:20260423T143733
CREATED:20250306T214144Z
LAST-MODIFIED:20250306T214144Z
UID:16880-1743692400-1743696000@wcpl.org
SUMMARY:Cardio Drumming (Steele Mem.)
DESCRIPTION:Cardio drumming is an adult class that brings together drumsticks\, an exercise ball\, and stand to create one of the most fun workouts you’ll ever do.  Please call 919-299-8105 ext. 5351 to register. \n 
URL:https://wcpl.org/event/cardio-drumming-steele-mem-49/
LOCATION:Steele Memorial Library\, 119 W Main St.\, Mt. Olive\, NC\, 28365\, United States
CATEGORIES:Adult,Steele Memorial
END:VEVENT
BEGIN:VEVENT
DTSTART;TZID=America/New_York:20250403T170000
DTEND;TZID=America/New_York:20250403T180000
DTSTAMP:20260423T143733
CREATED:20250317T150726Z
LAST-MODIFIED:20250317T150726Z
UID:17006-1743699600-1743703200@wcpl.org
SUMMARY:Our Favorite Reads Book Club  
DESCRIPTION:Join the conversation for a meeting of the Our Favorite Reads book club. Share what you are reading and get recommendations from other members. Registration is suggested. Call 919-735-1824 ext. 5100 for more information. We’ll meet in the Yellow Study Room at the Goldsboro Library. \n 
URL:https://wcpl.org/event/our-favorite-reads-book-club-16/
LOCATION:Wayne County Public Library – Goldsboro\, 1001 E Ash Street\, Goldsboro\, NC\, 27530\, United States
CATEGORIES:Adult,Goldsboro,Library Book Club
END:VEVENT
BEGIN:VEVENT
DTSTART;TZID=America/New_York:20250404T130000
DTEND;TZID=America/New_York:20250404T160000
DTSTAMP:20260423T143733
CREATED:20250307T154040Z
LAST-MODIFIED:20250307T154040Z
UID:16904-1743771600-1743782400@wcpl.org
SUMMARY:Open Makerspace Hours (Steele Mem.)
DESCRIPTION:Bring your own supplies and use our makerspace tools – Cricut\, sewing\, knitting\, crochet – on our big craft tables. \n 
URL:https://wcpl.org/event/open-makerspace-hours-steele-mem-116/
LOCATION:Steele Memorial Library\, 119 W Main St.\, Mt. Olive\, NC\, 28365\, United States
CATEGORIES:Adult,Steele Memorial
END:VEVENT
BEGIN:VEVENT
DTSTART;TZID=America/New_York:20250405T110000
DTEND;TZID=America/New_York:20250405T120000
DTSTAMP:20260423T143733
CREATED:20250317T162525Z
LAST-MODIFIED:20250317T162525Z
UID:17062-1743850800-1743854400@wcpl.org
SUMMARY:Books & Banter Book Club (Northern Wayne)
DESCRIPTION:Books & Banter – a space for Twentysomethings to explore literature\, express opinions\, and find a supportive network in an open and inclusive environment. Our discussions extend beyond just the plot\, we explore themes that resonate with life experiences\, such as career struggles\, relationships\, self-discovery\, and personal growth. Registration is required. Please call 919-705-1892 to register. \nThis month\, we’ll be discussing Book Lovers by Emily Henry. \n 
URL:https://wcpl.org/event/books-banter-book-club-northern-wayne-3/
LOCATION:Northern Wayne Library\, 609 S. Wilson St.\, Fremont\, NC\, 27830\, United States
CATEGORIES:Adult,Library Book Club,Northern Wayne Library
END:VEVENT
BEGIN:VEVENT
DTSTART;TZID=America/New_York:20250407T100000
DTEND;TZID=America/New_York:20250407T110000
DTSTAMP:20260423T143733
CREATED:20250317T155709Z
LAST-MODIFIED:20250317T155709Z
UID:17042-1744020000-1744023600@wcpl.org
SUMMARY:Northern Wayne Inspirational Book Club 
DESCRIPTION:Join us as we discuss books of Inspirational Fiction. This month we will be discussing the book\, “Half Finished” by Lauraine Snelling.  Please call 919-705-1892 to register. \n 
URL:https://wcpl.org/event/northern-wayne-inspirational-book-club-10/
LOCATION:Northern Wayne Library\, 609 S. Wilson St.\, Fremont\, NC\, 27830\, United States
CATEGORIES:Adult,Library Book Club,Northern Wayne Library
END:VEVENT
BEGIN:VEVENT
DTSTART;TZID=America/New_York:20250408T163000
DTEND;TZID=America/New_York:20250408T173000
DTSTAMP:20260423T143733
CREATED:20250317T151001Z
LAST-MODIFIED:20250317T151001Z
UID:17008-1744129800-1744133400@wcpl.org
SUMMARY:Lo-fi Study Hour  
DESCRIPTION:Need a space to unwind and focus on your schoolwork? Set up in our auditorium and enjoy peaceful lo-fi beats as you study. Grab a few snacks and knock out that assignment! \n 
URL:https://wcpl.org/event/lo-fi-study-hour-4/
LOCATION:Wayne County Public Library – Goldsboro\, 1001 E Ash Street\, Goldsboro\, NC\, 27530\, United States
CATEGORIES:Adult,Goldsboro,Teens
END:VEVENT
BEGIN:VEVENT
DTSTART;TZID=America/New_York:20250409T100000
DTEND;TZID=America/New_York:20250409T130000
DTSTAMP:20260423T143733
CREATED:20250306T215857Z
LAST-MODIFIED:20250306T215857Z
UID:16896-1744192800-1744203600@wcpl.org
SUMMARY:Open Makerspace Hours (Steele Mem.)
DESCRIPTION:Bring your own supplies and use our makerspace tools – Cricut\, sewing\, knitting\, crochet – on our big craft tables. \n 
URL:https://wcpl.org/event/open-makerspace-hours-steele-mem-112/
LOCATION:Steele Memorial Library\, 119 W Main St.\, Mt. Olive\, NC\, 28365\, United States
CATEGORIES:Adult,Steele Memorial
END:VEVENT
BEGIN:VEVENT
DTSTART;TZID=America/New_York:20250409T180000
DTEND;TZID=America/New_York:20250409T190000
DTSTAMP:20260423T143733
CREATED:20250317T151317Z
LAST-MODIFIED:20250317T151317Z
UID:17010-1744221600-1744225200@wcpl.org
SUMMARY:Wellness Wednesday: Stress Management  
DESCRIPTION:Join us for our monthly Wellness Wednesday series! This month\, Sylvia Judd from UNC Health Wayne will join us to discuss tips and resources to manage stress. Call 919-735-1824 Ext 5100 to register or for more information. We’ll meet in the Yellow Study Room at the Goldsboro Library. \n 
URL:https://wcpl.org/event/wellness-wednesday-stress-management/
LOCATION:Wayne County Public Library – Goldsboro\, 1001 E Ash Street\, Goldsboro\, NC\, 27530\, United States
CATEGORIES:Adult,Goldsboro
END:VEVENT
BEGIN:VEVENT
DTSTART;TZID=America/New_York:20250410T150000
DTEND;TZID=America/New_York:20250410T160000
DTSTAMP:20260423T143733
CREATED:20250306T214619Z
LAST-MODIFIED:20250306T214619Z
UID:16886-1744297200-1744300800@wcpl.org
SUMMARY:The Page Turners Book Club (Steele Mem.)
DESCRIPTION:We will be discussing Brave New World by Aldous Huxley.  Please call 919-299-8105 ext. 5351 to register. \n 
URL:https://wcpl.org/event/the-page-turners-book-club-steele-mem-13/
LOCATION:Steele Memorial Library\, 119 W Main St.\, Mt. Olive\, NC\, 28365\, United States
CATEGORIES:Adult,Library Book Club,Steele Memorial
END:VEVENT
BEGIN:VEVENT
DTSTART;TZID=America/New_York:20250410T150000
DTEND;TZID=America/New_York:20250410T160000
DTSTAMP:20260423T143733
CREATED:20250317T151550Z
LAST-MODIFIED:20250317T151550Z
UID:17012-1744297200-1744300800@wcpl.org
SUMMARY:Tech for Older Adults  
DESCRIPTION:Are you an older adult who has questions about technology? Whether you want to learn how to create Word documents or recover a password\, we can help! Join our staff and Mary Shands\, a retired office administrator\, to learn some basics and get your questions answered. To register\, call 919-735-1824 ext. 5100. \n 
URL:https://wcpl.org/event/tech-for-older-adults-2/
LOCATION:Wayne County Public Library – Goldsboro\, 1001 E Ash Street\, Goldsboro\, NC\, 27530\, United States
CATEGORIES:Adult,Goldsboro
END:VEVENT
BEGIN:VEVENT
DTSTART;TZID=America/New_York:20250411T130000
DTEND;TZID=America/New_York:20250411T160000
DTSTAMP:20260423T143733
CREATED:20250307T154140Z
LAST-MODIFIED:20250307T154140Z
UID:16906-1744376400-1744387200@wcpl.org
SUMMARY:Open Makerspace Hours (Steele Mem.)
DESCRIPTION:Bring your own supplies and use our makerspace tools – Cricut\, sewing\, knitting\, crochet – on our big craft tables. \n 
URL:https://wcpl.org/event/open-makerspace-hours-steele-mem-117/
LOCATION:Steele Memorial Library\, 119 W Main St.\, Mt. Olive\, NC\, 28365\, United States
CATEGORIES:Adult,Steele Memorial
END:VEVENT
BEGIN:VEVENT
DTSTART;TZID=America/New_York:20250411T150000
DTEND;TZID=America/New_York:20250411T160000
DTSTAMP:20260423T143733
CREATED:20250317T151748Z
LAST-MODIFIED:20250327T195000Z
UID:17014-1744383600-1744387200@wcpl.org
SUMMARY:Garden Yoga   
DESCRIPTION:Join us in the teaching garden for a yoga session! Sharon Mervin will be here to introduce us to some basic yoga to add to a healthy routine. Call 919-735-1824 x5100 to register.  We’ll meet in the Community Garden at the Goldsboro Library. \n 
URL:https://wcpl.org/event/garden-yoga-3/
LOCATION:Wayne County Public Library – Goldsboro\, 1001 E Ash Street\, Goldsboro\, NC\, 27530\, United States
CATEGORIES:Adult,Goldsboro
END:VEVENT
BEGIN:VEVENT
DTSTART;TZID=America/New_York:20250412T100000
DTEND;TZID=America/New_York:20250412T113000
DTSTAMP:20260423T143733
CREATED:20250317T152236Z
LAST-MODIFIED:20250317T152236Z
UID:17016-1744452000-1744457400@wcpl.org
SUMMARY:Crafting with Karen
DESCRIPTION:Come join us as we create “Faux” Stained glass. Registration required\, call 919-735-1824 ext. 5100. \n 
URL:https://wcpl.org/event/crafting-with-karen-18/
LOCATION:Wayne County Public Library – Goldsboro\, 1001 E Ash Street\, Goldsboro\, NC\, 27530\, United States
CATEGORIES:Adult,Goldsboro
END:VEVENT
END:VCALENDAR