BEGIN:VCALENDAR
VERSION:2.0
PRODID:-//Wayne County Public Library - ECPv6.15.20//NONSGML v1.0//EN
CALSCALE:GREGORIAN
METHOD:PUBLISH
X-ORIGINAL-URL:https://wcpl.org
X-WR-CALDESC:Events for Wayne County Public Library
REFRESH-INTERVAL;VALUE=DURATION:PT1H
X-Robots-Tag:noindex
X-PUBLISHED-TTL:PT1H
BEGIN:VTIMEZONE
TZID:America/New_York
BEGIN:DAYLIGHT
TZOFFSETFROM:-0500
TZOFFSETTO:-0400
TZNAME:EDT
DTSTART:20240310T070000
END:DAYLIGHT
BEGIN:STANDARD
TZOFFSETFROM:-0400
TZOFFSETTO:-0500
TZNAME:EST
DTSTART:20241103T060000
END:STANDARD
BEGIN:DAYLIGHT
TZOFFSETFROM:-0500
TZOFFSETTO:-0400
TZNAME:EDT
DTSTART:20250309T070000
END:DAYLIGHT
BEGIN:STANDARD
TZOFFSETFROM:-0400
TZOFFSETTO:-0500
TZNAME:EST
DTSTART:20251102T060000
END:STANDARD
BEGIN:DAYLIGHT
TZOFFSETFROM:-0500
TZOFFSETTO:-0400
TZNAME:EDT
DTSTART:20260308T070000
END:DAYLIGHT
BEGIN:STANDARD
TZOFFSETFROM:-0400
TZOFFSETTO:-0500
TZNAME:EST
DTSTART:20261101T060000
END:STANDARD
END:VTIMEZONE
BEGIN:VEVENT
DTSTART;TZID=America/New_York:20250924T183000
DTEND;TZID=America/New_York:20250924T193000
DTSTAMP:20260423T030921
CREATED:20250806T145541Z
LAST-MODIFIED:20250806T145541Z
UID:19633-1758738600-1758742200@wcpl.org
SUMMARY:Paint & Sip Coffee    
DESCRIPTION:Paint a picture with us – all skill levels welcomed and encouraged! Registration required. Call (919) 735-1824 ext 5102 or email jamie.tyler@waynegov.com to register. \n 
URL:https://wcpl.org/event/paint-sip-coffee-2/
LOCATION:Wayne County Public Library – Goldsboro\, 1001 E Ash Street\, Goldsboro\, NC\, 27530\, United States
CATEGORIES:Adult,Goldsboro
END:VEVENT
BEGIN:VEVENT
DTSTART;TZID=America/New_York:20250925T150000
DTEND;TZID=America/New_York:20250925T160000
DTSTAMP:20260423T030921
CREATED:20250806T131619Z
LAST-MODIFIED:20250806T131619Z
UID:19599-1758812400-1758816000@wcpl.org
SUMMARY:Cardio Drumming  (Steele Mem.)
DESCRIPTION:Cardio drumming is an adult class that brings together drumsticks\, an exercise ball\, and stand to create one of the most fun workouts you’ll ever do.  Please call 919-299-8105 ext. 5351 to register. \n 
URL:https://wcpl.org/event/cardio-drumming-steele-mem-11/
LOCATION:Steele Memorial Library\, 119 W Main St.\, Mt. Olive\, NC\, 28365\, United States
CATEGORIES:Adult,Steele Memorial
END:VEVENT
BEGIN:VEVENT
DTSTART;TZID=America/New_York:20250925T180000
DTEND;TZID=America/New_York:20250925T190000
DTSTAMP:20260423T030921
CREATED:20250806T145200Z
LAST-MODIFIED:20250806T145200Z
UID:19629-1758823200-1758826800@wcpl.org
SUMMARY:Silent Read N’ Sip Book Club
DESCRIPTION:Instead of setting time constraints on yourself to read a certain type of book\, visit a newer type of book club where you can read whatever you want. We’ll begin by talking about what books we are currently reading. Later\, you will silently read the book you brought to our club. Feel free to read print or electronic books. This is meant to be a quiet\, cozy\, and relaxing time for everyone. \n 
URL:https://wcpl.org/event/silent-read-n-sip-book-club/
LOCATION:Wayne County Public Library – Goldsboro\, 1001 E Ash Street\, Goldsboro\, NC\, 27530\, United States
CATEGORIES:Adult,Goldsboro,Library Book Club
END:VEVENT
BEGIN:VEVENT
DTSTART;TZID=America/New_York:20250926T130000
DTEND;TZID=America/New_York:20250926T160000
DTSTAMP:20260423T030921
CREATED:20250806T145003Z
LAST-MODIFIED:20250806T145003Z
UID:19627-1758891600-1758902400@wcpl.org
SUMMARY:Open Makerspace Hours
DESCRIPTION:Bring your own supplies and use our makerspace tools – Cricut\, sewing\, knitting\, crochet – on our big craft tables. \n 
URL:https://wcpl.org/event/open-makerspace-hours-17/
LOCATION:Steele Memorial Library\, 119 W Main St.\, Mt. Olive\, NC\, 28365\, United States
CATEGORIES:Adult,Steele Memorial
END:VEVENT
BEGIN:VEVENT
DTSTART;TZID=America/New_York:20250927T140000
DTEND;TZID=America/New_York:20250927T153000
DTSTAMP:20260423T030921
CREATED:20250806T123809Z
LAST-MODIFIED:20250806T123809Z
UID:19555-1758981600-1758987000@wcpl.org
SUMMARY:Studio Ghibli Fan Club
DESCRIPTION:Soar through the adventurous skies of Porco Rosso! Enjoy a special screening of this beloved classic\, where aviation meets artistry in true Ghibli fashion. Paint your own airplane and indulge in our snack table while we admire the heroics of this trailblazing pig. To register\, call 919-735-1824 ext. 5110. \n 
URL:https://wcpl.org/event/studio-ghibli-fan-club-5/
LOCATION:Wayne County Public Library – Goldsboro\, 1001 E Ash Street\, Goldsboro\, NC\, 27530\, United States
CATEGORIES:Adult,Goldsboro,Teens
END:VEVENT
BEGIN:VEVENT
DTSTART;TZID=America/New_York:20250930T170000
DTEND;TZID=America/New_York:20250930T180000
DTSTAMP:20260423T030921
CREATED:20250806T123958Z
LAST-MODIFIED:20250806T123958Z
UID:19557-1759251600-1759255200@wcpl.org
SUMMARY:Using Primary Sources 
DESCRIPTION:Primary sources are one of the most valuable ways to learn about the past. Join us in the Local History Room to learn how to find\, use\, and cite primary sources. You’ll also get to handle historical documents dating back to the 1800s! Call 919-735-1824 ext 1830 to register. \n 
URL:https://wcpl.org/event/using-primary-sources/
LOCATION:Wayne County Public Library – Goldsboro\, 1001 E Ash Street\, Goldsboro\, NC\, 27530\, United States
CATEGORIES:Adult,Goldsboro,Local History
END:VEVENT
BEGIN:VEVENT
DTSTART;TZID=America/New_York:20251001T100000
DTEND;TZID=America/New_York:20251001T130000
DTSTAMP:20260423T030921
CREATED:20250910T183531Z
LAST-MODIFIED:20250910T183531Z
UID:20160-1759312800-1759323600@wcpl.org
SUMMARY:Open Makerspace Hours (Steele Mem.)
DESCRIPTION:Bring your own supplies and use our makerspace tools – Cricut\, sewing\, knitting\, crochet – on our big craft tables. \n 
URL:https://wcpl.org/event/open-makerspace-hours-steele-mem-9/
LOCATION:Steele Memorial Library\, 119 W Main St.\, Mt. Olive\, NC\, 28365\, United States
CATEGORIES:Adult,Steele Memorial
END:VEVENT
BEGIN:VEVENT
DTSTART;TZID=America/New_York:20251001T150000
DTEND;TZID=America/New_York:20251001T160000
DTSTAMP:20260423T030921
CREATED:20250908T194311Z
LAST-MODIFIED:20250908T194311Z
UID:20025-1759330800-1759334400@wcpl.org
SUMMARY:1970’s Music BINGO 
DESCRIPTION:Join us for a really groovy time! Grab a card\, boogie down\, and win a totally far out prize! Call 919-735-1824 ext 5100 to register. \n 
URL:https://wcpl.org/event/1970s-music-bingo/
LOCATION:Wayne County Public Library – Goldsboro\, 1001 E Ash Street\, Goldsboro\, NC\, 27530\, United States
CATEGORIES:Adult,Goldsboro
END:VEVENT
BEGIN:VEVENT
DTSTART;TZID=America/New_York:20251002T150000
DTEND;TZID=America/New_York:20251002T160000
DTSTAMP:20260423T030921
CREATED:20250909T174703Z
LAST-MODIFIED:20250909T174703Z
UID:20141-1759417200-1759420800@wcpl.org
SUMMARY:Cardio Drumming (Steele Mem.)
DESCRIPTION:Cardio drumming is an adult class that brings together drumsticks\, an exercise ball\, and stand to create one of the most fun workouts you’ll ever do.  Please call 919-299-8105 ext. 5351 to register. \n 
URL:https://wcpl.org/event/cardio-drumming-steele-mem-12/
LOCATION:Steele Memorial Library\, 119 W Main St.\, Mt. Olive\, NC\, 28365\, United States
CATEGORIES:Adult,Steele Memorial
END:VEVENT
BEGIN:VEVENT
DTSTART;TZID=America/New_York:20251002T180000
DTEND;TZID=America/New_York:20251002T190000
DTSTAMP:20260423T030921
CREATED:20250908T194556Z
LAST-MODIFIED:20250908T194556Z
UID:20027-1759428000-1759431600@wcpl.org
SUMMARY:Caregiving During the Holidays 
DESCRIPTION:Join us for an informative session on caring for and adapting holiday celebrations for relatives with Alzheimer’s Disease and other types of dementia. This program is presented in conjunction with the American Alzheimer’s Association. For more information\, call 919-735-1824 ext 5100. \n 
URL:https://wcpl.org/event/caregiving-during-the-holidays/
LOCATION:Wayne County Public Library – Goldsboro\, 1001 E Ash Street\, Goldsboro\, NC\, 27530\, United States
CATEGORIES:Adult,Goldsboro
END:VEVENT
BEGIN:VEVENT
DTSTART;TZID=America/New_York:20251003T130000
DTEND;TZID=America/New_York:20251003T160000
DTSTAMP:20260423T030921
CREATED:20250910T184311Z
LAST-MODIFIED:20250910T184311Z
UID:20170-1759496400-1759507200@wcpl.org
SUMMARY:Open Makerspace Hours (Steele Mem.)
DESCRIPTION:Bring your own supplies and use our makerspace tools – Cricut\, sewing\, knitting\, crochet – on our big craft tables. \n 
URL:https://wcpl.org/event/open-makerspace-hours-steele-mem-14/
LOCATION:Steele Memorial Library\, 119 W Main St.\, Mt. Olive\, NC\, 28365\, United States
CATEGORIES:Adult,Steele Memorial
END:VEVENT
BEGIN:VEVENT
DTSTART;TZID=America/New_York:20251004T100000
DTEND;TZID=America/New_York:20251004T233000
DTSTAMP:20260423T030921
CREATED:20250908T194754Z
LAST-MODIFIED:20250908T194754Z
UID:20029-1759572000-1759620600@wcpl.org
SUMMARY:Adult Crafting: Fall Wreaths 
DESCRIPTION:Get into the fall mood! Let’s decorate a small fall wreath using paint\, clothespins\, and a small wreath form. Call 919-735-1824 ext 5100. \n 
URL:https://wcpl.org/event/adult-crafting-fall-wreaths/
LOCATION:Wayne County Public Library – Goldsboro\, 1001 E Ash Street\, Goldsboro\, NC\, 27530\, United States
CATEGORIES:Adult,Goldsboro
END:VEVENT
BEGIN:VEVENT
DTSTART;TZID=America/New_York:20251004T110000
DTEND;TZID=America/New_York:20251004T120000
DTSTAMP:20260423T030921
CREATED:20250911T162245Z
LAST-MODIFIED:20250911T162245Z
UID:20204-1759575600-1759579200@wcpl.org
SUMMARY:Books & Banter Book Club (Northern Wayne)
DESCRIPTION:A space for Twentysomethings to explore literature\, express opinions\, and find a supportive network in an open and inclusive environment. Our discussions extend beyond just the plot\, we explore themes that resonate with life experiences\, such as career struggles\, relationships\, self-discovery\, and personal growth. Registration is required. Please call 919-705-1892 to register. \nThis month\, we’ll be discussing Rock Paper Scissors by Alice Feeney. \n 
URL:https://wcpl.org/event/books-banter-book-club-northern-wayne-8/
LOCATION:Northern Wayne Library\, 609 S. Wilson St.\, Fremont\, NC\, 27830\, United States
CATEGORIES:Adult,Library Book Club,Northern Wayne Library
END:VEVENT
BEGIN:VEVENT
DTSTART;TZID=America/New_York:20251006T100000
DTEND;TZID=America/New_York:20251006T110000
DTSTAMP:20260423T030921
CREATED:20250911T162453Z
LAST-MODIFIED:20250911T162453Z
UID:20206-1759744800-1759748400@wcpl.org
SUMMARY:Northern Wayne Inspirational Book Club
DESCRIPTION:Each month we will dive into stories of perseverance\, growth\, and transformation. Creating a space where readers come together to explore uplifting books\, and leave feeling motivated and inspired. This month we will be discussing All my Secrets by Lynn Austin.  Registration is required.  Call 919-705-1892 to register. \n 
URL:https://wcpl.org/event/northern-wayne-inspirational-book-club-3/
LOCATION:Northern Wayne Library\, 609 S. Wilson St.\, Fremont\, NC\, 27830\, United States
CATEGORIES:Adult,Library Book Club,Northern Wayne Library
END:VEVENT
BEGIN:VEVENT
DTSTART;TZID=America/New_York:20251006T190000
DTEND;TZID=America/New_York:20251006T200000
DTSTAMP:20260423T030921
CREATED:20250908T195110Z
LAST-MODIFIED:20250908T195110Z
UID:20031-1759777200-1759780800@wcpl.org
SUMMARY:Golden Girls: TV Hour 
DESCRIPTION:Celebrate your favorite show with our weekly watch party! Join us every Monday to get cozy and indulge in cheesecake while reliving the laughs\, the tears\, and the friendship. Space is limited. Registration highly recommended! Call 919-735-1824 ext 5100 to register. \n 
URL:https://wcpl.org/event/golden-girls-tv-hour/
LOCATION:Wayne County Public Library – Goldsboro\, 1001 E Ash Street\, Goldsboro\, NC\, 27530\, United States
CATEGORIES:Adult,Goldsboro
END:VEVENT
BEGIN:VEVENT
DTSTART;TZID=America/New_York:20251007T100000
DTEND;TZID=America/New_York:20251007T120000
DTSTAMP:20260423T030921
CREATED:20250911T161916Z
LAST-MODIFIED:20250911T161916Z
UID:20200-1759831200-1759838400@wcpl.org
SUMMARY:Northern Wayne Stitchers
DESCRIPTION:This program is designed to create a relaxed\, welcoming environment where participants can focus on honing their craft while receiving the support they need to challenge themselves creatively. It’s an ideal opportunity for experienced stitchers to elevate their work\, troubleshoot projects\, and continue growing as artisans. Registration is required.  Call 919-705-1892 to register. \n 
URL:https://wcpl.org/event/northern-wayne-stitchers-5/
LOCATION:Northern Wayne Library\, 609 S. Wilson St.\, Fremont\, NC\, 27830\, United States
CATEGORIES:Adult,Northern Wayne Library
END:VEVENT
BEGIN:VEVENT
DTSTART;TZID=America/New_York:20251007T150000
DTEND;TZID=America/New_York:20251007T163000
DTSTAMP:20260423T030921
CREATED:20250908T200340Z
LAST-MODIFIED:20250908T200340Z
UID:20039-1759849200-1759854600@wcpl.org
SUMMARY:Exquisite Creatures 
DESCRIPTION:Let’s play the Surrealist “Exquisite Corpse” collaborative art game. Each person will draw a portion of the creature without seeing what the other has done. At the end everyone will end up with their very own weird mystery masterpiece!  Call 919-735-1824 ext 5100 to register. \n 
URL:https://wcpl.org/event/exquisite-creatures/
LOCATION:Wayne County Public Library – Goldsboro\, 1001 E Ash Street\, Goldsboro\, NC\, 27530\, United States
CATEGORIES:Adult,Goldsboro
END:VEVENT
BEGIN:VEVENT
DTSTART;TZID=America/New_York:20251007T150000
DTEND;TZID=America/New_York:20251007T190000
DTSTAMP:20260423T030921
CREATED:20250909T174315Z
LAST-MODIFIED:20250909T174315Z
UID:20139-1759849200-1759863600@wcpl.org
SUMMARY:Steele Stitchers
DESCRIPTION:Come join our cross-stitching group!  Newbies and experienced stitchers are welcome!  Drop in for a bit or stay for a while.  Please call 919-299-8101 ext. 5351 to register. \n 
URL:https://wcpl.org/event/steele-stitchers-2/
LOCATION:Steele Memorial Library\, 119 W Main St.\, Mt. Olive\, NC\, 28365\, United States
CATEGORIES:Adult,Steele Memorial
END:VEVENT
BEGIN:VEVENT
DTSTART;TZID=America/New_York:20251008T100000
DTEND;TZID=America/New_York:20251008T110000
DTSTAMP:20260423T030921
CREATED:20250909T134104Z
LAST-MODIFIED:20250909T134104Z
UID:20058-1759917600-1759921200@wcpl.org
SUMMARY:Hearing Health: Presentation & Screenings 
DESCRIPTION:Celebrate Audiology Awareness Month with us! Join Dr. Marissa Land from Coates Hearing Clinic for an informative session on hearing health and complimentary hearing screenings.  Call 919-735-1824 ext 5100 to register. \n 
URL:https://wcpl.org/event/hearing-health-presentation-screenings/
LOCATION:Wayne County Public Library – Goldsboro\, 1001 E Ash Street\, Goldsboro\, NC\, 27530\, United States
CATEGORIES:Adult,Goldsboro
END:VEVENT
BEGIN:VEVENT
DTSTART;TZID=America/New_York:20251008T100000
DTEND;TZID=America/New_York:20251008T130000
DTSTAMP:20260423T030921
CREATED:20250910T183655Z
LAST-MODIFIED:20250910T183655Z
UID:20162-1759917600-1759928400@wcpl.org
SUMMARY:Open Makerspace Hours (Steele Mem.)
DESCRIPTION:Bring your own supplies and use our makerspace tools – Cricut\, sewing\, knitting\, crochet – on our big craft tables. \n 
URL:https://wcpl.org/event/open-makerspace-hours-steele-mem-10/
LOCATION:Steele Memorial Library\, 119 W Main St.\, Mt. Olive\, NC\, 28365\, United States
CATEGORIES:Adult,Steele Memorial
END:VEVENT
BEGIN:VEVENT
DTSTART;TZID=America/New_York:20251008T150000
DTEND;TZID=America/New_York:20251008T160000
DTSTAMP:20260423T030921
CREATED:20250909T134253Z
LAST-MODIFIED:20250909T134253Z
UID:20060-1759935600-1759939200@wcpl.org
SUMMARY:Cardio Drumming (Goldsboro)
DESCRIPTION:Join us for Cardio Drumming. Work up a sweat and get into a groovy rhythm. Call 919-735-1824 ext 5100 to register. \n 
URL:https://wcpl.org/event/cardio-drumming-goldsboro-15/
LOCATION:Wayne County Public Library – Goldsboro\, 1001 E Ash Street\, Goldsboro\, NC\, 27530\, United States
CATEGORIES:Adult,Goldsboro
END:VEVENT
BEGIN:VEVENT
DTSTART;TZID=America/New_York:20251009T150000
DTEND;TZID=America/New_York:20251009T160000
DTSTAMP:20260423T030921
CREATED:20250910T181803Z
LAST-MODIFIED:20250910T181803Z
UID:20152-1760022000-1760025600@wcpl.org
SUMMARY:The Page Turners Book Club (Steele Mem.)
DESCRIPTION:We will be discussing The Glitch by Elisabeth Cohen.  Please call 919-299-8105 ext. 5351 to register. \n 
URL:https://wcpl.org/event/the-page-turners-book-club-steele-mem/
LOCATION:Steele Memorial Library\, 119 W Main St.\, Mt. Olive\, NC\, 28365\, United States
CATEGORIES:Adult,Library Book Club,Steele Memorial
END:VEVENT
BEGIN:VEVENT
DTSTART;TZID=America/New_York:20251009T160000
DTEND;TZID=America/New_York:20251009T170000
DTSTAMP:20260423T030921
CREATED:20250909T134501Z
LAST-MODIFIED:20250909T134501Z
UID:20062-1760025600-1760029200@wcpl.org
SUMMARY:Tech for Older Adults 
DESCRIPTION:Are you an older adult who wants to learn more about technology? We can help! Join us as we answer your questions and help with your technology needs.
URL:https://wcpl.org/event/tech-for-older-adults-7/
LOCATION:Wayne County Public Library – Goldsboro\, 1001 E Ash Street\, Goldsboro\, NC\, 27530\, United States
CATEGORIES:Adult,Goldsboro
END:VEVENT
BEGIN:VEVENT
DTSTART;TZID=America/New_York:20251010T100000
DTEND;TZID=America/New_York:20251010T110000
DTSTAMP:20260423T030921
CREATED:20250910T181600Z
LAST-MODIFIED:20250910T181600Z
UID:20150-1760090400-1760094000@wcpl.org
SUMMARY:Morning Meditations (Steele Mem.)
DESCRIPTION:We will be stretching for 20-30 minutes for flexibility and then doing some Zen tangles for relaxation.  Please call 919-299-8105 ext. 5351 to register. \n 
URL:https://wcpl.org/event/morning-meditations-steele-mem-9/
LOCATION:Steele Memorial Library\, 119 W Main St.\, Mt. Olive\, NC\, 28365\, United States
CATEGORIES:Adult,Steele Memorial
END:VEVENT
BEGIN:VEVENT
DTSTART;TZID=America/New_York:20251010T130000
DTEND;TZID=America/New_York:20251010T160000
DTSTAMP:20260423T030921
CREATED:20250910T184440Z
LAST-MODIFIED:20250910T184440Z
UID:20172-1760101200-1760112000@wcpl.org
SUMMARY:Open Makerspace Hours (Steele Mem.)
DESCRIPTION:Bring your own supplies and use our makerspace tools – Cricut\, sewing\, knitting\, crochet – on our big craft tables. \n 
URL:https://wcpl.org/event/open-makerspace-hours-steele-mem-15/
LOCATION:Steele Memorial Library\, 119 W Main St.\, Mt. Olive\, NC\, 28365\, United States
CATEGORIES:Adult,Steele Memorial
END:VEVENT
BEGIN:VEVENT
DTSTART;TZID=America/New_York:20251011T140000
DTEND;TZID=America/New_York:20251011T153000
DTSTAMP:20260423T030921
CREATED:20250909T134854Z
LAST-MODIFIED:20250909T134854Z
UID:20064-1760191200-1760196600@wcpl.org
SUMMARY:Studio Ghibli Fan Club: Spirited Away 
DESCRIPTION:Enjoy an afternoon of crafting\, snacks\, and Ghibli! We’ll be screening “Spirited Away” while painting our own bath tokens. Registration is required.  Call (919)-735-1824 ext. 5110 to register.  Ages 13+ \n 
URL:https://wcpl.org/event/studio-ghibli-fan-club-spirited-away/
LOCATION:Wayne County Public Library – Goldsboro\, 1001 E Ash Street\, Goldsboro\, NC\, 27530\, United States
CATEGORIES:Adult,Goldsboro,Teens
END:VEVENT
BEGIN:VEVENT
DTSTART;TZID=America/New_York:20251013T190000
DTEND;TZID=America/New_York:20251013T200000
DTSTAMP:20260423T030921
CREATED:20250908T195802Z
LAST-MODIFIED:20250908T195802Z
UID:20033-1760382000-1760385600@wcpl.org
SUMMARY:Golden Girls: TV Hour 
DESCRIPTION:Celebrate your favorite show with our weekly watch party! Join us every Monday to get cozy and indulge in cheesecake while reliving the laughs\, the tears\, and the friendship. Space is limited. Registration highly recommended! Call 919-735-1824 ext 5100 to register. \n 
URL:https://wcpl.org/event/golden-girls-tv-hour-2/
LOCATION:Wayne County Public Library – Goldsboro\, 1001 E Ash Street\, Goldsboro\, NC\, 27530\, United States
CATEGORIES:Adult,Goldsboro
END:VEVENT
BEGIN:VEVENT
DTSTART;TZID=America/New_York:20251014T140000
DTEND;TZID=America/New_York:20251014T150000
DTSTAMP:20260423T030921
CREATED:20250909T135127Z
LAST-MODIFIED:20250909T135127Z
UID:20066-1760450400-1760454000@wcpl.org
SUMMARY:Blank Page Society 
DESCRIPTION:Interested in journaling but don’t know where to start? Join the Blank Page Society for uninterrupted writing time\, fun prompts\, and optional sharing. All materials provided\, but feel free to bring your own! Call 919-735-1824 ext 5100 to register. \n 
URL:https://wcpl.org/event/blank-page-society-2/
LOCATION:Wayne County Public Library – Goldsboro\, 1001 E Ash Street\, Goldsboro\, NC\, 27530\, United States
CATEGORIES:Adult,Goldsboro
END:VEVENT
BEGIN:VEVENT
DTSTART;TZID=America/New_York:20251015T100000
DTEND;TZID=America/New_York:20251015T130000
DTSTAMP:20260423T030921
CREATED:20250910T183818Z
LAST-MODIFIED:20250910T183818Z
UID:20164-1760522400-1760533200@wcpl.org
SUMMARY:Open Makerspace Hours (Steele Mem.)
DESCRIPTION:Bring your own supplies and use our makerspace tools – Cricut\, sewing\, knitting\, crochet – on our big craft tables. \n 
URL:https://wcpl.org/event/open-makerspace-hours-steele-mem-11/
LOCATION:Steele Memorial Library\, 119 W Main St.\, Mt. Olive\, NC\, 28365\, United States
CATEGORIES:Adult,Steele Memorial
END:VEVENT
BEGIN:VEVENT
DTSTART;TZID=America/New_York:20251015T150000
DTEND;TZID=America/New_York:20251015T160000
DTSTAMP:20260423T030921
CREATED:20250910T182023Z
LAST-MODIFIED:20250910T182023Z
UID:20154-1760540400-1760544000@wcpl.org
SUMMARY:Fall is the Time to Plant Spring Bulbs (Steele Mem.)
DESCRIPTION:Jessica Strickland\, with Cooperative Extension\, will present on planting flowering bulbs in the fall for springtime blooms.  Please call 919-299-8105 ext. 5351 to register. \n 
URL:https://wcpl.org/event/fall-is-the-time-to-plant-spring-bulbs-steele-mem/
LOCATION:Steele Memorial Library\, 119 W Main St.\, Mt. Olive\, NC\, 28365\, United States
CATEGORIES:Adult,Steele Memorial
END:VEVENT
END:VCALENDAR