BEGIN:VCALENDAR
VERSION:2.0
PRODID:-//Wayne County Public Library - ECPv6.15.20//NONSGML v1.0//EN
CALSCALE:GREGORIAN
METHOD:PUBLISH
X-ORIGINAL-URL:https://wcpl.org
X-WR-CALDESC:Events for Wayne County Public Library
REFRESH-INTERVAL;VALUE=DURATION:PT1H
X-Robots-Tag:noindex
X-PUBLISHED-TTL:PT1H
BEGIN:VTIMEZONE
TZID:America/New_York
BEGIN:DAYLIGHT
TZOFFSETFROM:-0500
TZOFFSETTO:-0400
TZNAME:EDT
DTSTART:20250309T070000
END:DAYLIGHT
BEGIN:STANDARD
TZOFFSETFROM:-0400
TZOFFSETTO:-0500
TZNAME:EST
DTSTART:20251102T060000
END:STANDARD
BEGIN:DAYLIGHT
TZOFFSETFROM:-0500
TZOFFSETTO:-0400
TZNAME:EDT
DTSTART:20260308T070000
END:DAYLIGHT
BEGIN:STANDARD
TZOFFSETFROM:-0400
TZOFFSETTO:-0500
TZNAME:EST
DTSTART:20261101T060000
END:STANDARD
BEGIN:DAYLIGHT
TZOFFSETFROM:-0500
TZOFFSETTO:-0400
TZNAME:EDT
DTSTART:20270314T070000
END:DAYLIGHT
BEGIN:STANDARD
TZOFFSETFROM:-0400
TZOFFSETTO:-0500
TZNAME:EST
DTSTART:20271107T060000
END:STANDARD
END:VTIMEZONE
BEGIN:VEVENT
DTSTART;TZID=America/New_York:20260207T110000
DTEND;TZID=America/New_York:20260207T120000
DTSTAMP:20260422T183315
CREATED:20260108T154632Z
LAST-MODIFIED:20260108T200716Z
UID:21790-1770462000-1770465600@wcpl.org
SUMMARY:Books & Banter Book Club (NWL) 
DESCRIPTION:Books & Banter – a space for Twentysomethings to explore literature\, express opinions\, and find a supportive network in an open and inclusive environment. It serves as a fun and relaxed social opportunity to connect with peers\, make new friends\, and create a sense of community.  Our discussions extend beyond just the plot\, we explore themes that resonate with life experiences\, such as career struggles\, relationships\, self-discovery\, and personal growth. Registration is required. Please call 919-705-1892 to register. \nThis month\, we’ll be discussing And Then There Were None by Agatha Christie.
URL:https://wcpl.org/event/books-banter-book-club-nwl-2/
LOCATION:Northern Wayne Library\, 609 S. Wilson St.\, Fremont\, NC\, 27830\, United States
CATEGORIES:Adult,Library Book Club,Northern Wayne Library
END:VEVENT
BEGIN:VEVENT
DTSTART;TZID=America/New_York:20260209T150000
DTEND;TZID=America/New_York:20260209T160000
DTSTAMP:20260422T183315
CREATED:20260107T133104Z
LAST-MODIFIED:20260108T200800Z
UID:21656-1770649200-1770652800@wcpl.org
SUMMARY:Healthy Living For Your Brain & Body 
DESCRIPTION:Join us for a session focusing on habits to aid in the prevention of Alzheimer’s Disease. This program is presented in conjunction with the American Alzheimer’s Association. Call 919-735-1824 ext 5100 to register. \n 
URL:https://wcpl.org/event/healthy-living-for-your-brain-body/
LOCATION:Wayne County Public Library – Goldsboro\, 1001 E Ash Street\, Goldsboro\, NC\, 27530\, United States
CATEGORIES:Adult,Goldsboro
END:VEVENT
BEGIN:VEVENT
DTSTART;TZID=America/New_York:20260209T180000
DTEND;TZID=America/New_York:20260209T190000
DTSTAMP:20260422T183315
CREATED:20260107T133241Z
LAST-MODIFIED:20260108T200827Z
UID:21658-1770660000-1770663600@wcpl.org
SUMMARY:Transparent Language 
DESCRIPTION:Interested in learning a new language? Join us and learn step-by-step how to use the library’s language-learning resource Transparent Language! Instructions will be given in English; handouts will be available in English and Spanish. Space is limited. Registration is required. Call 919-735-1824 ext 5100 to register. \n 
URL:https://wcpl.org/event/transparent-language/
LOCATION:Wayne County Public Library – Goldsboro\, 1001 E Ash Street\, Goldsboro\, NC\, 27530\, United States
CATEGORIES:Adult,Goldsboro
END:VEVENT
BEGIN:VEVENT
DTSTART;TZID=America/New_York:20260210T140000
DTEND;TZID=America/New_York:20260210T153000
DTSTAMP:20260422T183315
CREATED:20260107T133445Z
LAST-MODIFIED:20260108T201022Z
UID:21660-1770732000-1770737400@wcpl.org
SUMMARY:Blank Page Society 
DESCRIPTION:Want to start journaling but don’t know where to start? Join the Blank Page Society for uninterrupted writing time\, fun prompts\, and optional sharing. All materials provided\, but feel free to bring your own! Call 919-735-1824 ext 5100 to register. \n 
URL:https://wcpl.org/event/blank-page-society-6/
LOCATION:Wayne County Public Library – Goldsboro\, 1001 E Ash Street\, Goldsboro\, NC\, 27530\, United States
CATEGORIES:Adult,Goldsboro
END:VEVENT
BEGIN:VEVENT
DTSTART;TZID=America/New_York:20260210T173000
DTEND;TZID=America/New_York:20260210T190000
DTSTAMP:20260422T183315
CREATED:20260107T140519Z
LAST-MODIFIED:20260108T201142Z
UID:21662-1770744600-1770750000@wcpl.org
SUMMARY:Writing Workshop: Stories that Stay 
DESCRIPTION:Stories That Stay is a monthly memoir writing workshop through the North Carolina Writers’ Network. Each session offers a space to reflect and connect through personal storytelling and lived experience. All writers are welcome to join and grow their voice in a supportive setting. Call 919-735-1824 ext 5100 to register. \n 
URL:https://wcpl.org/event/writing-workshop-stories-that-stay-2/
LOCATION:Wayne County Public Library – Goldsboro\, 1001 E Ash Street\, Goldsboro\, NC\, 27530\, United States
CATEGORIES:Adult,Goldsboro
END:VEVENT
BEGIN:VEVENT
DTSTART;TZID=America/New_York:20260211T100000
DTEND;TZID=America/New_York:20260211T130000
DTSTAMP:20260422T183315
CREATED:20260107T195532Z
LAST-MODIFIED:20260108T201251Z
UID:21742-1770804000-1770814800@wcpl.org
SUMMARY:Open Makerspace Hours (Steele Mem.)
DESCRIPTION:Bring your own supplies and use our makerspace tools – Cricut\, sewing\, knitting\, crochet – on our big craft tables. \n 
URL:https://wcpl.org/event/open-makerspace-hours-steele-mem-43/
LOCATION:Steele Memorial Library\, 119 W Main St.\, Mt. Olive\, NC\, 28365\, United States
CATEGORIES:Adult,Needlework,Steele Memorial
END:VEVENT
BEGIN:VEVENT
DTSTART;TZID=America/New_York:20260211T150000
DTEND;TZID=America/New_York:20260211T160000
DTSTAMP:20260422T183315
CREATED:20260107T194352Z
LAST-MODIFIED:20260108T201335Z
UID:21730-1770822000-1770825600@wcpl.org
SUMMARY:Mandala CD Art (Steele Mem.)
DESCRIPTION:We will be painting circular artwork with repeating designs\, for a soothing\, meditative craft. \nPlease call 919-299-8105 ext. 5351 to register. \n 
URL:https://wcpl.org/event/mandala-cd-art-steele-mem/
LOCATION:Steele Memorial Library\, 119 W Main St.\, Mt. Olive\, NC\, 28365\, United States
CATEGORIES:Adult,Steele Memorial
END:VEVENT
BEGIN:VEVENT
DTSTART;TZID=America/New_York:20260211T180000
DTEND;TZID=America/New_York:20260211T190000
DTSTAMP:20260422T183315
CREATED:20260107T140731Z
LAST-MODIFIED:20260108T201357Z
UID:21664-1770832800-1770836400@wcpl.org
SUMMARY:Wellness Wednesday: Heart Health 
DESCRIPTION:February is American Heart month! Join us for our monthly Wellness Wednesday Series where  UNC Health Wayne Librarian Sylvia Judd will offer a session on tips and information about heart health. \n 
URL:https://wcpl.org/event/wellness-wednesday-heart-health-2/
LOCATION:Wayne County Public Library – Goldsboro\, 1001 E Ash Street\, Goldsboro\, NC\, 27530\, United States
CATEGORIES:Adult,Goldsboro
END:VEVENT
BEGIN:VEVENT
DTSTART;TZID=America/New_York:20260212T150000
DTEND;TZID=America/New_York:20260212T160000
DTSTAMP:20260422T183315
CREATED:20260107T140928Z
LAST-MODIFIED:20260108T201516Z
UID:21666-1770908400-1770912000@wcpl.org
SUMMARY:Valentine Bookmark Coloring 
DESCRIPTION:Love is in the air! Join us for an afternoon of socializing and coloring Valentine themed bookmarks! Call 919-735-1824 ext 5100 to register. \n 
URL:https://wcpl.org/event/valentine-bookmark-coloring/
LOCATION:Wayne County Public Library – Goldsboro\, 1001 E Ash Street\, Goldsboro\, NC\, 27530\, United States
CATEGORIES:Adult,Goldsboro
END:VEVENT
BEGIN:VEVENT
DTSTART;TZID=America/New_York:20260212T150000
DTEND;TZID=America/New_York:20260212T160000
DTSTAMP:20260422T183315
CREATED:20260107T194836Z
LAST-MODIFIED:20260108T201539Z
UID:21736-1770908400-1770912000@wcpl.org
SUMMARY:The Page Turners Book Club (Steele Mem.)
DESCRIPTION:We will be discussing The Husbands by Holly Gramazio.  Please call 919-299-8105 ext. 5351 to register. \n 
URL:https://wcpl.org/event/the-page-turners-book-club-steele-mem-5/
LOCATION:Steele Memorial Library\, 119 W Main St.\, Mt. Olive\, NC\, 28365\, United States
CATEGORIES:Adult,Library Book Club,Steele Memorial
END:VEVENT
BEGIN:VEVENT
DTSTART;TZID=America/New_York:20260212T173000
DTEND;TZID=America/New_York:20260212T190000
DTSTAMP:20260422T183315
CREATED:20260107T132635Z
LAST-MODIFIED:20260204T171900Z
UID:21650-1770917400-1770922800@wcpl.org
SUMMARY:Handmade & Hollywood 
DESCRIPTION:Join us for an evening of crafting and classic cinema! Bring your own materials for the craft of your choice while we celebrate Valentine’s Day with a comedy starring Robert Walker and Ava Gardner as Venus\, the Goddess of Love! Call 919-735-1824 ext 5100 for more information! \n 
URL:https://wcpl.org/event/handmade-hollywood-2/
LOCATION:Wayne County Public Library – Goldsboro\, 1001 E Ash Street\, Goldsboro\, NC\, 27530\, United States
CATEGORIES:Adult,Goldsboro
END:VEVENT
BEGIN:VEVENT
DTSTART;TZID=America/New_York:20260213T100000
DTEND;TZID=America/New_York:20260213T110000
DTSTAMP:20260422T183315
CREATED:20260107T194532Z
LAST-MODIFIED:20260108T201651Z
UID:21732-1770976800-1770980400@wcpl.org
SUMMARY:Morning Meditations (Steele Mem.)
DESCRIPTION:We will be stretching for 20-30 minutes for flexibility and then doing some Zen tangles for relaxation.  Please call 919-299-8105 ext. 5351 to register. \n 
URL:https://wcpl.org/event/morning-meditations-steele-mem-13/
LOCATION:Steele Memorial Library\, 119 W Main St.\, Mt. Olive\, NC\, 28365\, United States
CATEGORIES:Adult,Steele Memorial
END:VEVENT
BEGIN:VEVENT
DTSTART;TZID=America/New_York:20260213T130000
DTEND;TZID=America/New_York:20260213T160000
DTSTAMP:20260422T183315
CREATED:20260107T200654Z
LAST-MODIFIED:20260108T201714Z
UID:21750-1770987600-1770998400@wcpl.org
SUMMARY:Open Makerspace Hours (Steele Mem.)
DESCRIPTION:Bring your own supplies and use our makerspace tools – Cricut\, sewing\, knitting\, crochet – on our big craft tables. \n 
URL:https://wcpl.org/event/open-makerspace-hours-steele-mem-47/
LOCATION:Steele Memorial Library\, 119 W Main St.\, Mt. Olive\, NC\, 28365\, United States
CATEGORIES:Adult,Needlework,Steele Memorial
END:VEVENT
BEGIN:VEVENT
DTSTART;TZID=America/New_York:20260216T143000
DTEND;TZID=America/New_York:20260216T153000
DTSTAMP:20260422T183315
CREATED:20260107T141228Z
LAST-MODIFIED:20260108T201756Z
UID:21668-1771252200-1771255800@wcpl.org
SUMMARY:Why Knot?
DESCRIPTION:Do you enjoy knitting and crochet? Join like-minded enthusiasts to knit or crochet and share tips\, tricks and resources. Bring your own materials.  Call 919-735-1824 ext. 5100 for more information. \n 
URL:https://wcpl.org/event/why-knot/
LOCATION:Wayne County Public Library – Goldsboro\, 1001 E Ash Street\, Goldsboro\, NC\, 27530\, United States
CATEGORIES:Adult,Goldsboro
END:VEVENT
BEGIN:VEVENT
DTSTART;TZID=America/New_York:20260217T100000
DTEND;TZID=America/New_York:20260217T120000
DTSTAMP:20260422T183315
CREATED:20260108T154402Z
LAST-MODIFIED:20260108T201856Z
UID:21788-1771322400-1771329600@wcpl.org
SUMMARY:Northern Wayne Stitchers 
DESCRIPTION:The program is designed to create a relaxed\, welcoming environment where participants can focus on honing their craft while receiving the support they need to challenge themselves creatively. It’s an ideal opportunity for experienced stitchers to elevate their work\, troubleshoot projects\, and continue growing as artisans. Registration is required.  Please call 919-705-1892 to register. \n 
URL:https://wcpl.org/event/northern-wayne-stitchers-11/
LOCATION:Northern Wayne Library\, 609 S. Wilson St.\, Fremont\, NC\, 27830\, United States
CATEGORIES:Adult,Needlework,Northern Wayne Library
END:VEVENT
BEGIN:VEVENT
DTSTART;TZID=America/New_York:20260217T140000
DTEND;TZID=America/New_York:20260217T150000
DTSTAMP:20260422T183315
CREATED:20260107T141437Z
LAST-MODIFIED:20260205T214429Z
UID:21670-1771336800-1771340400@wcpl.org
SUMMARY:Black Genealogy 
DESCRIPTION:Are you interested in your ancestry or creating a family tree? Join us to learn more about genealogical research for black and African American families and what resources Local History can offer you! Call 919-735-1824 ext 5100 to register. \n 
URL:https://wcpl.org/event/black-genealogy-3/
LOCATION:Wayne County Public Library – Goldsboro\, 1001 E Ash Street\, Goldsboro\, NC\, 27530\, United States
CATEGORIES:Adult,Black History,Goldsboro,Local History
ATTACH;FMTTYPE=image/png:https://wcpl.org/wp-content/uploads/2026/01/Black-Genealogy.png
END:VEVENT
BEGIN:VEVENT
DTSTART;TZID=America/New_York:20260218T100000
DTEND;TZID=America/New_York:20260218T130000
DTSTAMP:20260422T183315
CREATED:20260107T195700Z
LAST-MODIFIED:20260108T202041Z
UID:21744-1771408800-1771419600@wcpl.org
SUMMARY:Open Makerspace Hours (Steele Mem.)
DESCRIPTION:Bring your own supplies and use our makerspace tools – Cricut\, sewing\, knitting\, crochet – on our big craft tables. \n 
URL:https://wcpl.org/event/open-makerspace-hours-steele-mem-44/
LOCATION:Steele Memorial Library\, 119 W Main St.\, Mt. Olive\, NC\, 28365\, United States
CATEGORIES:Adult,Needlework,Steele Memorial
END:VEVENT
BEGIN:VEVENT
DTSTART;TZID=America/New_York:20260218T150000
DTEND;TZID=America/New_York:20260218T160000
DTSTAMP:20260422T183315
CREATED:20260107T195002Z
LAST-MODIFIED:20260108T202118Z
UID:21738-1771426800-1771430400@wcpl.org
SUMMARY:Pruning Blueberries (Steele Mem.)
DESCRIPTION:February is the time to prune your blueberries!  Jessica Strickland\, with the Cooperative Extension\, will be leading this class.  Please call 919-299-8105 ext. 5351 to register. \n 
URL:https://wcpl.org/event/pruning-blueberries-steele-mem/
LOCATION:Steele Memorial Library\, 119 W Main St.\, Mt. Olive\, NC\, 28365\, United States
CATEGORIES:Adult,Steele Memorial
END:VEVENT
BEGIN:VEVENT
DTSTART;TZID=America/New_York:20260219T150000
DTEND;TZID=America/New_York:20260219T160000
DTSTAMP:20260422T183315
CREATED:20260107T141622Z
LAST-MODIFIED:20260204T193434Z
UID:21672-1771513200-1771516800@wcpl.org
SUMMARY:Researching Black History with Fold3 
DESCRIPTION:Come join us as we learn to navigate Fold3\, a military history database\, to research the history of African American soldiers. Call 919-735-1824 ext 5100 to register. \n 
URL:https://wcpl.org/event/researching-black-history-with-fold3/
LOCATION:Wayne County Public Library – Goldsboro\, 1001 E Ash Street\, Goldsboro\, NC\, 27530\, United States
CATEGORIES:Adult,Black History,Goldsboro,Local History
ATTACH;FMTTYPE=image/png:https://wcpl.org/wp-content/uploads/2026/01/Fold3-event-image-2.png
END:VEVENT
BEGIN:VEVENT
DTSTART;TZID=America/New_York:20260219T150000
DTEND;TZID=America/New_York:20260219T160000
DTSTAMP:20260422T183315
CREATED:20260107T193921Z
LAST-MODIFIED:20260108T202227Z
UID:21724-1771513200-1771516800@wcpl.org
SUMMARY:Cardio Drumming (Steele Mem.)
DESCRIPTION:Cardio drumming is an adult class that brings together drumsticks\, an exercise ball\, and stand to create one of the most fun workouts you’ll ever do.  Please call 919-299-8105 ext. 5351 to register. \n 
URL:https://wcpl.org/event/cardio-drumming-steele-mem-23/
LOCATION:Steele Memorial Library\, 119 W Main St.\, Mt. Olive\, NC\, 28365\, United States
CATEGORIES:Adult,Steele Memorial
END:VEVENT
BEGIN:VEVENT
DTSTART;TZID=America/New_York:20260220T130000
DTEND;TZID=America/New_York:20260220T160000
DTSTAMP:20260422T183315
CREATED:20260107T200821Z
LAST-MODIFIED:20260108T202312Z
UID:21752-1771592400-1771603200@wcpl.org
SUMMARY:Open Makerspace Hours (Steele Mem.)
DESCRIPTION:Bring your own supplies and use our makerspace tools – Cricut\, sewing\, knitting\, crochet – on our big craft tables. \n 
URL:https://wcpl.org/event/open-makerspace-hours-steele-mem-48/
LOCATION:Steele Memorial Library\, 119 W Main St.\, Mt. Olive\, NC\, 28365\, United States
CATEGORIES:Adult,Needlework,Steele Memorial
END:VEVENT
BEGIN:VEVENT
DTSTART;TZID=America/New_York:20260221T100000
DTEND;TZID=America/New_York:20260221T110000
DTSTAMP:20260422T183315
CREATED:20260107T143428Z
LAST-MODIFIED:20260108T202332Z
UID:21677-1771668000-1771671600@wcpl.org
SUMMARY:Audiobook Trekkers 
DESCRIPTION:Do you enjoy listening to audiobooks? Walk while you listen to your favorite stories or find a new one! Walkers will meet at Stoney Creek North Greenway. Registration is suggested. Call 919-735-1824 ext. 5100 for more information. \n 
URL:https://wcpl.org/event/audiobook-trekkers-5/
LOCATION:Stoney Creek North Greenway\, 400 Durant Street\, Goldsboro\, NC\, 27530
CATEGORIES:Adult,Goldsboro
END:VEVENT
BEGIN:VEVENT
DTSTART;TZID=America/New_York:20260221T150000
DTEND;TZID=America/New_York:20260221T160000
DTSTAMP:20260422T183315
CREATED:20260107T143621Z
LAST-MODIFIED:20260108T193325Z
UID:21679-1771686000-1771689600@wcpl.org
SUMMARY:Tinkering with Tinkercad 
DESCRIPTION:Begin your 3D journey with a step-by-step guide through the 3D modeling software Tinkercad. Laptops will be provided. Seating is limited. Call 919-735-1824 ext 5100 to register. \n 
URL:https://wcpl.org/event/tinkering-with-tinkercad/
LOCATION:Wayne County Public Library – Goldsboro\, 1001 E Ash Street\, Goldsboro\, NC\, 27530\, United States
CATEGORIES:Adult,Goldsboro,Teens
END:VEVENT
BEGIN:VEVENT
DTSTART;TZID=America/New_York:20260223T140000
DTEND;TZID=America/New_York:20260223T150000
DTSTAMP:20260422T183315
CREATED:20260107T143811Z
LAST-MODIFIED:20260108T202423Z
UID:21681-1771855200-1771858800@wcpl.org
SUMMARY:Local History Scavenger Hunt 
DESCRIPTION:If you’ve never visited the Local History Room now’s your chance! We will learn how to navigate the reference collection and find books straight off the shelves. Whoever finishes their search first will win a vintage style book nook!  Call 919-735-1824 ext 5100 to register. \n 
URL:https://wcpl.org/event/local-history-scavenger-hunt/
LOCATION:Wayne County Public Library – Goldsboro\, 1001 E Ash Street\, Goldsboro\, NC\, 27530\, United States
CATEGORIES:Adult,Goldsboro,Local History
END:VEVENT
BEGIN:VEVENT
DTSTART;TZID=America/New_York:20260224T150000
DTEND;TZID=America/New_York:20260224T160000
DTSTAMP:20260422T183315
CREATED:20260113T164145Z
LAST-MODIFIED:20260113T164145Z
UID:21831-1771945200-1771948800@wcpl.org
SUMMARY:New Dawn Inspirational Book Club (Goldsboro)
DESCRIPTION:Join us as we discuss books of Inspirational Fiction. This month we will be discussing the book Before We Were Us by Denise Hunter.  Please call 919-735-1824\, ext. 5102 to register. \n 
URL:https://wcpl.org/event/new-dawn-inspirational-book-club-goldsboro/
LOCATION:Wayne County Public Library – Goldsboro\, 1001 E Ash Street\, Goldsboro\, NC\, 27530\, United States
CATEGORIES:Adult,Goldsboro,Library Book Club
END:VEVENT
BEGIN:VEVENT
DTSTART;TZID=America/New_York:20260225T100000
DTEND;TZID=America/New_York:20260225T110000
DTSTAMP:20260422T183315
CREATED:20260107T200419Z
LAST-MODIFIED:20260108T202603Z
UID:21746-1772013600-1772017200@wcpl.org
SUMMARY:Open Makerspace Hours (Steele Mem.)
DESCRIPTION:Bring your own supplies and use our makerspace tools – Cricut\, sewing\, knitting\, crochet – on our big craft tables. \n 
URL:https://wcpl.org/event/open-makerspace-hours-steele-mem-45/
LOCATION:Steele Memorial Library\, 119 W Main St.\, Mt. Olive\, NC\, 28365\, United States
CATEGORIES:Adult,Needlework,Steele Memorial
END:VEVENT
BEGIN:VEVENT
DTSTART;TZID=America/New_York:20260226T150000
DTEND;TZID=America/New_York:20260226T160000
DTSTAMP:20260422T183315
CREATED:20260107T194039Z
LAST-MODIFIED:20260108T202645Z
UID:21726-1772118000-1772121600@wcpl.org
SUMMARY:Cardio Drumming (Steele Mem.)
DESCRIPTION:Cardio drumming is an adult class that brings together drumsticks\, an exercise ball\, and stand to create one of the most fun workouts you’ll ever do.  Please call 919-299-8105 ext. 5351 to register. \n 
URL:https://wcpl.org/event/cardio-drumming-steele-mem-24/
LOCATION:Steele Memorial Library\, 119 W Main St.\, Mt. Olive\, NC\, 28365\, United States
CATEGORIES:Adult,Steele Memorial
END:VEVENT
BEGIN:VEVENT
DTSTART;TZID=America/New_York:20260226T180000
DTEND;TZID=America/New_York:20260226T190000
DTSTAMP:20260422T183315
CREATED:20260113T164509Z
LAST-MODIFIED:20260129T184643Z
UID:21833-1772128800-1772132400@wcpl.org
SUMMARY:Silent Read N’ Sip
DESCRIPTION:Instead of setting time constraints on yourself to read a certain type of book\, visit a newer type of book club where you can read whatever you want. We’ll begin by talking about what books we are currently reading. Later\, you will silently read the book you brought to our club. Feel free to read print or electronic books. This is meant to be a quiet\, cozy\, and relaxing time for everyone. \nMeet in the Local History Room.
URL:https://wcpl.org/event/silent-read-n-sip-6/
LOCATION:Wayne County Public Library – Goldsboro\, 1001 E Ash Street\, Goldsboro\, NC\, 27530\, United States
CATEGORIES:Adult,Goldsboro,Library Book Club
END:VEVENT
BEGIN:VEVENT
DTSTART;TZID=America/New_York:20260227T100000
DTEND;TZID=America/New_York:20260227T110000
DTSTAMP:20260422T183315
CREATED:20260107T194715Z
LAST-MODIFIED:20260108T202719Z
UID:21734-1772186400-1772190000@wcpl.org
SUMMARY:Morning Meditations (Steele Mem.)
DESCRIPTION:We will be stretching for 20-30 minutes for flexibility and then doing some Zen tangles for relaxation.  Please call 919-299-8105 ext. 5351 to register. \n 
URL:https://wcpl.org/event/morning-meditations-steele-mem-14/
LOCATION:Steele Memorial Library\, 119 W Main St.\, Mt. Olive\, NC\, 28365\, United States
CATEGORIES:Adult,Steele Memorial
END:VEVENT
BEGIN:VEVENT
DTSTART;TZID=America/New_York:20260227T130000
DTEND;TZID=America/New_York:20260227T160000
DTSTAMP:20260422T183315
CREATED:20260107T200947Z
LAST-MODIFIED:20260108T202733Z
UID:21754-1772197200-1772208000@wcpl.org
SUMMARY:Open Makerspace Hours (Steele Mem.)
DESCRIPTION:Bring your own supplies and use our makerspace tools – Cricut\, sewing\, knitting\, crochet – on our big craft tables. \n 
URL:https://wcpl.org/event/open-makerspace-hours-steele-mem-49/
LOCATION:Steele Memorial Library\, 119 W Main St.\, Mt. Olive\, NC\, 28365\, United States
CATEGORIES:Adult,Needlework,Steele Memorial
END:VEVENT
END:VCALENDAR