BEGIN:VCALENDAR
VERSION:2.0
PRODID:-//Wayne County Public Library - ECPv6.15.20//NONSGML v1.0//EN
CALSCALE:GREGORIAN
METHOD:PUBLISH
X-ORIGINAL-URL:https://wcpl.org
X-WR-CALDESC:Events for Wayne County Public Library
REFRESH-INTERVAL;VALUE=DURATION:PT1H
X-Robots-Tag:noindex
X-PUBLISHED-TTL:PT1H
BEGIN:VTIMEZONE
TZID:America/New_York
BEGIN:DAYLIGHT
TZOFFSETFROM:-0500
TZOFFSETTO:-0400
TZNAME:EDT
DTSTART:20250309T070000
END:DAYLIGHT
BEGIN:STANDARD
TZOFFSETFROM:-0400
TZOFFSETTO:-0500
TZNAME:EST
DTSTART:20251102T060000
END:STANDARD
BEGIN:DAYLIGHT
TZOFFSETFROM:-0500
TZOFFSETTO:-0400
TZNAME:EDT
DTSTART:20260308T070000
END:DAYLIGHT
BEGIN:STANDARD
TZOFFSETFROM:-0400
TZOFFSETTO:-0500
TZNAME:EST
DTSTART:20261101T060000
END:STANDARD
BEGIN:DAYLIGHT
TZOFFSETFROM:-0500
TZOFFSETTO:-0400
TZNAME:EDT
DTSTART:20270314T070000
END:DAYLIGHT
BEGIN:STANDARD
TZOFFSETFROM:-0400
TZOFFSETTO:-0500
TZNAME:EST
DTSTART:20271107T060000
END:STANDARD
END:VTIMEZONE
BEGIN:VEVENT
DTSTART;TZID=America/New_York:20260120T100000
DTEND;TZID=America/New_York:20260120T120000
DTSTAMP:20260422T180518
CREATED:20251203T181637Z
LAST-MODIFIED:20251203T181637Z
UID:21316-1768903200-1768910400@wcpl.org
SUMMARY:Northern Wayne Stitchers 
DESCRIPTION:The program is designed to create a relaxed\, welcoming environment where participants can focus on honing their craft while receiving the support they need to challenge themselves creatively. It’s an ideal opportunity for experienced stitchers to elevate their work\, troubleshoot projects\, and continue growing as artisans. Registration is required.  Please call 919-705-1892 to register. \n 
URL:https://wcpl.org/event/northern-wayne-stitchers-9/
LOCATION:Northern Wayne Library\, 609 S. Wilson St.\, Fremont\, NC\, 27830\, United States
CATEGORIES:Adult,Needlework,Northern Wayne Library
END:VEVENT
BEGIN:VEVENT
DTSTART;TZID=America/New_York:20260120T140000
DTEND;TZID=America/New_York:20260120T150000
DTSTAMP:20260422T180518
CREATED:20251210T175224Z
LAST-MODIFIED:20251210T175224Z
UID:21378-1768917600-1768921200@wcpl.org
SUMMARY:Digitization Workshop
DESCRIPTION:Do you have photographs\, negatives\, or documents you want to digitize? Join us to learn how to digitize your precious memories using our archival scanner? Bring your own photos! (Limit 3 per person). Call 919-735-1824 ext 5100 to register. \n 
URL:https://wcpl.org/event/digitization-workshop/
LOCATION:Wayne County Public Library – Goldsboro\, 1001 E Ash Street\, Goldsboro\, NC\, 27530\, United States
CATEGORIES:Adult,Goldsboro,Local History
END:VEVENT
BEGIN:VEVENT
DTSTART;TZID=America/New_York:20260120T173000
DTEND;TZID=America/New_York:20260120T183000
DTSTAMP:20260422T180518
CREATED:20251210T175624Z
LAST-MODIFIED:20251210T175624Z
UID:21380-1768930200-1768933800@wcpl.org
SUMMARY:Goldsboro Cross Stitchers 
DESCRIPTION:Join us and connect with other people who enjoy cross stitch. Bring your own materials and learn helpful tips and tricks! Call 919-735-1824 ext 5100 for more information. \n 
URL:https://wcpl.org/event/goldsboro-cross-stitchers-11/
LOCATION:Wayne County Public Library – Goldsboro\, 1001 E Ash Street\, Goldsboro\, NC\, 27530\, United States
CATEGORIES:Adult,Goldsboro,Needlework
END:VEVENT
BEGIN:VEVENT
DTSTART;TZID=America/New_York:20260120T173000
DTEND;TZID=America/New_York:20260120T183000
DTSTAMP:20260422T180518
CREATED:20251210T180004Z
LAST-MODIFIED:20251210T180004Z
UID:21382-1768930200-1768933800@wcpl.org
SUMMARY:Writing Workshop: Stories that Stay 
DESCRIPTION:Stories That Stay is a monthly memoir writing workshop through the North Carolina Writers Network. Each session offers a space to reflect and connect through personal storytelling and lived experience. All writers are welcome to join and grow their voice. Call 919-735-1824 ext 1830 to register. \n 
URL:https://wcpl.org/event/writing-workshop-stories-that-stay/
LOCATION:Wayne County Public Library – Goldsboro\, 1001 E Ash Street\, Goldsboro\, NC\, 27530\, United States
CATEGORIES:Adult,Goldsboro
END:VEVENT
BEGIN:VEVENT
DTSTART;TZID=America/New_York:20260121T100000
DTEND;TZID=America/New_York:20260121T130000
DTSTAMP:20260422T180518
CREATED:20251203T170932Z
LAST-MODIFIED:20251203T170932Z
UID:21284-1768989600-1769000400@wcpl.org
SUMMARY:Open Makerspace Hours (Steele Mem.)
DESCRIPTION:Bring your own supplies and use our makerspace tools – Cricut\, sewing\, knitting\, crochet – on our big craft tables. \n 
URL:https://wcpl.org/event/open-makerspace-hours-steele-mem-35/
LOCATION:Steele Memorial Library\, 119 W Main St.\, Mt. Olive\, NC\, 28365\, United States
CATEGORIES:Adult,Steele Memorial
END:VEVENT
BEGIN:VEVENT
DTSTART;TZID=America/New_York:20260121T150000
DTEND;TZID=America/New_York:20260121T160000
DTSTAMP:20260422T180518
CREATED:20251203T164956Z
LAST-MODIFIED:20251203T164956Z
UID:21274-1769007600-1769011200@wcpl.org
SUMMARY:Book Bouquet Craft  (Steele Mem.)
DESCRIPTION:We will make a beautiful centerpiece using books and artificial flowers.  Please call 919-299-8105 ext. 5351 to register. \n 
URL:https://wcpl.org/event/book-bouquet-craft-steele-mem/
LOCATION:Steele Memorial Library\, 119 W Main St.\, Mt. Olive\, NC\, 28365\, United States
CATEGORIES:Adult,Steele Memorial
END:VEVENT
BEGIN:VEVENT
DTSTART;TZID=America/New_York:20260121T150000
DTEND;TZID=America/New_York:20260121T160000
DTSTAMP:20260422T180518
CREATED:20251209T170413Z
LAST-MODIFIED:20251209T170413Z
UID:21364-1769007600-1769011200@wcpl.org
SUMMARY:Cardio Drumming  (Goldsboro)
DESCRIPTION:Join us for Cardio Drumming. Work up a sweat and get into a groovy rhythm! Call 919-735-1824 ext 5100 to register! \n 
URL:https://wcpl.org/event/cardio-drumming-goldsboro-22/
LOCATION:Wayne County Public Library – Goldsboro\, 1001 E Ash Street\, Goldsboro\, NC\, 27530\, United States
CATEGORIES:Adult,Goldsboro
END:VEVENT
BEGIN:VEVENT
DTSTART;TZID=America/New_York:20260121T173000
DTEND;TZID=America/New_York:20260121T190000
DTSTAMP:20260422T180518
CREATED:20251210T180401Z
LAST-MODIFIED:20251210T180401Z
UID:21384-1769016600-1769022000@wcpl.org
SUMMARY:Handmade & Hollywood 
DESCRIPTION:Join us for an evening of crafting and classic cinema! Bring your own materials for the craft of your choice while we watch a timeless classic comedy starring Elizabeth Taylor and Spencer Tracy. Call 919-735-1824 ext 5100 for more information. \n 
URL:https://wcpl.org/event/handmade-hollywood/
LOCATION:Wayne County Public Library – Goldsboro\, 1001 E Ash Street\, Goldsboro\, NC\, 27530\, United States
CATEGORIES:Adult,Goldsboro
END:VEVENT
BEGIN:VEVENT
DTSTART;TZID=America/New_York:20260122T150000
DTEND;TZID=America/New_York:20260122T160000
DTSTAMP:20260422T180518
CREATED:20251203T164606Z
LAST-MODIFIED:20251203T164606Z
UID:21268-1769094000-1769097600@wcpl.org
SUMMARY:Cardio Drumming (Steele Mem.)
DESCRIPTION:Cardio drumming is an adult class that brings together drumsticks\, an exercise ball\, and stand to create one of the most fun workouts you’ll ever do.  Please call 919-299-8105 ext. 5351 to register. \n 
URL:https://wcpl.org/event/cardio-drumming-steele-mem-20/
LOCATION:Steele Memorial Library\, 119 W Main St.\, Mt. Olive\, NC\, 28365\, United States
CATEGORIES:Adult,Steele Memorial
END:VEVENT
BEGIN:VEVENT
DTSTART;TZID=America/New_York:20260122T150000
DTEND;TZID=America/New_York:20260122T160000
DTSTAMP:20260422T180518
CREATED:20251210T180513Z
LAST-MODIFIED:20251210T180513Z
UID:21386-1769094000-1769097600@wcpl.org
SUMMARY:Introduction to Smartphones 
DESCRIPTION:Not sure how to navigate your smartphone? We are here to help. Learn tips and tricks about what your phone can do! Call 919-735-1824 ext 5100 to register. \n 
URL:https://wcpl.org/event/introduction-to-smartphones/
LOCATION:Wayne County Public Library – Goldsboro\, 1001 E Ash Street\, Goldsboro\, NC\, 27530\, United States
CATEGORIES:Adult,Goldsboro
END:VEVENT
BEGIN:VEVENT
DTSTART;TZID=America/New_York:20260122T180000
DTEND;TZID=America/New_York:20260122T190000
DTSTAMP:20260422T180518
CREATED:20251210T190021Z
LAST-MODIFIED:20251210T190021Z
UID:21392-1769104800-1769108400@wcpl.org
SUMMARY:Silent Read N’ Sip
DESCRIPTION:Instead of setting time constraints on yourself to read a certain type of book\, visit a newer type of book club where you can read whatever you want. We’ll begin by talking about what books we are currently reading. Later\, you will silently read the book you brought to our club. Feel free to read print or electronic books. This is meant to be a quiet\, cozy\, and relaxing time for everyone. \n 
URL:https://wcpl.org/event/silent-read-n-sip-5/
LOCATION:Wayne County Public Library – Goldsboro\, 1001 E Ash Street\, Goldsboro\, NC\, 27530\, United States
CATEGORIES:Adult,Goldsboro,Library Book Club
END:VEVENT
BEGIN:VEVENT
DTSTART;TZID=America/New_York:20260123T130000
DTEND;TZID=America/New_York:20260123T160000
DTSTAMP:20260422T180518
CREATED:20251203T172057Z
LAST-MODIFIED:20251203T172057Z
UID:21294-1769173200-1769184000@wcpl.org
SUMMARY:Open Makerspace Hours  (Steele Mem.)
DESCRIPTION:Bring your own supplies and use our makerspace tools – Cricut\, sewing\, knitting\, crochet – on our big craft tables. \n 
URL:https://wcpl.org/event/open-makerspace-hours-steele-mem-40/
LOCATION:Steele Memorial Library\, 119 W Main St.\, Mt. Olive\, NC\, 28365\, United States
CATEGORIES:Adult,Steele Memorial
END:VEVENT
BEGIN:VEVENT
DTSTART;TZID=America/New_York:20260124T140000
DTEND;TZID=America/New_York:20260124T150000
DTSTAMP:20260422T180518
CREATED:20251210T180638Z
LAST-MODIFIED:20251210T180638Z
UID:21388-1769263200-1769266800@wcpl.org
SUMMARY:Origami Hour 
DESCRIPTION:Practice the ancient art of origami! Follow along step-by-step and bring home your own tiny critter. Call 919-735-1824 ext 5100 to register. \n 
URL:https://wcpl.org/event/origami-hour/
LOCATION:Wayne County Public Library – Goldsboro\, 1001 E Ash Street\, Goldsboro\, NC\, 27530\, United States
CATEGORIES:Adult,Goldsboro
END:VEVENT
BEGIN:VEVENT
DTSTART;TZID=America/New_York:20260126T143000
DTEND;TZID=America/New_York:20260126T153000
DTSTAMP:20260422T180518
CREATED:20251210T182045Z
LAST-MODIFIED:20251210T182045Z
UID:21390-1769437800-1769441400@wcpl.org
SUMMARY:Why Knot: Knit and Crochet 
DESCRIPTION:Do you enjoy knitting and crochet? Join like-minded enthusiasts once a month to knit and crochet while sharing tips\, tricks\, and resources. Bring your own materials. Call 919-735-1824 ext 5100 for more information. \n 
URL:https://wcpl.org/event/why-knot-knit-and-crochet/
LOCATION:Wayne County Public Library – Goldsboro\, 1001 E Ash Street\, Goldsboro\, NC\, 27530\, United States
CATEGORIES:Adult,Goldsboro,Needlework
END:VEVENT
BEGIN:VEVENT
DTSTART;TZID=America/New_York:20260126T180000
DTEND;TZID=America/New_York:20260126T190000
DTSTAMP:20260422T180518
CREATED:20251209T165737Z
LAST-MODIFIED:20251209T165737Z
UID:21356-1769450400-1769454000@wcpl.org
SUMMARY:TV Hour: Home Improvement 
DESCRIPTION:Celebrate the best of television with our weekly watch party! Enjoy the heartfelt sitcom that taught us that the best improvement happens within. Registration highly recommended. Seating is limited. Call 919-735-1824 ext 5100 to register!  \n 
URL:https://wcpl.org/event/tv-hour-home-improvement-3/
LOCATION:Wayne County Public Library – Goldsboro\, 1001 E Ash Street\, Goldsboro\, NC\, 27530\, United States
CATEGORIES:Adult,Goldsboro
END:VEVENT
BEGIN:VEVENT
DTSTART;TZID=America/New_York:20260127T150000
DTEND;TZID=America/New_York:20260127T160000
DTSTAMP:20260422T180518
CREATED:20251217T184121Z
LAST-MODIFIED:20251217T184121Z
UID:21460-1769526000-1769529600@wcpl.org
SUMMARY:New Dawn Inspirational Book Club
DESCRIPTION:Join us as we discuss books of Inspirational Fiction. This month we will be discussing the book Long Way Gone by Charles Martin.  Please call 919-735-1824\, ext. 5102 to register. \n 
URL:https://wcpl.org/event/new-dawn-inspirational-book-club-8/
LOCATION:Wayne County Public Library – Goldsboro\, 1001 E Ash Street\, Goldsboro\, NC\, 27530\, United States
CATEGORIES:Adult,Goldsboro,Library Book Club
END:VEVENT
BEGIN:VEVENT
DTSTART;TZID=America/New_York:20260128T100000
DTEND;TZID=America/New_York:20260128T130000
DTSTAMP:20260422T180518
CREATED:20251203T171049Z
LAST-MODIFIED:20251203T171049Z
UID:21286-1769594400-1769605200@wcpl.org
SUMMARY:Open Makerspace Hours (Steele Mem.)
DESCRIPTION:Bring your own supplies and use our makerspace tools – Cricut\, sewing\, knitting\, crochet – on our big craft tables. \n 
URL:https://wcpl.org/event/open-makerspace-hours-steele-mem-36/
LOCATION:Steele Memorial Library\, 119 W Main St.\, Mt. Olive\, NC\, 28365\, United States
CATEGORIES:Adult,Steele Memorial
END:VEVENT
BEGIN:VEVENT
DTSTART;TZID=America/New_York:20260128T180000
DTEND;TZID=America/New_York:20260128T190000
DTSTAMP:20260422T180518
CREATED:20251217T185107Z
LAST-MODIFIED:20251217T185107Z
UID:21462-1769623200-1769626800@wcpl.org
SUMMARY:Paint & Sip
DESCRIPTION:Paint a picture with us – all skill levels welcomed and encouraged! Registration required. Call (919) 735-1824 ext 5102 or email jamie.tyler@waynegov.com to register. \n 
URL:https://wcpl.org/event/paint-sip/
LOCATION:Wayne County Public Library – Goldsboro\, 1001 E Ash Street\, Goldsboro\, NC\, 27530\, United States
CATEGORIES:Adult,Goldsboro
END:VEVENT
BEGIN:VEVENT
DTSTART;TZID=America/New_York:20260129T150000
DTEND;TZID=America/New_York:20260129T160000
DTSTAMP:20260422T180518
CREATED:20251203T164703Z
LAST-MODIFIED:20251203T164703Z
UID:21270-1769698800-1769702400@wcpl.org
SUMMARY:Cardio Drumming (Steele Mem.)
DESCRIPTION:Cardio drumming is an adult class that brings together drumsticks\, an exercise ball\, and stand to create one of the most fun workouts you’ll ever do.  Please call 919-299-8105 ext. 5351 to register. \n 
URL:https://wcpl.org/event/cardio-drumming-steele-mem-21/
LOCATION:Steele Memorial Library\, 119 W Main St.\, Mt. Olive\, NC\, 28365\, United States
CATEGORIES:Adult,Steele Memorial
END:VEVENT
BEGIN:VEVENT
DTSTART;TZID=America/New_York:20260130T130000
DTEND;TZID=America/New_York:20260130T160000
DTSTAMP:20260422T180518
CREATED:20251203T172325Z
LAST-MODIFIED:20251203T172325Z
UID:21296-1769778000-1769788800@wcpl.org
SUMMARY:Open Makerspace Hours  (Steele Mem.)
DESCRIPTION:Bring your own supplies and use our makerspace tools – Cricut\, sewing\, knitting\, crochet – on our big craft tables. \n 
URL:https://wcpl.org/event/open-makerspace-hours-steele-mem-41/
LOCATION:Steele Memorial Library\, 119 W Main St.\, Mt. Olive\, NC\, 28365\, United States
CATEGORIES:Adult,Steele Memorial
END:VEVENT
BEGIN:VEVENT
DTSTART;TZID=America/New_York:20260202T100000
DTEND;TZID=America/New_York:20260202T110000
DTSTAMP:20260422T180518
CREATED:20260108T162645Z
LAST-MODIFIED:20260108T195456Z
UID:21792-1770026400-1770030000@wcpl.org
SUMMARY:Northern Wayne Inspirational Book Club
DESCRIPTION:Each month we dive into stories of perseverance\, growth and transformation. Our book club offers a warm and welcoming space where readers can connect\, share thoughts and enjoy meaningful conversation. You’ll discover new authors\, explore uplifting themes and leave each meeting feeling inspired and encouraged. Registration is required. Please call 919-705-1892 to register. \nThis month we will be discussing The Divine Proverb of Streusel by Sara Brunsvold. \n 
URL:https://wcpl.org/event/northern-wayne-inspirational-book-club-7/
LOCATION:Northern Wayne Library\, 609 S. Wilson St.\, Fremont\, NC\, 27830\, United States
CATEGORIES:Adult,Library Book Club,Northern Wayne Library
END:VEVENT
BEGIN:VEVENT
DTSTART;TZID=America/New_York:20260203T100000
DTEND;TZID=America/New_York:20260203T120000
DTSTAMP:20260422T180518
CREATED:20260108T154249Z
LAST-MODIFIED:20260108T195607Z
UID:21786-1770112800-1770120000@wcpl.org
SUMMARY:Northern Wayne Stitchers
DESCRIPTION:The program is designed to create a relaxed\, welcoming environment where participants can focus on honing their craft while receiving the support they need to challenge themselves creatively. It’s an ideal opportunity for experienced stitchers to elevate their work\, troubleshoot projects\, and continue growing as artisans. Registration is required.  Please call 919-705-1892 to register. \n 
URL:https://wcpl.org/event/northern-wayne-stitchers-10/
LOCATION:Northern Wayne Library\, 609 S. Wilson St.\, Fremont\, NC\, 27830\, United States
CATEGORIES:Adult,Needlework,Northern Wayne Library
END:VEVENT
BEGIN:VEVENT
DTSTART;TZID=America/New_York:20260203T150000
DTEND;TZID=America/New_York:20260203T160000
DTSTAMP:20260422T180518
CREATED:20260107T130503Z
LAST-MODIFIED:20260108T195637Z
UID:21646-1770130800-1770134400@wcpl.org
SUMMARY:Music Bingo: Love Songs 
DESCRIPTION:Join us as we celebrate Valentine’s Day with a special love song edition of Music Bingo! Grab a card\, listen to some groovy tunes\, and win a prize! Call 919-735-1824 ext 5100 to register. \n 
URL:https://wcpl.org/event/music-bingo-love-songs/
LOCATION:Wayne County Public Library – Goldsboro\, 1001 E Ash Street\, Goldsboro\, NC\, 27530\, United States
CATEGORIES:Adult,Goldsboro
END:VEVENT
BEGIN:VEVENT
DTSTART;TZID=America/New_York:20260203T150000
DTEND;TZID=America/New_York:20260203T190000
DTSTAMP:20260422T180518
CREATED:20260107T194209Z
LAST-MODIFIED:20260108T195709Z
UID:21728-1770130800-1770145200@wcpl.org
SUMMARY:Steele Stitchers
DESCRIPTION:Come join our cross-stitching group!  All levels of skill are welcome.  Drop in for a bit or stay for awhile.  Please call 919-299-8105 ext. 5351 to register. \n 
URL:https://wcpl.org/event/steele-stitchers-6/
LOCATION:Steele Memorial Library\, 119 W Main St.\, Mt. Olive\, NC\, 28365\, United States
CATEGORIES:Adult,Needlework,Steele Memorial
END:VEVENT
BEGIN:VEVENT
DTSTART;TZID=America/New_York:20260204T100000
DTEND;TZID=America/New_York:20260204T130000
DTSTAMP:20260422T180518
CREATED:20260107T195410Z
LAST-MODIFIED:20260108T200001Z
UID:21740-1770199200-1770210000@wcpl.org
SUMMARY:Open Makerspace Hours (Steele Mem.)
DESCRIPTION:Bring your own supplies and use our makerspace tools – Cricut\, sewing\, knitting\, crochet – on our big craft tables. \n 
URL:https://wcpl.org/event/open-makerspace-hours-steele-mem-42/
LOCATION:Steele Memorial Library\, 119 W Main St.\, Mt. Olive\, NC\, 28365\, United States
CATEGORIES:Adult,Needlework,Steele Memorial
END:VEVENT
BEGIN:VEVENT
DTSTART;TZID=America/New_York:20260204T150000
DTEND;TZID=America/New_York:20260204T160000
DTSTAMP:20260422T180518
CREATED:20260107T132513Z
LAST-MODIFIED:20260108T200039Z
UID:21648-1770217200-1770220800@wcpl.org
SUMMARY:Cardio Drumming (Goldsboro)
DESCRIPTION:Try something new this year and join us for cardio drumming! Work up a sweat and get into a groovy rhythm. Call 919-735-1824 ext 5100 to register!
URL:https://wcpl.org/event/cardio-drumming-goldsboro-23/
LOCATION:Wayne County Public Library – Goldsboro\, 1001 E Ash Street\, Goldsboro\, NC\, 27530\, United States
CATEGORIES:Adult,Goldsboro
END:VEVENT
BEGIN:VEVENT
DTSTART;TZID=America/New_York:20260205T150000
DTEND;TZID=America/New_York:20260205T160000
DTSTAMP:20260422T180518
CREATED:20260107T132800Z
LAST-MODIFIED:20260108T200227Z
UID:21652-1770303600-1770307200@wcpl.org
SUMMARY:Tech for Older Adults 
DESCRIPTION:Are you an older adult who wants to learn more about technology? We can help! Join us as we help with your basic technological needs!   Call 919-735-1824 ext 5100 to register. \n 
URL:https://wcpl.org/event/tech-for-older-adults-10/
LOCATION:Wayne County Public Library – Goldsboro\, 1001 E Ash Street\, Goldsboro\, NC\, 27530\, United States
CATEGORIES:Adult,Goldsboro
END:VEVENT
BEGIN:VEVENT
DTSTART;TZID=America/New_York:20260205T150000
DTEND;TZID=America/New_York:20260205T160000
DTSTAMP:20260422T180518
CREATED:20260107T193801Z
LAST-MODIFIED:20260108T200301Z
UID:21722-1770303600-1770307200@wcpl.org
SUMMARY:Cardio Drumming (Steele Mem.)
DESCRIPTION:Cardio drumming is an adult class that brings together drumsticks\, an exercise ball\, and stand to create one of the most fun workouts you’ll ever do.  Please call 919-299-8105 ext. 5351 to register. \n 
URL:https://wcpl.org/event/cardio-drumming-steele-mem-22/
LOCATION:Steele Memorial Library\, 119 W Main St.\, Mt. Olive\, NC\, 28365\, United States
CATEGORIES:Adult,Steele Memorial
END:VEVENT
BEGIN:VEVENT
DTSTART;TZID=America/New_York:20260206T130000
DTEND;TZID=America/New_York:20260206T160000
DTSTAMP:20260422T180518
CREATED:20260107T200541Z
LAST-MODIFIED:20260108T200615Z
UID:21748-1770382800-1770393600@wcpl.org
SUMMARY:Open Makerspace Hours (Steele Mem.)
DESCRIPTION:Bring your own supplies and use our makerspace tools – Cricut\, sewing\, knitting\, crochet – on our big craft tables. \n 
URL:https://wcpl.org/event/open-makerspace-hours-steele-mem-46/
LOCATION:Steele Memorial Library\, 119 W Main St.\, Mt. Olive\, NC\, 28365\, United States
CATEGORIES:Adult,Needlework,Steele Memorial
END:VEVENT
BEGIN:VEVENT
DTSTART;TZID=America/New_York:20260207T100000
DTEND;TZID=America/New_York:20260207T113000
DTSTAMP:20260422T180518
CREATED:20260107T132923Z
LAST-MODIFIED:20260108T200651Z
UID:21654-1770458400-1770463800@wcpl.org
SUMMARY:Adult Crafting: Floating Tea Cups 
DESCRIPTION:Join us as we design and create a beautiful flower arrangement using a tea cup\, saucer\, flowers\, and a little imagination! Registration required. Call 919-735-1824 ext 5100 to register. \n 
URL:https://wcpl.org/event/adult-crafting-floating-tea-cups/
LOCATION:Wayne County Public Library – Goldsboro\, 1001 E Ash Street\, Goldsboro\, NC\, 27530\, United States
CATEGORIES:Adult,Goldsboro
END:VEVENT
END:VCALENDAR