BEGIN:VCALENDAR
VERSION:2.0
PRODID:-//Wayne County Public Library - ECPv6.15.20//NONSGML v1.0//EN
CALSCALE:GREGORIAN
METHOD:PUBLISH
X-WR-CALNAME:Wayne County Public Library
X-ORIGINAL-URL:https://wcpl.org
X-WR-CALDESC:Events for Wayne County Public Library
REFRESH-INTERVAL;VALUE=DURATION:PT1H
X-Robots-Tag:noindex
X-PUBLISHED-TTL:PT1H
BEGIN:VTIMEZONE
TZID:America/New_York
BEGIN:DAYLIGHT
TZOFFSETFROM:-0500
TZOFFSETTO:-0400
TZNAME:EDT
DTSTART:20240310T070000
END:DAYLIGHT
BEGIN:STANDARD
TZOFFSETFROM:-0400
TZOFFSETTO:-0500
TZNAME:EST
DTSTART:20241103T060000
END:STANDARD
BEGIN:DAYLIGHT
TZOFFSETFROM:-0500
TZOFFSETTO:-0400
TZNAME:EDT
DTSTART:20250309T070000
END:DAYLIGHT
BEGIN:STANDARD
TZOFFSETFROM:-0400
TZOFFSETTO:-0500
TZNAME:EST
DTSTART:20251102T060000
END:STANDARD
BEGIN:DAYLIGHT
TZOFFSETFROM:-0500
TZOFFSETTO:-0400
TZNAME:EDT
DTSTART:20260308T070000
END:DAYLIGHT
BEGIN:STANDARD
TZOFFSETFROM:-0400
TZOFFSETTO:-0500
TZNAME:EST
DTSTART:20261101T060000
END:STANDARD
END:VTIMEZONE
BEGIN:VEVENT
DTSTART;TZID=America/New_York:20250618T100000
DTEND;TZID=America/New_York:20250618T130000
DTSTAMP:20260423T062614
CREATED:20250502T174637Z
LAST-MODIFIED:20250502T174810Z
UID:17871-1750240800-1750251600@wcpl.org
SUMMARY:Open Makerspace Hours  (Steele Mem.)
DESCRIPTION:Bring your own supplies and use our makerspace tools – Cricut\, sewing\, knitting\, crochet – on our big craft tables. \n 
URL:https://wcpl.org/event/open-makerspace-hours-steele-mem-130/
LOCATION:Steele Memorial Library\, 119 W Main St.\, Mt. Olive\, NC\, 28365\, United States
CATEGORIES:Adult,Steele Memorial
END:VEVENT
BEGIN:VEVENT
DTSTART;TZID=America/New_York:20250618T150000
DTEND;TZID=America/New_York:20250618T163000
DTSTAMP:20260423T062614
CREATED:20250502T165930Z
LAST-MODIFIED:20250502T165930Z
UID:17863-1750258800-1750264200@wcpl.org
SUMMARY:Paint Like Alma Woodsey Thomas (Steele Mem.)
DESCRIPTION:We will learn a simple painting technique along with a bit of art history.  Please call 919-299-8105 ext. 5351 to register. \n 
URL:https://wcpl.org/event/paint-like-alma-woodsey-thomas-steele-mem/
LOCATION:Steele Memorial Library\, 119 W Main St.\, Mt. Olive\, NC\, 28365\, United States
CATEGORIES:Adult,Steele Memorial
END:VEVENT
BEGIN:VEVENT
DTSTART;TZID=America/New_York:20250618T170000
DTEND;TZID=America/New_York:20250618T190000
DTSTAMP:20260423T062614
CREATED:20250507T184628Z
LAST-MODIFIED:20250507T184628Z
UID:17974-1750266000-1750273200@wcpl.org
SUMMARY:Documentary Night 
DESCRIPTION:Join us for a screening of the PBS documentary film Making Black America. Call 919-735-1824 ext 1830 for more information. \n 
URL:https://wcpl.org/event/documentary-night-2/
LOCATION:Wayne County Public Library – Goldsboro\, 1001 E Ash Street\, Goldsboro\, NC\, 27530\, United States
CATEGORIES:Adult,Goldsboro,Local History
END:VEVENT
BEGIN:VEVENT
DTSTART;TZID=America/New_York:20250619T150000
DTEND;TZID=America/New_York:20250619T160000
DTSTAMP:20260423T062614
CREATED:20250502T164747Z
LAST-MODIFIED:20250502T164747Z
UID:17851-1750345200-1750348800@wcpl.org
SUMMARY:Cardio Drumming (Steele Mem.)
DESCRIPTION:Cardio drumming is an adult class that brings together drumsticks\, an exercise ball\, and stand to create one of the most fun workouts you’ll ever do.  Please call 919-299-8105 ext. 5351 to register. \n 
URL:https://wcpl.org/event/cardio-drumming-steele-mem-56/
LOCATION:Steele Memorial Library\, 119 W Main St.\, Mt. Olive\, NC\, 28365\, United States
CATEGORIES:Adult,Steele Memorial
END:VEVENT
BEGIN:VEVENT
DTSTART;TZID=America/New_York:20250620T130000
DTEND;TZID=America/New_York:20250620T160000
DTSTAMP:20260423T062614
CREATED:20250502T175222Z
LAST-MODIFIED:20250502T175222Z
UID:17879-1750424400-1750435200@wcpl.org
SUMMARY:Open Makerspace Hours  (Steele Mem.)
DESCRIPTION:Bring your own supplies and use our makerspace tools – Cricut\, sewing\, knitting\, crochet – on our big craft tables. \n 
URL:https://wcpl.org/event/open-makerspace-hours-steele-mem-134/
LOCATION:Steele Memorial Library\, 119 W Main St.\, Mt. Olive\, NC\, 28365\, United States
CATEGORIES:Adult,Steele Memorial
END:VEVENT
BEGIN:VEVENT
DTSTART;TZID=America/New_York:20250623T100000
DTEND;TZID=America/New_York:20250623T110000
DTSTAMP:20260423T062614
CREATED:20250502T165209Z
LAST-MODIFIED:20250502T165209Z
UID:17857-1750672800-1750676400@wcpl.org
SUMMARY:Morning Meditations (Steele Mem.)
DESCRIPTION:We will be stretching for 20-30 minutes for flexibility and then doing some Zen tangles for relaxation. Please call 919 299-8105 ext. 5351 to register. \n 
URL:https://wcpl.org/event/morning-meditations-steele-mem-6/
LOCATION:Steele Memorial Library\, 119 W Main St.\, Mt. Olive\, NC\, 28365\, United States
CATEGORIES:Adult,Steele Memorial
END:VEVENT
BEGIN:VEVENT
DTSTART;TZID=America/New_York:20250623T180000
DTEND;TZID=America/New_York:20250623T190000
DTSTAMP:20260423T062614
CREATED:20250507T184839Z
LAST-MODIFIED:20250507T184839Z
UID:17976-1750701600-1750705200@wcpl.org
SUMMARY:Cover Letter Workshop 
DESCRIPTION:Join us in the Local History Room for a workshop on writing a cover letter for any job. Come in to learn helpful writing tips and work on your own cover letters. Call 919-735-1824 ext 5100 to register.  Ages 16+ \n 
URL:https://wcpl.org/event/cover-letter-workshop/
LOCATION:Wayne County Public Library – Goldsboro\, 1001 E Ash Street\, Goldsboro\, NC\, 27530\, United States
CATEGORIES:Adult,Goldsboro,Teens
END:VEVENT
BEGIN:VEVENT
DTSTART;TZID=America/New_York:20250624T150000
DTEND;TZID=America/New_York:20250624T160000
DTSTAMP:20260423T062614
CREATED:20250527T173949Z
LAST-MODIFIED:20250527T173949Z
UID:18332-1750777200-1750780800@wcpl.org
SUMMARY:New Dawn Inspirational Book Club
DESCRIPTION:Join us as we discuss books of Inspirational Fiction. This month we will be discussing the book The Painter’s Daughter by Julie Klassen.  Please call 919-735-1824\, ext. 5102 to register. \n 
URL:https://wcpl.org/event/new-dawn-inspirational-book-club-2/
LOCATION:Wayne County Public Library – Goldsboro\, 1001 E Ash Street\, Goldsboro\, NC\, 27530\, United States
CATEGORIES:Adult,Goldsboro,Library Book Club
END:VEVENT
BEGIN:VEVENT
DTSTART;TZID=America/New_York:20250624T170000
DTEND;TZID=America/New_York:20250624T180000
DTSTAMP:20260423T062614
CREATED:20250507T185126Z
LAST-MODIFIED:20250507T185126Z
UID:17978-1750784400-1750788000@wcpl.org
SUMMARY:Horror Lit Club 
DESCRIPTION:Have a book you’re just dying to talk about? Grab a chair with the Horror Lit Club and come gush about your latest obsession. Spoilers are welcome. Registration not required\, but recommended: call 919-735-1824 ext. 5100.  Meet in the Yellow Study Room at the Goldsboro Library. \n 
URL:https://wcpl.org/event/horror-lit-club/
LOCATION:Wayne County Public Library – Goldsboro\, 1001 E Ash Street\, Goldsboro\, NC\, 27530\, United States
CATEGORIES:Adult,Goldsboro,Library Book Club
END:VEVENT
BEGIN:VEVENT
DTSTART;TZID=America/New_York:20250625T100000
DTEND;TZID=America/New_York:20250625T130000
DTSTAMP:20260423T062614
CREATED:20250502T174751Z
LAST-MODIFIED:20250502T174751Z
UID:17873-1750845600-1750856400@wcpl.org
SUMMARY:Open Makerspace Hours  (Steele Mem.)
DESCRIPTION:Bring your own supplies and use our makerspace tools – Cricut\, sewing\, knitting\, crochet – on our big craft tables. \n 
URL:https://wcpl.org/event/open-makerspace-hours-steele-mem-131/
LOCATION:Steele Memorial Library\, 119 W Main St.\, Mt. Olive\, NC\, 28365\, United States
CATEGORIES:Adult,Steele Memorial
END:VEVENT
BEGIN:VEVENT
DTSTART;TZID=America/New_York:20250625T150000
DTEND;TZID=America/New_York:20250625T160000
DTSTAMP:20260423T062614
CREATED:20250502T170115Z
LAST-MODIFIED:20250502T170115Z
UID:17865-1750863600-1750867200@wcpl.org
SUMMARY:The Story of Women & Art (Steele Mem.)
DESCRIPTION:We will watch a short film that explores the explosion of creative opportunities for women as the 20th century began.  Please call 919-299-8105 ext. 5351 to register. \n 
URL:https://wcpl.org/event/the-story-of-women-art-steele-mem/
LOCATION:Steele Memorial Library\, 119 W Main St.\, Mt. Olive\, NC\, 28365\, United States
CATEGORIES:Adult,Steele Memorial
END:VEVENT
BEGIN:VEVENT
DTSTART;TZID=America/New_York:20250625T150000
DTEND;TZID=America/New_York:20250625T160000
DTSTAMP:20260423T062614
CREATED:20250507T183437Z
LAST-MODIFIED:20250507T183437Z
UID:17960-1750863600-1750867200@wcpl.org
SUMMARY:Cardio Drumming (Goldsboro)
DESCRIPTION:Get into a groovy rhythm! Join us for Cardio Drumming! Registration required\, spots limited – call 919-735-1824 x5100. \n 
URL:https://wcpl.org/event/cardio-drumming-goldsboro-8/
LOCATION:Wayne County Public Library – Goldsboro\, 1001 E Ash Street\, Goldsboro\, NC\, 27530\, United States
CATEGORIES:Adult,Goldsboro
END:VEVENT
BEGIN:VEVENT
DTSTART;TZID=America/New_York:20250625T183000
DTEND;TZID=America/New_York:20250625T193000
DTSTAMP:20260423T062614
CREATED:20250508T175125Z
LAST-MODIFIED:20250508T175125Z
UID:18109-1750876200-1750879800@wcpl.org
SUMMARY:Paint & Sip Coffee
DESCRIPTION:Paint a picture with us – all skill levels welcomed and encouraged! Registration required. Call (919) 735-1824 ext 5102 or email jamie.tyler@waynegov.com to register. \n 
URL:https://wcpl.org/event/paint-sip-coffee-17/
LOCATION:Wayne County Public Library – Goldsboro\, 1001 E Ash Street\, Goldsboro\, NC\, 27530\, United States
CATEGORIES:Adult,Goldsboro
END:VEVENT
BEGIN:VEVENT
DTSTART;TZID=America/New_York:20250626T150000
DTEND;TZID=America/New_York:20250626T160000
DTSTAMP:20260423T062614
CREATED:20250502T164840Z
LAST-MODIFIED:20250502T164840Z
UID:17853-1750950000-1750953600@wcpl.org
SUMMARY:Cardio Drumming (Steele Mem.)
DESCRIPTION:Cardio drumming is an adult class that brings together drumsticks\, an exercise ball\, and stand to create one of the most fun workouts you’ll ever do.  Please call 919-299-8105 ext. 5351 to register. \n 
URL:https://wcpl.org/event/cardio-drumming-steele-mem-57/
LOCATION:Steele Memorial Library\, 119 W Main St.\, Mt. Olive\, NC\, 28365\, United States
CATEGORIES:Adult,Steele Memorial
END:VEVENT
BEGIN:VEVENT
DTSTART;TZID=America/New_York:20250626T180000
DTEND;TZID=America/New_York:20250626T190000
DTSTAMP:20260423T062614
CREATED:20250507T185854Z
LAST-MODIFIED:20250507T185854Z
UID:17982-1750960800-1750964400@wcpl.org
SUMMARY:Silent Read N’ Sip 
DESCRIPTION:Instead of setting time constraints on yourself to read a certain type of book\, visit a newer type of book club where you can read whatever you want. We’ll begin by talking about what books we are currently reading. Later\, you will silently read the book you brought to our club. Feel free to read print or electronic books. This is meant to be a quiet\, cozy\, and relaxing time for everyone. \n 
URL:https://wcpl.org/event/silent-read-n-sip-17/
LOCATION:Wayne County Public Library – Goldsboro\, 1001 E Ash Street\, Goldsboro\, NC\, 27530\, United States
CATEGORIES:Adult,Goldsboro,Library Book Club
END:VEVENT
BEGIN:VEVENT
DTSTART;TZID=America/New_York:20250627T130000
DTEND;TZID=America/New_York:20250627T160000
DTSTAMP:20260423T062614
CREATED:20250502T175316Z
LAST-MODIFIED:20250502T175316Z
UID:17881-1751029200-1751040000@wcpl.org
SUMMARY:Open Makerspace Hours  (Steele Mem.)
DESCRIPTION:Bring your own supplies and use our makerspace tools – Cricut\, sewing\, knitting\, crochet – on our big craft tables. \n 
URL:https://wcpl.org/event/open-makerspace-hours-steele-mem-135/
LOCATION:Steele Memorial Library\, 119 W Main St.\, Mt. Olive\, NC\, 28365\, United States
CATEGORIES:Adult,Steele Memorial
END:VEVENT
BEGIN:VEVENT
DTSTART;TZID=America/New_York:20250628T140000
DTEND;TZID=America/New_York:20250628T150000
DTSTAMP:20260423T062614
CREATED:20250507T185319Z
LAST-MODIFIED:20250507T185319Z
UID:17980-1751119200-1751122800@wcpl.org
SUMMARY:Studio Ghibli Fan Club: Ponyo 
DESCRIPTION:Bask in the world of Studio Ghibli with crafting and snacks! We’ll be painting with watercolors in honor of Ponyo! Ages 13+. Registration is required! To register\, call 919-735-1824 ext. 5110. \n 
URL:https://wcpl.org/event/studio-ghibli-fan-club-ponyo/
LOCATION:Wayne County Public Library – Goldsboro\, 1001 E Ash Street\, Goldsboro\, NC\, 27530\, United States
CATEGORIES:Adult,Goldsboro,Teens
END:VEVENT
BEGIN:VEVENT
DTSTART;TZID=America/New_York:20250701T100000
DTEND;TZID=America/New_York:20250701T110000
DTSTAMP:20260423T062614
CREATED:20250604T194334Z
LAST-MODIFIED:20250604T194334Z
UID:18524-1751364000-1751367600@wcpl.org
SUMMARY:Northern Wayne Stitchers
DESCRIPTION:The program is designed to create a relaxed\, welcoming environment where participants can focus on honing their craft while receiving the support they need to challenge themselves creatively. It’s an ideal opportunity for experienced stitchers to elevate their work\, troubleshoot projects\, and continue growing as artisans. Registration is required. Call 919-705-1892 to register \n 
URL:https://wcpl.org/event/northern-wayne-stitchers-23/
LOCATION:Northern Wayne Library\, 609 S. Wilson St.\, Fremont\, NC\, 27830\, United States
CATEGORIES:Adult,Northern Wayne Library
END:VEVENT
BEGIN:VEVENT
DTSTART;TZID=America/New_York:20250701T170000
DTEND;TZID=America/New_York:20250701T180000
DTSTAMP:20260423T062614
CREATED:20250606T144511Z
LAST-MODIFIED:20250606T144511Z
UID:18547-1751389200-1751392800@wcpl.org
SUMMARY:Postcard Showcase 
DESCRIPTION:Go on vacation without ever leaving the Local History Room! Explore the numerous postcards in our Local History Collection and bring postcards and vacation memories of your own to share. Space is limited\, registration required. Call 919-735-1824 ext 1830. \n 
URL:https://wcpl.org/event/postcard-showcase/
LOCATION:Wayne County Public Library – Goldsboro\, 1001 E Ash Street\, Goldsboro\, NC\, 27530\, United States
CATEGORIES:Adult,Goldsboro,Local History
END:VEVENT
BEGIN:VEVENT
DTSTART;TZID=America/New_York:20250702T100000
DTEND;TZID=America/New_York:20250702T130000
DTSTAMP:20260423T062614
CREATED:20250603T201309Z
LAST-MODIFIED:20250603T201309Z
UID:18446-1751450400-1751461200@wcpl.org
SUMMARY:Open Makerspace Hours (Steele Mem.)
DESCRIPTION:Bring your own supplies and use our makerspace tools – Cricut\, sewing\, knitting\, crochet – on our big craft tables. \n 
URL:https://wcpl.org/event/open-makerspace-hours-steele-mem/
LOCATION:Steele Memorial Library\, 119 W Main St.\, Mt. Olive\, NC\, 28365\, United States
CATEGORIES:Adult,Steele Memorial
END:VEVENT
BEGIN:VEVENT
DTSTART;TZID=America/New_York:20250703T150000
DTEND;TZID=America/New_York:20250703T160000
DTSTAMP:20260423T062614
CREATED:20250603T195324Z
LAST-MODIFIED:20250603T195324Z
UID:18426-1751554800-1751558400@wcpl.org
SUMMARY:Cardio Drumming (Steele Mem.)
DESCRIPTION:Cardio drumming is an adult class that brings together drumsticks\, an exercise ball\, and stand to create one of the most fun workouts you’ll ever do.  Please call 919-299-8105 ext. 5351 to register. \n 
URL:https://wcpl.org/event/cardio-drumming-steele-mem/
LOCATION:Steele Memorial Library\, 119 W Main St.\, Mt. Olive\, NC\, 28365\, United States
CATEGORIES:Adult,Steele Memorial
END:VEVENT
BEGIN:VEVENT
DTSTART;TZID=America/New_York:20250703T170000
DTEND;TZID=America/New_York:20250703T180000
DTSTAMP:20260423T062614
CREATED:20250606T144655Z
LAST-MODIFIED:20250606T144655Z
UID:18549-1751562000-1751565600@wcpl.org
SUMMARY:Our Favorite Reads Book Club 
DESCRIPTION:Join the conversation for a meeting of the Our Favorite Reads book club. Share what you are reading and get recommendations from other members. We will meet in the Baddour Garden outside the library. Registration is suggested. Call 919-735-1824 ext. 5100 for more information. \n 
URL:https://wcpl.org/event/our-favorite-reads-book-club/
LOCATION:Wayne County Public Library – Goldsboro\, 1001 E Ash Street\, Goldsboro\, NC\, 27530\, United States
CATEGORIES:Adult,Goldsboro,Library Book Club
END:VEVENT
BEGIN:VEVENT
DTSTART;TZID=America/New_York:20250705T110000
DTEND;TZID=America/New_York:20250705T120000
DTSTAMP:20260423T062614
CREATED:20250604T194644Z
LAST-MODIFIED:20250604T194644Z
UID:18528-1751713200-1751716800@wcpl.org
SUMMARY:Books & Banter Book Club (Northern Wayne)
DESCRIPTION:Books & Banter – a space for Twentysomethings to explore literature\, express opinions\, and find a supportive network in an open and inclusive environment. Our discussions extend beyond just the plot\, we explore themes that resonate with life experiences\, such as career struggles\, relationships\, self-discovery\, and personal growth. Registration is required. Please call 919-705-1892 to register. \nThis month\, we’ll be discussing Never Lie by Freida McFadden. \n 
URL:https://wcpl.org/event/books-banter-book-club-northern-wayne-6/
LOCATION:Northern Wayne Library\, 609 S. Wilson St.\, Fremont\, NC\, 27830\, United States
CATEGORIES:Adult,Library Book Club,Northern Wayne Library
END:VEVENT
BEGIN:VEVENT
DTSTART;TZID=America/New_York:20250707T100000
DTEND;TZID=America/New_York:20250707T110000
DTSTAMP:20260423T062614
CREATED:20250603T195958Z
LAST-MODIFIED:20250603T195958Z
UID:18434-1751882400-1751886000@wcpl.org
SUMMARY:Morning Meditations (Steele Mem.)
DESCRIPTION:We will be stretching for 20-30 minutes for flexibility and then doing some Zen tangles for relaxation.  Please call 919-299-8105 ext. 5351 to register. \n 
URL:https://wcpl.org/event/morning-meditations-steele-mem-7/
LOCATION:Steele Memorial Library\, 119 W Main St.\, Mt. Olive\, NC\, 28365\, United States
CATEGORIES:Adult,Steele Memorial
END:VEVENT
BEGIN:VEVENT
DTSTART;TZID=America/New_York:20250707T100000
DTEND;TZID=America/New_York:20250707T110000
DTSTAMP:20260423T062614
CREATED:20250604T194849Z
LAST-MODIFIED:20250604T194849Z
UID:18530-1751882400-1751886000@wcpl.org
SUMMARY:Northern Wayne Inspirational Book Club
DESCRIPTION:Each month we will dive into stories of perseverance\, growth\, and transformation. Creating a space where readers come together to explore uplifting books\, and leave feeling motivated and inspired. This month we will be discussing The Librarian of Boone’s Hollow by Kim Vogel Sawyer.  Registration is required. Call 919-705-1892 to register. \n 
URL:https://wcpl.org/event/northern-wayne-inspirational-book-club-13/
LOCATION:Northern Wayne Library\, 609 S. Wilson St.\, Fremont\, NC\, 27830\, United States
CATEGORIES:Adult,Library Book Club,Northern Wayne Library
END:VEVENT
BEGIN:VEVENT
DTSTART;TZID=America/New_York:20250709T100000
DTEND;TZID=America/New_York:20250709T130000
DTSTAMP:20260423T062614
CREATED:20250603T201437Z
LAST-MODIFIED:20250603T201437Z
UID:18448-1752055200-1752066000@wcpl.org
SUMMARY:Open Makerspace Hours (Steele Mem.)
DESCRIPTION:Bring your own supplies and use our makerspace tools – Cricut\, sewing\, knitting\, crochet – on our big craft tables. \n 
URL:https://wcpl.org/event/open-makerspace-hours-steele-mem-2/
LOCATION:Steele Memorial Library\, 119 W Main St.\, Mt. Olive\, NC\, 28365\, United States
CATEGORIES:Adult,Steele Memorial
END:VEVENT
BEGIN:VEVENT
DTSTART;TZID=America/New_York:20250709T150000
DTEND;TZID=America/New_York:20250709T160000
DTSTAMP:20260423T062614
CREATED:20250603T200705Z
LAST-MODIFIED:20250603T200705Z
UID:18440-1752073200-1752076800@wcpl.org
SUMMARY:Writing Prompts Extravaganza (Steele Mem.)
DESCRIPTION:We will be doing some fun creative writing in this program!  Please call 919-299-8105 ext. 5351 to register. \n 
URL:https://wcpl.org/event/writing-prompts-extravaganza-steele-mem/
LOCATION:Steele Memorial Library\, 119 W Main St.\, Mt. Olive\, NC\, 28365\, United States
CATEGORIES:Adult,Steele Memorial
END:VEVENT
BEGIN:VEVENT
DTSTART;TZID=America/New_York:20250709T150000
DTEND;TZID=America/New_York:20250709T160000
DTSTAMP:20260423T062614
CREATED:20250606T144939Z
LAST-MODIFIED:20250606T144939Z
UID:18551-1752073200-1752076800@wcpl.org
SUMMARY:Cardio Drumming (Goldsboro)
DESCRIPTION:Join us for Cardio Drumming! Get into a groovy rhythm and get your heart pumping! Call 919-735-1824 Ext. 5100 to register. \n 
URL:https://wcpl.org/event/cardio-drumming-goldsboro-9/
LOCATION:Wayne County Public Library – Goldsboro\, 1001 E Ash Street\, Goldsboro\, NC\, 27530\, United States
CATEGORIES:Adult,Goldsboro
END:VEVENT
BEGIN:VEVENT
DTSTART;TZID=America/New_York:20250709T180000
DTEND;TZID=America/New_York:20250709T190000
DTSTAMP:20260423T062614
CREATED:20250606T145545Z
LAST-MODIFIED:20250606T145545Z
UID:18555-1752084000-1752087600@wcpl.org
SUMMARY:Wellness Wednesday: UV/Sun Protection Awareness 
DESCRIPTION:Join us for our monthly Wellness Wednesday series!  This month\, Sylvia Judd from UNC Wayne Health will join us to discuss tips and resources focusing on UV/sun protection as we enjoy summer. Registration is recommended\, call 919-735-1824 x5100 to register or for more information.  We’ll meet in the Yellow Study Room at the Goldsboro Library. \n 
URL:https://wcpl.org/event/wellness-wednesday-uv-sun-protection-awareness/
LOCATION:Wayne County Public Library – Goldsboro\, 1001 E Ash Street\, Goldsboro\, NC\, 27530\, United States
CATEGORIES:Adult,Goldsboro
END:VEVENT
BEGIN:VEVENT
DTSTART;TZID=America/New_York:20250710T150000
DTEND;TZID=America/New_York:20250710T160000
DTSTAMP:20260423T062614
CREATED:20250603T200422Z
LAST-MODIFIED:20250603T200422Z
UID:18438-1752159600-1752163200@wcpl.org
SUMMARY:The Summertime Book Club (Steele Mem.)
DESCRIPTION:We will be discussing The Last Mona Lisa by Jonathan Santlofer.  Please call 919-299-8105 ext. 5351 to register. \n 
URL:https://wcpl.org/event/the-summertime-book-club-steele-mem-2/
LOCATION:Steele Memorial Library\, 119 W Main St.\, Mt. Olive\, NC\, 28365\, United States
CATEGORIES:Adult,Library Book Club,Steele Memorial
END:VEVENT
END:VCALENDAR